BEGIN:VCALENDAR
VERSION:2.0
PRODID:-//Tabiano terme - ECPv6.15.11//NONSGML v1.0//EN
CALSCALE:GREGORIAN
METHOD:PUBLISH
X-ORIGINAL-URL:https://tabianoterme.it
X-WR-CALDESC:Eventi per Tabiano terme
REFRESH-INTERVAL;VALUE=DURATION:PT1H
X-Robots-Tag:noindex
X-PUBLISHED-TTL:PT1H
BEGIN:VTIMEZONE
TZID:Europe/Rome
BEGIN:DAYLIGHT
TZOFFSETFROM:+0100
TZOFFSETTO:+0200
TZNAME:CEST
DTSTART:20240331T010000
END:DAYLIGHT
BEGIN:STANDARD
TZOFFSETFROM:+0200
TZOFFSETTO:+0100
TZNAME:CET
DTSTART:20241027T010000
END:STANDARD
BEGIN:DAYLIGHT
TZOFFSETFROM:+0100
TZOFFSETTO:+0200
TZNAME:CEST
DTSTART:20250330T010000
END:DAYLIGHT
BEGIN:STANDARD
TZOFFSETFROM:+0200
TZOFFSETTO:+0100
TZNAME:CET
DTSTART:20251026T010000
END:STANDARD
BEGIN:DAYLIGHT
TZOFFSETFROM:+0100
TZOFFSETTO:+0200
TZNAME:CEST
DTSTART:20260329T010000
END:DAYLIGHT
BEGIN:STANDARD
TZOFFSETFROM:+0200
TZOFFSETTO:+0100
TZNAME:CET
DTSTART:20261025T010000
END:STANDARD
END:VTIMEZONE
BEGIN:VEVENT
DTSTART;TZID=Europe/Rome:20251101T100000
DTEND;TZID=Europe/Rome:20251101T180000
DTSTAMP:20260424T130631
CREATED:20251031T081358Z
LAST-MODIFIED:20251031T081358Z
UID:13793-1761991200-1762020000@tabianoterme.it
SUMMARY:Halloween al Castello di Tabiano
DESCRIPTION:Il primo novembre al Castello di Tabiano attività a tema Halloween per ragazzi e famiglie. \nHalloween al castello\nCaccia al tesoro e merenda\nUn’attività per i ragazzi che guidati da mostruosi cavalli vivono un momento giocoso a tema Halloween. Al termine è possibile far merenda e conoscere da vicino i cavalli del castello.\nL’attività si svolge su due turni: dalle 10 alle 12.30 e dalle 15.30 alle 18. \nVisita con aperitivo\nPer gli accompagnatori è possibile seguire una visita guidata al Castello di Tabiano da concludere con un aperitivo esclusivo. \nInfo e prenotazioni \nweb: www.castelloditabiano.com\nemail: info@castelloditabiano.com\nTel. +39 348 8955378
URL:https://tabianoterme.it/event/halloween-al-castello-di-tabiano-2/
LOCATION:Castello di Tabiano\, Via Castello\, Salsomaggiore Terme\, 43039
CATEGORIES:Arte e Cultura,Bambini e famiglie,Camminata,Enogastronomia,Visita guidata
ATTACH;FMTTYPE=image/jpeg:https://tabianoterme.it/wp-content/uploads/2025/10/Halloween-al-Castello-di-Tabiano.jpg
ORGANIZER;CN="Castello di Tabiano":MAILTO:info@castelloditabiano.com
END:VEVENT
BEGIN:VEVENT
DTSTART;TZID=Europe/Rome:20251107T100000
DTEND;TZID=Europe/Rome:20251109T190000
DTSTAMP:20260424T130631
CREATED:20251031T103430Z
LAST-MODIFIED:20251031T103528Z
UID:13809-1762509600-1762714800@tabianoterme.it
SUMMARY:November Porc a Sissa – I sapori del Maiale
DESCRIPTION:Il giorno 7 novembre inizierà l’edizione numero 23 di November Porc\, la staffetta più golosa d’Italia dedicata al maiale\, ai suoi prodotti e non solo. \nLa ricca proposta di sapori e profumi dona colore e allegria ai fine settimana di novembre: si inizia a Sissa (7-9 novembre)\, si prosegue a Polesine Parmense (14-16 novembre)\, per spostarsi a Zibello (21-23 novembre) e concludersi a Roccabianca (28-30 novembre). \nNOVEMBER PORC è una importante occasione di valorizzazione e promozione del territorio della Bassa Parmense\, un territorio in cui vi è una concentrazione di eccellenze alimentari\, tra cui: Culatello di Zibello DOP\, Spalla Cotta di San Secondo e Spalla cruda di Palasone\, a cui si affiancano il Parmigiano Reggiano DOP e il Fortana del Taro IGT. \nLa scorsa edizione ha superato le 250.000 mila presenze e ha registrato una significativa attenzione anche da parte di visitatori stranieri (Svizzera\, Inghilterra\, USA\, Germania\, Francia\, Spagna\, Romania\, Olanda\, Belgio\, Austria e Giappone). \n– Sissa – I sapori del Maiale da venerdì 7 a domenica 9 novembre 2025 \nAnche quest’anno sarà Sissa ad aprire il November Porc. \nVenerdì 7 novembre\ndalle 19:00 – apertura tensostruttura presso Parco della Montagnola e Piazza Roma servizio cucina con prodotti tipici.\nOre 21:00 – Musica Rest in Punk + DJ \nSabato 8 novembre\ndalle 9:00 – apertura delle Mostra Mercato\ndalle 12:00 – apertura delle tensostrutture per ristorazione gestite delle associazioni locali presso: Piazza Roma\, Parco delle Rimembranze e Parco della Montagnola.\nore 15:00 – Inaugurazione ufficiale della 23a edizione di “November Porc 2025”\, con la partecipazione di una vivace band itinerante e delle “Golden Majorettes”.\ndalle 19:30 – apertura delle tensostrutture per ristorazione gestite dalle associazioni locali dei volontari\nOre 20:30 – intrattenimento con Radio Bruno a seguire esibizione musica con FILODEGO+DJ nel Parco della Montagnola \nDomenica 9 novembre\ndalle 9:00 – apertura delle Mostra Mercato\, situata nel centro del paese\, dove si terrà la dimostrazione pratica della lavorazione delle carni del suino e del confezionamento dei salumi che hanno reso celebre la Bassa Parmense\nalle 10:30 – “Mani in Pasta” con i Bambini del Territorio\ndalle 12:00 – apertura delle tensostrutture per ristorazione\nalle ore 15:30 – avrà luogo la solenne estrazione dal pentolone del gigantesco Mariolone che\, dopo lenta e prolungata cottura\, sarà distribuito a tutti i presenti gratuitamente.
URL:https://tabianoterme.it/event/november-porc-a-sissa-i-sapori-del-maiale/
LOCATION:Comune di Sissa Trecasali\, Viale della Rocca 6\, Sissa Trecasali\, Italia\, 43018\, Italy
CATEGORIES:Bambini e famiglie,Enogastronomia,Fiera,Food,Intrattenimento,Mercatino,Outdoor
ATTACH;FMTTYPE=image/png:https://tabianoterme.it/wp-content/uploads/2025/10/logo.png
ORGANIZER;CN="Strada del Culatello":MAILTO:info@stradadelculatello.it
END:VEVENT
BEGIN:VEVENT
DTSTART;TZID=Europe/Rome:20251114T193000
DTEND;TZID=Europe/Rome:20251116T170000
DTSTAMP:20260424T130631
CREATED:20251031T104755Z
LAST-MODIFIED:20251031T104755Z
UID:13818-1763148600-1763312400@tabianoterme.it
SUMMARY:November Porc 2025 a Polesine – Ti cuociamo "Preti e Vescovi"
DESCRIPTION:Il secondo appuntamento della manifestazione\, vedrà protagonista Polesine Parmense in una area particolarmente suggestiva\, la riva del fiume Po. \nVenerdì 14 novembre\ndalle 19:30 – serata d’inaugurazione del PalaPorc nel quale si potrà cenare assaggiando gustose proposte gastronomiche e divertirsi sulle note di coinvolgenti DJ. \nSabato 15 novembre\ndalle 9:00 – apertura ufficiale del mercato dei prodotti alimentari tipici per scoprire tutti i profumi e i sapori del territorio e apertura del mercato dell’artigianato nel centro del paese dove si potranno trovare prodotti dell’ingegno\ndalle 12:00 – Apre il PalaPorc dove si potrà pranzare presso l’area feste presso il fiume Po assaggiando i piatti della tradizione\nore 15:00 – apertura ufficiale della Tappa sul Grande Fiume (da definre)\nore 16:00 – “solenne momento” dell’immersione del “pretone” nella gigantesca pentolona di cottura alimentata dal fuoco a legna: lì rimarrà a bollire tutta la notte cullato dal rumore del Grande Fiume.\ndalle 19:30 – possibilità di cenare nel PalaPorc riscaldato con piatti tipici\, insieme agli squisiti panini del McPorc e birra e con la compagnia di Radio Bruno\nAlle ore 22:30 inizio – “festa giovani” al PalaPorc dove si ballerà fino a tarda notte con la partecipazione di Radio Bruno. \nDomenica 16 novembre\nDalle 9:00 – riapriranno il mercato alimentare\, e mercato dell’ingegno\nDalle 12:00 – apertura del PalaPorc dove si potranno assaggiare i piatti tradizionali del territorio.\nAlle 15:30 si toglierà il gigantesco “pretone” dalla pentola. I corpulenti uomini del Po\, eredi dei vecchi Barbùter (Barcaioli)\, seguendo un preciso rituale solleveranno il pesante salume e una volta accertata la buona riuscita della cottura sarà distribuito gratuitamente a tutti i presenti.
URL:https://tabianoterme.it/event/november-porc-2025-a-polesine-ti-cuociamo-preti-e-vescovi/
LOCATION:Polesine Parmense\, Via Sbrisi 16\, Polesine Zibello
CATEGORIES:Bambini e famiglie,Enogastronomia
ATTACH;FMTTYPE=image/png:https://tabianoterme.it/wp-content/uploads/2025/10/logo-1.png
ORGANIZER;CN="Strada del Culatello":MAILTO:info@stradadelculatello.it
END:VEVENT
BEGIN:VEVENT
DTSTART;TZID=Europe/Rome:20251121T193000
DTEND;TZID=Europe/Rome:20251122T170000
DTSTAMP:20260424T130631
CREATED:20251031T105521Z
LAST-MODIFIED:20251031T105521Z
UID:13823-1763753400-1763830800@tabianoterme.it
SUMMARY:November Porc a Zibello – Piaceri e delizie "alla Corte di Re Culatello"
DESCRIPTION:La terza tappa avrà come suggestivo scenario il paese di Zibello\, capitale del Culatello. \nVenerdì 21 novembre\nDalle 19:30 – apertura del PalaPorc dove si potrà cenare sotto la tensostruttura riscaldata con sfiziose proposte gastronomiche e ballare fino a tarda notte con la “serata disco”. Divertimento assicurato! \nSabato 22 novembre\nDalle 9:00 – in Piazza Garibaldi e in Contrada Palavicino apre il mercato dei prodotti tipici nobilitato dalla presenza delle migliori eccellenze agroalimentari d’Italia; in piazza Cavour e in Via Caduti per la patria apertura del mercato dell’ingegno. \nSarà anche possibile visitare gratuitamente il “Museo della Civiltà Contadina” e il “Museo del Cinema”. \nOre 11:00 presso il teatro Pallavicino in Piazza Garibaldi sarà organizzata la Masterclass “Cruda o cotta? Incontriamo la mariola“\, una chiacchierata con degustazione di salumi del territorio e non\, rivolta ad un numero massimo di 40 persone curiose di conoscere\, il tutto accompagnato dal nostro Fortana del Taro IGT e da altri vini dell’Emilia Romagna. Prenotazione obbligatoria \nDalle 12:00 – possibilità di pranzare al PalaPorc in piazza Garibaldi\, al centrale del paese\nAlle 15:00 – INAUGURAZIONE UFFICIALE DELLA 3a tappa DI “NOVEMBER POR 2025”\ndalle 20:00 – inizieranno i festeggiamenti per i giovani e i “meno giovani”: nel grande stand gastronomico si potrà cenare con piatti tipici della zona\, insieme agli squisiti panini del McPorc e con la compagnia di Radio Bruno.\nAlle ore 22:30 – concerto al Palaporc dove si ballerà fino a tarda notta!\nDomenica 23 novembre\nDalle 9:00 – Presso il chiostro dei Domenicani apre il “mercato contadino”. Saranno i contadini del territorio a vendere direttamente i loro prodotti. \nNella pagoda del Consorzio del Culatello\, posta al centro del chiostro\, in orari prestabiliti\, si susseguiranno le legature dei culatelli.\nSarà anche possibile visitare gratuitamente il “Museo della Civiltà Contadina” e il “Museo del Cinema”. \nDalle 12:00 – possibilità di pranzare sotto il Palaporc con prodotti tipici\nAlle 12:30 circa – si darà inizio alla realizzazione del salame “strolghino” da record: norcini anziani e giovani prepareranno il “mostro di lunghezza”\, già vincitore del Guinness dei Primati nel 2003. Una volta terminato\, il magnifico “serpentone” sarà distribuito fritto gratuitamente.\nDalle ore 16:00 alle 17:00 – A Pieve Ottoville\, presso la chiesa parrocchiale San Giovanni Battista\, il maestro Luca Polastri terrà un concerto suonando lo storico organo a canne Sarassi risalente al 1700 e recentemente restaurato. (Ingresso libero)
URL:https://tabianoterme.it/event/november-porc-a-zibello-piaceri-e-delizie-alla-corte-di-re-culatello-2/
LOCATION:Zibello\, via Matteotti\, 58\, Zibello\, 43010
CATEGORIES:Arte e Cultura,Bambini e famiglie,Concerto,Cultura,Enogastronomia,Festa,Food,Incontro,Intrattenimento,Mercatino,Musica,Outdoor,Spettacolo
ATTACH;FMTTYPE=image/png:https://tabianoterme.it/wp-content/uploads/2025/10/logo-1.png
ORGANIZER;CN="Strada del Culatello":MAILTO:info@stradadelculatello.it
END:VEVENT
BEGIN:VEVENT
DTSTART;VALUE=DATE:20251128
DTEND;VALUE=DATE:20251130
DTSTAMP:20260424T130631
CREATED:20251127T082804Z
LAST-MODIFIED:20251127T082804Z
UID:13939-1764288000-1764460799@tabianoterme.it
SUMMARY:“Calici in Castello” al Castello di Contignaco
DESCRIPTION:Sabato 29 e domenica 30 novembre 2025 \n“Calici in Castello”: Aperitivi e Degustazioni Tra Storia e Sapori \nNelle sale interne del Castello davanti al Camino Sulla terrazza panoramica del Castello in caso di bel tempo – nel pomeriggio e sul far della Sera – prima e dopo i Calici: visite guidate del Castello con Escape Castle e Cacce al Tesoro per i bambini. \nIl Castello di Contignaco torna a proporre dei momenti speciali di degustazione dei vini delle sue cantine.\nI calici di Contignaco potranno essere assaporati sia nelle ampie sale interne del Castello\, circondati dal fascino delle sue pietre millenarie\, sia sulla terrazza panoramica del maniero\, davanti al tramonto\, con una vista suggestiva sulle prime propaggini dell’Appennino Parmense. \nGli ospiti potranno degustare un’ampia scelta dei vini prodotti dalle cantine di Contignaco: il Bianco Ignatius\, il Bianco Contignaci Turris\, il Bianco Zelinda\, il Rosso del Sasso\, il Rosso del Rio dei Predoni\, il Rosso Rubeum Durantis.\nTutti i vini del Castello\, frutto di una lunga e curata macerazione delle bucce nel mosto e non filtrati\, sono prodotti con metodi antichi di vinificazione che esaltano il sapore della tradizione locale.\nInoltre\, dal mese di giungo 2021 i vini del Castello di Contignaco sono stati accolti nella F.I.V.I. (Federazione Italiana dei Vignaioli Indipendenti)\, una grande famiglia di viticoltori che promuove la qualità e l’autenticità dei vini italiani. \nLe cene\nSarà anche possibile cenare presso il Castello\, accompagnando la degustazione con vari assaggi di salumi locali e con il Parmigiano Reggiano prodotto dall’Azienda Agricola Contignaco\, ottenuto con vacche di razza Bruna Alpina\, il cui latte\, ricco di proteine\, si contraddistingue per la qualità superiore rispetto a quello delle Frisone. \nCosti\nPer informazioni sui costi e per prenotazioni: www.castellodicontignaco.it/eventi\nPrenotazione obbligatoria.\nPrenotazione online: www.castellodicontignaco.it/eventi (nel caso di non utilizzo\, il biglietto potrà essere speso per un altro aperitivo o un’altra degustazione entro 60 giorni dalla data dell’evento prenotato).\nPrenotazione via mail o telefonica con pagamento presso la biglietteria del Castello: solo il giorno stesso dell’evento.\nPer informazioni: info@castellodicontignaco.it – 320.6126425. \nPrima e dopo i Calici…\nPossibilità di effettuare una visita guidata del Castello: ore 15:30\, 17:30\, 21:00 (per maggiori informazioni: www.castellodicontignaco.it/eventi). \nPossibilità di effettuare una Escape Castle\, sia in fascia diurna\, sia la sera a lume di candela: ore 15:30\, 17:30\, 21:00\, “La Magia e gli Enigmi della Notte”\, speciale visita guidata serale del Castello tra la luce delle candele e un misterioso gioco a enigmi (per maggiori informazioni: www.castellodicontignaco.it/eventi). \nPer le famiglie con bambini: ore 15:00\, “Caccia al Tesoro in Castello: Favole antiche e Mostri danteschi” (per maggiori informazioni: www.castellodicontignaco.it/eventi) \n  \nFonte testo: https://www.castellidelducato.it
URL:https://tabianoterme.it/event/calici-in-castello-al-castello-di-contignaco-2/
LOCATION:Castello di Contignaco\, Via Contignaco Castello\, 125\, Salsomaggiore Terme\, 43039\, Italia
CATEGORIES:Enogastronomia,Food,Intrattenimento
ATTACH;FMTTYPE=image/webp:https://tabianoterme.it/wp-content/uploads/2025/11/calici_in_castello_al_castello_contignaco_2025.webp
ORGANIZER;CN="Castello di Contignaco":MAILTO:castello.contignaco@gmail.com
END:VEVENT
BEGIN:VEVENT
DTSTART;TZID=Europe/Rome:20251128T193000
DTEND;TZID=Europe/Rome:20251130T170000
DTSTAMP:20260424T130631
CREATED:20251031T110207Z
LAST-MODIFIED:20251031T110207Z
UID:13825-1764358200-1764522000@tabianoterme.it
SUMMARY:November Porc a Roccabianca – Armonie di Spezie e Infusi
DESCRIPTION:Ultima tappa\, una ulteriore occasione per scoprire tutti i sapori e i profumi della Bassa parmense. \nVenerdì 28 novembre\ndalle 19:30 – si apre l’ultima tappa del venerdì “giovani”: il PalaPorc ospiterà una spumeggiante serata che vedrà protagonisti gastronomia e DJ SET. \nSabato 29 novembre\ndalle 9:00 – nel centro del paese apertura della mostra mercato “Armonie di Spezie e Infusi” e all’interno delle mura del Castello di Roccabianca apertura del mercato dell’ingegno “Aria di Natale”\ndalle 12:00 – al PalaPorc sarà possibile assaporare i gustosi piatti della tradizione \nalle 14:30 – Partenza della gara podistica “Hot Feet” Marathon sugli argini del Grande Fiume\, a cura di Uisp Parma\nalle 15:00 – INAUGURAZIONE DELL’ULTIMA TAPPA DELLA STAFFETTA PIÙ GOLOSA D’ITALIA e in piazza Garibaldi sarà possibile assaggiare i ciccioli preparati dagli abili norcini del paese accompagnati da polenta fritta\, il tutto gratuitamente.\ndalle 19:30 – La serata sarà ancora una vota all’insegna del divertimento: nell’accogliente stand gastronomico si potrà cenare gustando le ricette tipiche della tradizione insieme ai saporiti panini del McPorc. E poi musica\, esibizioni live e diretta radio per finire in bellezza una grande serata! \nDomenica 30 novembre\nalle 9:00 – apertura dei mercati\nOre 11:00 – presso il foyer del Teatro Arena del Sole sarà possibile seguire la Masterclass “Cruda o cotta? Facciamo conoscenza della Nobile Spalla”\, una chiaccherata con degustazione di salumi del territorio rivolta ad un numero massimo di 40 persone curiose di conoscere\, il tutto accompagnato dal nostro Fortana del Taro IGT e da altri vini dell’Emilia Romagna\, “da definire”. Prenotazione obbligatoria \nOre 12:00 – il PalaPorc sarà di nuovo pronto per assicurare un gustoso pranzo con delizie per tutti i palati\nOre 15:00 – in Piazza Garibaldi\, trainata da un trattore storico e da un carro addobbato\, farà il suo ingresso trionfale la MAXI CICCIOLATA che verrà affettata e accompagnata da una invitante fetta di polenta calda sarà offerta a tutti i presenti! \n 
URL:https://tabianoterme.it/event/november-porc-a-roccabianca-armonie-di-spezie-e-infusi/
LOCATION:Castello di Roccabianca\, Piazza Garibaldi\, 5\, Roccabianca\, 43010\, Italia
CATEGORIES:Bambini e famiglie,Camminata,Enogastronomia,Festa,Fiera,Food,Incontro,Mercatino,Musica,Outdoor,Spettacolo,Sport
ATTACH;FMTTYPE=image/png:https://tabianoterme.it/wp-content/uploads/2025/10/logo-1.png
ORGANIZER;CN="Strada del Culatello":MAILTO:info@stradadelculatello.it
END:VEVENT
END:VCALENDAR