BEGIN:VCALENDAR
VERSION:2.0
PRODID:-//Tabiano terme - ECPv6.15.11//NONSGML v1.0//EN
CALSCALE:GREGORIAN
METHOD:PUBLISH
X-ORIGINAL-URL:https://tabianoterme.it
X-WR-CALDESC:Eventi per Tabiano terme
REFRESH-INTERVAL;VALUE=DURATION:PT1H
X-Robots-Tag:noindex
X-PUBLISHED-TTL:PT1H
BEGIN:VTIMEZONE
TZID:Europe/Rome
BEGIN:DAYLIGHT
TZOFFSETFROM:+0100
TZOFFSETTO:+0200
TZNAME:CEST
DTSTART:20250330T010000
END:DAYLIGHT
BEGIN:STANDARD
TZOFFSETFROM:+0200
TZOFFSETTO:+0100
TZNAME:CET
DTSTART:20251026T010000
END:STANDARD
BEGIN:DAYLIGHT
TZOFFSETFROM:+0100
TZOFFSETTO:+0200
TZNAME:CEST
DTSTART:20260329T010000
END:DAYLIGHT
BEGIN:STANDARD
TZOFFSETFROM:+0200
TZOFFSETTO:+0100
TZNAME:CET
DTSTART:20261025T010000
END:STANDARD
BEGIN:DAYLIGHT
TZOFFSETFROM:+0100
TZOFFSETTO:+0200
TZNAME:CEST
DTSTART:20270328T010000
END:DAYLIGHT
BEGIN:STANDARD
TZOFFSETFROM:+0200
TZOFFSETTO:+0100
TZNAME:CET
DTSTART:20271031T010000
END:STANDARD
END:VTIMEZONE
BEGIN:VEVENT
DTSTART;TZID=Europe/Rome:20260412T203000
DTEND;TZID=Europe/Rome:20260412T220000
DTSTAMP:20260421T203933
CREATED:20260407T101533Z
LAST-MODIFIED:20260407T101533Z
UID:14544-1776025800-1776031200@tabianoterme.it
SUMMARY:Sulla via dei pellegrini: alla scoperta della “Terra Monachorum” – Presentazione dell’iniziativa
DESCRIPTION:Sulla via dei pellegrini: alla scoperta della “Terra Monachorum”- Presentazione dell’iniziativa \nAbbazia di Santa Maria Assunta\, Località Castione dei Marchesi\, Fidenza (PR)\n12 aprile 2026 ore 20:45 \nRiscopriremo come nel Medioevo i complessi monastici hanno creato una rete di assistenza che ha reso possibile la pratica del Pellegrinaggio garantendo riparo e sostegno spirituale ai viandanti.\nL’area della pianura padana tra Fiorenzuola e Parma costituiva una importante “cerniera” tra le vie dei pellegrini che arrivavano da ovest e quelli da nord (attraversando il Po) e la via Francigena che portava poi all’attraversamento degli Appennini.\nIn questo panorama l’Abbazia di Castione Marchesi prima e quelli di Chiaravalle della Colomba e di Fontevivo nel secolo successivo costituirono i più importanti centri di accoglienza monastici di quella che veniva chiamata la “Terra Monachorum”.\nRelatrice dott.ssa Cecilia Cavalca Storica dell’Arte \nIngresso libero \nPer informazioni e visualizzare i prossimi appuntamenti del ciclo premi qui\nhttps://www.abbaziacastionemarchesi.it/\ne-mail restauriamo.monasterocastione@gmail.com \n  \nFonte testo e foto: Abbazia Castione Marchesi APS
URL:https://tabianoterme.it/event/sulla-via-dei-pellegrini-alla-scoperta-della-terra-monachorum-presentazione-delliniziativa/
LOCATION:castione dei marchesi\, Fidenza
CATEGORIES:Arte e Cultura,Cultura,Outdoor
ATTACH;FMTTYPE=image/webp:https://tabianoterme.it/wp-content/uploads/2026/04/abbazia-castione-fidenza-incontro-aprile-2026.webp
END:VEVENT
BEGIN:VEVENT
DTSTART;VALUE=DATE:20260418
DTEND;VALUE=DATE:20260420
DTSTAMP:20260421T203933
CREATED:20260407T102950Z
LAST-MODIFIED:20260407T102950Z
UID:14561-1776470400-1776643199@tabianoterme.it
SUMMARY:“Ortocolto in Corte” al Castello di Roccabianca
DESCRIPTION:Sabato 18 aprile 2026 dalle 10 alle 19\nDomenica 19 aprile 2026 dalle 9 alle 19 \nEdizione primaverile per un appuntamento da non perdere\, immersi nelle atmosfere romantiche e storiche del Castello di Roccabianca che ospiterà artigianato di pregio\, prodotti tipici d’eccellenza\, visite guidate in costume e altre sorprese! \nUn evento unico\, dove arte e tradizione si incontrano tra le mura di uno dei castelli parmensi più suggestivi inserito nel circuito “Castelli del Ducato”. \nUn weekend per immergervi nella poesia della Bassa Parmense e scoprire il Castello di Roccabianca\, dono del Magnifico Pier Maria Rossi all’amata Bianca Pellegrini. \nOrario delle visite guidate in costume di sabato e domenica:\nore 10:00 -11:00 – 14:00 – 15:00 – 16:00 – 17:00 (ultima visita)* \n*Il tour guidato sarà leggermente ridotto per consentire l’attività degli espositori (durata circa 40 minuti). Disponibilità posti per turno limitata. Si consiglia la prenotazione. \nDomenica 19\, nel pomeriggio (16\,30 ca.) “In giusta sosta“\, rappresentazione in costume con i guitti di Ortocolto Aps alle prese con “rimedi santi\, trame d’amori\, visioni del futuro e altre strane faccende”. Da qualche parte nel castello. \nBiglietto d’ingresso: € 5\,00 (gratuito fino a 12 anni)\nBiglietto d’ingresso con visita guidata: Adulti € 10\,00 – Bambini dai 7 ai 12 anni: € 3\,00 \nEmail: castellodiroccabianca@outlook.it \nInfo e prenotazioni visite guidate: : 0521-374065 \nLa manifestazione si svolge in spazi interni\, al coperto (nel loggiato) e nel piazzale del Castello. Saremo perciò aperti anche in caso di maltempo. \n​​​ \nInformazioni per i visitatori: 347 1510 556\, mail info@ortocolto.it \n  \nFonte testo: https://www.ortocolto.it/
URL:https://tabianoterme.it/event/ortocolto-in-corte-al-castello-di-roccabianca/
CATEGORIES:Arte e Cultura,Bambini e famiglie,Cultura,Intrattenimento
ATTACH;FMTTYPE=image/jpeg:https://tabianoterme.it/wp-content/uploads/2026/04/Evento-facebook-3.jpg
ORGANIZER;CN="Castello di Roccabianca":MAILTO:stefania@faled.it
END:VEVENT
BEGIN:VEVENT
DTSTART;TZID=Europe/Rome:20260418T210000
DTEND;TZID=Europe/Rome:20260418T230000
DTSTAMP:20260421T203933
CREATED:20260407T122744Z
LAST-MODIFIED:20260407T122744Z
UID:14638-1776546000-1776553200@tabianoterme.it
SUMMARY:Danze del Nord
DESCRIPTION:Paesaggi sonori tra natura e tradizione\nOrchestra dell’Università di Parma \nMusiche di C. Gounod e E. Grieg\, \nPrima esecuzione del Concerto per sassofono e archi di Federico Zon \nLe danze e i colori del Nord Europa diventano materia sonora\, evocando paesaggi\, folklore e identità culturali in un dialogo tra tradizione e contemporaneità. \nIn collaborazione con l’Università degli Studi di Parma – Orchestra dell’Università di Parma
URL:https://tabianoterme.it/event/danze-del-nord/
LOCATION:Palazzo dei Congressi\, Viale Giandomenico Romagnosi\, 7\, Salsomaggiore Terme\, Parma\, 43039\, Italia
CATEGORIES:Concerto,Cultura,Musica
ATTACH;FMTTYPE=image/jpeg:https://tabianoterme.it/wp-content/uploads/2026/04/nozione-musica.jpg
END:VEVENT
BEGIN:VEVENT
DTSTART;TZID=Europe/Rome:20260419T160000
DTEND;TZID=Europe/Rome:20260419T180000
DTSTAMP:20260421T203933
CREATED:20260407T103416Z
LAST-MODIFIED:20260407T103416Z
UID:14569-1776614400-1776621600@tabianoterme.it
SUMMARY:Visita guidata e laboratorio di pittura con spezie alla Rocca dei Terzi
DESCRIPTION:Domenica 19 aprile 2026\, ore 16:00 – Rocca dei Terzi di Sissa-Trecasali \nL’osservazione degli affreschi della Rocca sarà occasione per ispirare le proprie opere che saranno realizzate in compagnia di un maestro d’arte che insegnerà ad utilizzare le spezie come pigmenti per opere ad acquerello. \nLa manifestazione si svolge anche in caso di maltempo. \nCosto della manifestazione: € 10.00 \nPer informazioni e prenotazioni: 347 4485947\, turismo@comune.sissatrecasali.pr.it \n  \nFonte testo: Castelli del Ducato
URL:https://tabianoterme.it/event/visita-guidata-e-laboratorio-di-pittura-con-spezie-alla-rocca-dei-terzi-2/
LOCATION:rocca dei terzi
CATEGORIES:Arte e Cultura,Cultura
ATTACH;FMTTYPE=image/webp:https://tabianoterme.it/wp-content/uploads/2026/04/Visite-e-pittura-con-spezie_Rocca-dei-Terzi_Sissa_Trecasali.webp
END:VEVENT
BEGIN:VEVENT
DTSTART;TZID=Europe/Rome:20260426T140000
DTEND;TZID=Europe/Rome:20260426T180000
DTSTAMP:20260421T203933
CREATED:20260407T103717Z
LAST-MODIFIED:20260407T103717Z
UID:14574-1777212000-1777226400@tabianoterme.it
SUMMARY:Sulla via dei pellegrini: alla scoperta della “Terra Monachorum”- “L’organizzazione monastica per l’accoglienza del pellegrino”
DESCRIPTION:Sulla via dei pellegrini: alla scoperta della “Terra Monachorum”- “L’organizzazione monastica per l’accoglienza del pellegrino”\n26 aprile 2026\nRitrovo ore 14:00 – Abbazia di Castione Marchesi\, Fidenza PR\, 43036 \nCamminata da Castione Marchesi a Chiaravalle della Colomba di circa 8 km con rientro incluso in pulmino. Difficoltà escursionistica facile con percorso pianeggiante su strade bianche\, sentieri di campagna e tratti asfaltati.\nA seguire ristoro e visita guidata presso l’ Abbazia di Chiaravalle della Colomba.\nRientro in pulmino.\nDurata: 3\,5 ore\nDescrizione: Escursione tra storia e natura lungo la “Terra Monachorum” organizzata da Abbazia Castione Marchesi APS. Con la presenza di Valerio Uni e Nicola Donetti ( Guide Ambientali Escursionistiche ai sensi della L. 4/2013) dall’Abbazia di Castione Marchesi all’Abbazia di Chiaravalle della Colomba. \nApprofondiremo il tema: “L’organizzazione monastica per l’accoglienza del pellegrino”.\nLa Regola di San Benedetto da Norcia stabilisce che ogni ospite debba essere accolto “come se fosse Cristo stesso”. Per questo motivo\, nel Medioevo\, ogni monastero si dotò di strutture e organizzazioni dedicate all’ospitalità dei viandanti. \nDurante il percorso parleremo di:\nForesteria (Hospitale) – Ala separata dalla clausura per garantire accoglienza e quiete alla comunità monastica\nPortineria – Primo punto di contatto\, presidiato dal monaco portinaio\nMensa dell’Abate – Luogo in cui l’abate consumava i pasti con gli ospiti\nXenodochio – Edifici destinati al ricovero di forestieri e poveri nei grandi complessi medievali\nDopo il ristoro presso l’Abbazia di Chiaravalle è prevista una breve visita al complesso monastico e ai suoi luoghi di accoglienza. \nModalità di partecipazione:\nIscrizione obbligatoria: entro venerdì 24 aprile 2026 al link\nCosto: 15 euro comprende escursione con guide GAE\, polizza responsabilità civile danni verso terzi\, ristoro\, ritorno in pulmino. guidata all’Abbazia di Chiaravalle della Colomba a offerta libera.\nExtra opzionale: polizza infortuni per persona al costo di 1\,50 euro\nPer informazioni e visualizzare i prossimi appuntamenti del ciclo premi qui \nhttps://www.abbaziacastionemarchesi.it/\ne-mail restauriamo.monasterocastione@gmail.com \n  \nFonte testo e foto: Abbazia Castione Marchesi APS
URL:https://tabianoterme.it/event/sulla-via-dei-pellegrini-alla-scoperta-della-terra-monachorum-lorganizzazione-monastica-per-laccoglienza-del-pellegrino/
CATEGORIES:Arte e Cultura,Bambini e famiglie,Cultura,Outdoor
ATTACH;FMTTYPE=image/webp:https://tabianoterme.it/wp-content/uploads/2026/04/castione-chiaravalle-camminata-26-aprile-2026.webp
END:VEVENT
BEGIN:VEVENT
DTSTART;TZID=Europe/Rome:20260520T210000
DTEND;TZID=Europe/Rome:20260520T223000
DTSTAMP:20260421T203933
CREATED:20260413T081517Z
LAST-MODIFIED:20260413T081716Z
UID:14679-1779310800-1779316200@tabianoterme.it
SUMMARY:Corrado Augias
DESCRIPTION:Un viaggio personale e collettivo attraverso il secolo breve\, raccontato dalla voce autorevole e appassionata di Corrado Augias. Con la lucidità del giornalista\, la sensibilità dell’uomo di cultura e la profondità del testimone diretto\, Augias ripercorre i grandi eventi\, le tragedie\, le conquiste e le contraddizioni del Novecento\, intrecciando la Storia con la sua storia. Tra memoria e riflessione\, “Il mio Novecento” è uno spettacolo che unisce teatro\, narrazione e impegno civile\, offrendo al pubblico uno sguardo illuminato sul secolo che ha forgiato il mondo contemporaneo.
URL:https://tabianoterme.it/event/corrado-augias/
LOCATION:Teatro Regio di Parma\, Strada Garibaldi\, 16/a\, Parma\, Italia\, 43121\, Italia
CATEGORIES:Cultura,Incontro,Storia,Teatro
ATTACH;FMTTYPE=image/jpeg:https://tabianoterme.it/wp-content/uploads/2026/04/Corrado-Augias-Il-mio-novenceto-1200x1500-1.jpg
END:VEVENT
END:VCALENDAR