BEGIN:VCALENDAR
VERSION:2.0
PRODID:-//Tabiano terme - ECPv6.15.11//NONSGML v1.0//EN
CALSCALE:GREGORIAN
METHOD:PUBLISH
X-WR-CALNAME:Tabiano terme
X-ORIGINAL-URL:https://tabianoterme.it
X-WR-CALDESC:Eventi per Tabiano terme
REFRESH-INTERVAL;VALUE=DURATION:PT1H
X-Robots-Tag:noindex
X-PUBLISHED-TTL:PT1H
BEGIN:VTIMEZONE
TZID:Europe/Rome
BEGIN:DAYLIGHT
TZOFFSETFROM:+0100
TZOFFSETTO:+0200
TZNAME:CEST
DTSTART:20240331T010000
END:DAYLIGHT
BEGIN:STANDARD
TZOFFSETFROM:+0200
TZOFFSETTO:+0100
TZNAME:CET
DTSTART:20241027T010000
END:STANDARD
BEGIN:DAYLIGHT
TZOFFSETFROM:+0100
TZOFFSETTO:+0200
TZNAME:CEST
DTSTART:20250330T010000
END:DAYLIGHT
BEGIN:STANDARD
TZOFFSETFROM:+0200
TZOFFSETTO:+0100
TZNAME:CET
DTSTART:20251026T010000
END:STANDARD
BEGIN:DAYLIGHT
TZOFFSETFROM:+0100
TZOFFSETTO:+0200
TZNAME:CEST
DTSTART:20260329T010000
END:DAYLIGHT
BEGIN:STANDARD
TZOFFSETFROM:+0200
TZOFFSETTO:+0100
TZNAME:CET
DTSTART:20261025T010000
END:STANDARD
BEGIN:DAYLIGHT
TZOFFSETFROM:+0100
TZOFFSETTO:+0200
TZNAME:CEST
DTSTART:20270328T010000
END:DAYLIGHT
BEGIN:STANDARD
TZOFFSETFROM:+0200
TZOFFSETTO:+0100
TZNAME:CET
DTSTART:20271031T010000
END:STANDARD
END:VTIMEZONE
BEGIN:VEVENT
DTSTART;TZID=Europe/Rome:20250910T100000
DTEND;TZID=Europe/Rome:20251220T120000
DTSTAMP:20260423T012111
CREATED:20250908T100422Z
LAST-MODIFIED:20250908T100556Z
UID:13696-1757498400-1766232000@tabianoterme.it
SUMMARY:Tabiano Terme : La nostra Storia è il nostro Futuro
DESCRIPTION:Mostra fotografica documentale presso lo Stabilimento Termale Respighi di Tabiano Terme \na cura di Associazione 365 Volte Donna e Circolo Fotografico Zoom \nArchivio fotografico: Davighi\, Lupini\, Moseriti\, Vascelli \nTesti: Daniela Tuberti \nIn collaborazione con TST – Terme di Salsomaggiore e Tabiano \n 
URL:https://tabianoterme.it/event/tabiano-terme-la-nostra-storia-e-il-nostro-futuro/
LOCATION:Istituto Termale Respighi\, Viale alle Terme\, Tabiano Terme
CATEGORIES:Arte e Cultura,Cultura,Mostra,Storia
ATTACH;FMTTYPE=image/jpeg:https://tabianoterme.it/wp-content/uploads/2025/09/Immagine-WhatsApp-2025-09-08-ore-11.59.06_24d7f6ed.jpg
END:VEVENT
BEGIN:VEVENT
DTSTART;TZID=Europe/Rome:20250913T100000
DTEND;TZID=Europe/Rome:20251214T180000
DTSTAMP:20260423T012111
CREATED:20250825T084003Z
LAST-MODIFIED:20250825T084003Z
UID:13546-1757757600-1765735200@tabianoterme.it
SUMMARY:Mostra “Moda e Pubblicità in Italia 1950-2000” alla Fondazione Magnani Rocca
DESCRIPTION:‘Non avrai altro stile all’infuori di me’. Potrebbe essere una frase simbolo di una supermodel anni 90\, quelle lanciate dal genio visionario di Gianni Versace. Un concetto che identifica i cinquant’anni che hanno cambiato la società italiana e si rifà allo scandaloso slogan ‘Non avrai altro jeans all’infuori di me’ che accompagnava la foto di Oliviero Toscani per Jesus jeans. \nProprio all’evoluzione della promozione pubblicitaria in Italia nel settore della moda e pubblicità nel corso della seconda metà del Novecento\, dal 13 settembre al 14 dicembre 2025\, è dedicata la nuova mostra della Fondazione Magnani-Rocca – la celebre Villa dei Capolavori a Mamiano di Traversetolo\, presso Parma – allestita nei saloni contigui a quelli che ospitano permanentemente opere capitali di Renoir\, Monet\, Cézanne\, Tiziano\, Dürer\, Van Dyck\, Goya\, Canova\, Morandi e molti altri. \nQuesta mostra offre una riflessione profonda su come la moda e pubblicità abbiano influenzato non solo il mercato\, ma anche la cultura italiana nel suo complesso. \nPiù di trecento opere – tra manifesti\, riviste\, spot\, fotografie\, cinema\, video\, gadget pubblicitari e persino le mitiche figurine Fiorucci – in un percorso inedito che attraversa mezzo secolo di trasformazioni dell’immaginario collettivo\, con uno sguardo filologico e insieme poetico sulla storia della moda e della sua comunicazione. Il cinema e la televisione ne diventano lo specchio\, con spot entrati nel mito collettivo. \nDal 1950 al 2000 lo stile italiano si lancia nel mondo. \nArmani\, Benetton\, Dolce & Gabbana\, Emilio Pucci\, Fendi\, Fiorucci\, Gianfranco Ferré\, Guarnera\, Gucci\, Marina Rinaldi\, Max Mara\, Moschino\, Salvatore Ferragamo\, Valentino\, Versace\, Coveri\, Zegna\, Walter Albini sono i protagonisti del Made in Italy di quegli anni. \nGli scatti dei grandi maestri della fotografia di moda – Giampaolo Barbieri\, Giovanni Gastel\, Alfa Castaldi\, Maria Vittoria Backhaus – e le illustrazioni di René Gruau\, Sepo\, Erberto Carboni\, Franco Grignani\, Guido Crepax\, Antonio Lopez\, Lora Lamm\, oltre al lavoro particolarissimo e destabilizzante di Oliviero Toscani\, restituiscono un’estetica che è insieme racconto pubblicitario e ritratto di un’epoca. \nLa moda si conferma una macchina potente di comunicazione e si definisce sempre più come linguaggio e performance del corpo. La mostra\, a cura di Dario Cimorelli\, Eugenia Paulicelli e Stefano Roffi\, racconta come la moda e la pubblicità\, insieme\, abbiano saputo attraversare i cambiamenti economici\, sociali e culturali del nostro paese a generarne i miti\, gli stereotipi\, la creatività\, i desideri.
URL:https://tabianoterme.it/event/mostra-moda-e-pubblicita-in-italia-1950-2000-alla-fondazione-magnani-rocca/
LOCATION:Fondazione Magnani-Rocca\, Via Fondazione Magnani-Rocca\, Mamiano di Traversetolo\, 43029
CATEGORIES:Arte e Cultura,Cultura,Mostra,Museo
ATTACH;FMTTYPE=image/webp:https://tabianoterme.it/wp-content/uploads/2025/08/Fondazione_Magnani_Rocca_Moda_Pubblicita_2025.webp
ORGANIZER;CN="Fondazione Magnani-Rocca":MAILTO:info@magnanirocca.it
END:VEVENT
BEGIN:VEVENT
DTSTART;TZID=Europe/Rome:20250914T103000
DTEND;TZID=Europe/Rome:20260106T163000
DTSTAMP:20260423T012111
CREATED:20250825T090744Z
LAST-MODIFIED:20250825T090744Z
UID:13561-1757845800-1767717000@tabianoterme.it
SUMMARY:Mostra “Knock Knock Knock” al Labirinto della Masone di Fontanellato
DESCRIPTION:Per l’autunno 2025\, il Labirinto della Masone apre le porte (in senso quanto mai letterale) a una mostra che saprà incuriosire e affascinare chi attraversa le soglie del nostro museo.\nSono i “picchiotti” da porta\, più comunemente conosciuti come battenti o batacchi\, i protagonisti di questo nuovo progetto espositivo: pezzi unici in ferro forgiati tra il XIV e il XVIII secolo\, provenienti dalla straordinaria collezione privata di Alessandro Cesati.\nVeri e propri “guardiani” delle dimore europee\, questi oggetti di splendida fattura incarnano un sapere antico in cui l’arte della scultura in ferro battuto raggiunge vette altissime di perizia tecnica\, potenza plastica e immaginazione simbolica. \nLa mostra si inserisce nel solco di una ricerca che da sempre contraddistingue i progetti culturali di Franco Maria Ricci\, il cui sguardo erudito\, appassionato e instancabilmente curioso non ha mai esitato a riconoscere bellezza e ingegno anche nei territori meno battuti dell’arte e dell’artigianato. \nI picchiotti ferrei ne sono un esempio eccellente: lungi dall’essere semplici manufatti d’uso\, i pezzi esposti rappresentano un patrimonio iconografico e antropologico di rara suggestione.\nRealizzati principalmente in Italia e in Spagna\, ma anche in Francia\, Austria e Germania\, questi battenti figurati presentano una varietà formale sorprendente: draghi\, serpenti\, leoni\, protomi umane\, elementi vegetali\, figure a tutto tondo o dettagli minimali incisi con grazia e forza espressiva. Sono creature che non fungono soltanto da ornamento o meccanismo\, ma “esprimono l’anima stessa della Casa”: un luogo da proteggere\, presidiato da un genius loci in forma di animale o figura antropomorfa\, spesso legato a simbologie antiche e precristiane. \nLa collezione Cesati si distingue per l’altissimo livello qualitativo dei suoi esemplari – selezionati con rigore e passione dagli anni Settanta a oggi e capaci di incarnare un linguaggio plastico autonomo e profondamente evocativo. Knock Knock Knock rappresenta la prima occasione pubblica in Italia per ammirare questo insieme straordinario\, custodito da una delle famiglie più autorevoli dell’antiquariato europeo. \nGrazie all’allestimento a cura di Maddalena Casalis e Elisa Rizzardi\, i sessantacinque pezzi saranno proposti nel loro momento “dinamico”\, con l’intento di svelarne le meraviglie minime (zanne\, piume\, muscoli\, sguardi…) e di restituire quella sottile emozione che nasceva dal gesto di bussare\, quando afferrando il battente se ne coglievano\, d’un tratto\, le finezze più sorprendenti. \nUna inedita “camera delle meraviglie”\, carica di significati: attraverso i testi di Stefano Salis\, che accompagnano la mostra\, si esplorano i concetti di “varco fisico” e “varco simbolico”\, temi quanto mai attuali che trovano nel Labirinto un contrappunto ideale – un luogo che è da sempre emblema di attraversamento tra interiorità e mondo esterno.\nUna suggestione amplificata dalle immagini di porte\, portoni e soglie scattate dal fotografo Massimo Listri\, che invitando al silenzio e alla contemplazione raccontano l’architettura come esperienza mentale ed emotiva. \nIn occasione della mostra sarà pubblicato un omonimo volume edito da Franco Maria Ricci Editore\, con testi di Stefano Salis e Carlo Donà. \nInformazioni\nLa mostra è aperta tutti i giorni\, inclusi i festivi\, tranne il martedì. L’accesso è incluso nel biglietto d’ingresso al Labirinto della Masone. \nOrario estivo (fino al 31 ottobre 2025): dalle 10:30 alle 19:00\, ultimo ingresso alle ore 17:30\nOrario invernale (dal 1° novembre al 30 marzo 2026): dalle 9:30 alle 18:00\, ultimo ingresso alle ore 16:30. \nApertura straordinaria martedì 6 gennaio 2026 \nContatti\nTelefono: 0521 827081 \nMail: labirinto@francomariaricci.com
URL:https://tabianoterme.it/event/mostra-knock-knock-knock-al-labirinto-della-masone-di-fontanellato/
LOCATION:Labirinto della Masone\, Strada Masone\, 121\, Fontanellato\, 43012
CATEGORIES:Arte e Cultura,Cultura,Mostra,Museo,Visita guidata
ATTACH;FMTTYPE=image/webp:https://tabianoterme.it/wp-content/uploads/2025/08/Knock-Knock-Knock_Labirinto-della-Masone.webp
ORGANIZER;CN="Labirinto della Masone":MAILTO:labirinto@francomariaricci.com
END:VEVENT
BEGIN:VEVENT
DTSTART;TZID=Europe/Rome:20250919T180000
DTEND;TZID=Europe/Rome:20250919T190000
DTSTAMP:20260423T012111
CREATED:20250627T095936Z
LAST-MODIFIED:20250627T095936Z
UID:13290-1758304800-1758308400@tabianoterme.it
SUMMARY:Salsomaggiore e l’Art Déco – Lo stile 1925 nella città termale
DESCRIPTION:Nel 2025 Salsomaggiore Terme celebra il centenario dell’Art Déco con un ciclo di eventi che intrecciano arte\,\nmusica\, teatro e testimonianze storiche\, in un’atmosfera di eleganza e memoria condivisa. La rassegna è curata scientificamente da Maurizia Bonatti Bacchini. \nVenerdì 27 giugno – Ore 18 – Corte Civica Tommasini“Galileo Chini. Armonia tra Medioevo\, Oriente e Déco”Relatrice: Silvia Ciappi \nVenerdì 5 settembre – Ore 18 – Corte Civica Tommasini“1922–1925: I Monumenti ai Caduti di Alberto Bazzoni”Con: Maurizia Bonatti Bacchini e Claudia Massi \nVenerdì 19 settembre – Ore 18 – Corte Civica Tommasini“Déco sontuoso e classicismo: D’Annunzio e Renato Brozzi”Relatrice: Anna Mavilla \nVenerdì 3 ottobre – Ore 18 – Corte Civica Tommasini“Gli esordi di Mario Bacciocchi tra Déco e Novecento”Relatore: Ezio Godoli \nVenerdì 17 ottobre – Ore 20 – Palazzo dei Congressi\, Salone MorescoConvivio a tema: “Gli anni Venti” \nEventi realizzati con il sostegno di Terme di Salsomaggiore e Tabiano; Lions Club & Coro dell’Opera di Parma
URL:https://tabianoterme.it/event/salsomaggiore-e-lart-deco-lo-stile-1925-nella-citta-termale-2/2025-09-19/
LOCATION:Corte Civica Tommasini\, Viale Filippo Corridoni 1\, Salsomaggiore Terme\, Italia\, 43039\, Italia
CATEGORIES:Arte e Cultura,Cultura,Musica,Rassegna,Storia
ATTACH;FMTTYPE=image/jpeg:https://tabianoterme.it/wp-content/uploads/2025/06/Salsomaggiore-e-lArt-Deco.jpg
END:VEVENT
BEGIN:VEVENT
DTSTART;TZID=Europe/Rome:20250919T180000
DTEND;TZID=Europe/Rome:20250919T193000
DTSTAMP:20260423T012111
CREATED:20250908T082637Z
LAST-MODIFIED:20250908T082637Z
UID:13668-1758304800-1758310200@tabianoterme.it
SUMMARY:Fuga dalla meraviglia - Aspettando Spiegamelo!
DESCRIPTION:La geniale vita di Albert Einstein con Federico Taddia \nDa quando a cinque anni il suo papà gli regalò una bussola\, il piccolo Albert capì che la sua vita sarebbe stata dedicata alla scienza. Ma tra il fascino per le scienze e la vittoria del premio Nobel la strada è lunga e si snoda tra calzini mai indossati\, violini e melodie suonate in ripetizione ed esperimenti scientifici che hanno cambiato il mondo. Questo libro non è una classica biografia\, un libro di scienza o una noiosa raccolta di aneddoti. Questo libro è un ritratto molto scapigliato di un’esistenza vissuta all’insegna non solo dell’intelligenza\, ma anche dell’ironia\, dell’immaginazione sconfinata e dell’opposizione a qualsiasi ordine e pregiudizio. La storia di un uomo che ha custodito fino alla fine una grande capacità: quella di sapersi meravigliare. Perché la meraviglia non è altro che una domanda in attesa di risposta. \nPer adulti e bambini da 8 anni in su \nFederico Taddia – Scrittore\, conduttore e autore tv\, collabora con Topolino\, Rai\, Radio24 e “La Stampa”. Il suo pallino è raccontare ai più giovani le nuove scoperte scientifiche. Ha scritto Nata in via delle Cento Stelle. Gatti\, biciclette e parolacce: tutta la galassia di Margherita Hack. Con “Teste Toste” ha vinto il Premio Andersen per la miglior collana di divulgazione scientifica per ragazze e ragazzi. Con Elisa Palazzi ha scritto Bello mondo e Perché la terra ha la febbre? E tante altre domande sul clima. Clima\, attivismo e futuri possibili: un libro per capire quello che gli altri non vogliono capire.
URL:https://tabianoterme.it/event/fuga-dalla-meraviglia-aspettando-spiegamelo/
LOCATION:MuMAB- Museo Mare Antico e Biodiversità\, Podere Millepioppi\, Salsomaggiore Terme\, PR\, 43039\, Italia
CATEGORIES:Arte e Cultura,Bambini e famiglie,Cultura,Festival,Incontro,Rassegna
ATTACH;FMTTYPE=image/jpeg:https://tabianoterme.it/wp-content/uploads/2025/09/taddia-1-1024x577-1.jpg
ORGANIZER;CN="Coworking Salsomaggiore Terme":MAILTO:info@salsocoworking.it
END:VEVENT
END:VCALENDAR