BEGIN:VCALENDAR
VERSION:2.0
PRODID:-//Tabiano terme - ECPv6.15.11//NONSGML v1.0//EN
CALSCALE:GREGORIAN
METHOD:PUBLISH
X-ORIGINAL-URL:https://tabianoterme.it
X-WR-CALDESC:Eventi per Tabiano terme
REFRESH-INTERVAL;VALUE=DURATION:PT1H
X-Robots-Tag:noindex
X-PUBLISHED-TTL:PT1H
BEGIN:VTIMEZONE
TZID:Europe/Rome
BEGIN:DAYLIGHT
TZOFFSETFROM:+0100
TZOFFSETTO:+0200
TZNAME:CEST
DTSTART:20240331T010000
END:DAYLIGHT
BEGIN:STANDARD
TZOFFSETFROM:+0200
TZOFFSETTO:+0100
TZNAME:CET
DTSTART:20241027T010000
END:STANDARD
BEGIN:DAYLIGHT
TZOFFSETFROM:+0100
TZOFFSETTO:+0200
TZNAME:CEST
DTSTART:20250330T010000
END:DAYLIGHT
BEGIN:STANDARD
TZOFFSETFROM:+0200
TZOFFSETTO:+0100
TZNAME:CET
DTSTART:20251026T010000
END:STANDARD
BEGIN:DAYLIGHT
TZOFFSETFROM:+0100
TZOFFSETTO:+0200
TZNAME:CEST
DTSTART:20260329T010000
END:DAYLIGHT
BEGIN:STANDARD
TZOFFSETFROM:+0200
TZOFFSETTO:+0100
TZNAME:CET
DTSTART:20261025T010000
END:STANDARD
END:VTIMEZONE
BEGIN:VEVENT
DTSTART;TZID=Europe/Rome:20250802T190000
DTEND;TZID=Europe/Rome:20250802T233000
DTSTAMP:20260424T135622
CREATED:20250724T101108Z
LAST-MODIFIED:20250724T101108Z
UID:13420-1754161200-1754177400@tabianoterme.it
SUMMARY:I misteri del castello millenario al Castello di Scipione
DESCRIPTION:Nel labirinto del Castello più antico del Parmense visita notturna alla scoperta dei suoi luoghi segreti. Con l’apertura straordinaria delle prigioni quattrocentesche e dell’antica via di fuga del castello. \nOrario di svolgimento: 19h00\, 20h30 e 21h45 \nIl millenario Castello di Scipione dei Marchesi Pallavicino\, il più antico della Provincia di Parma\, raccontato da Carlo Lucarelli nel suo podcast “Giallo in Castello”\, apre le sue porte per una visita notturna alla scoperta dei suoi luoghi segreti. \nIl Castello “labirinto”\, in posizione dominante sulle bellissime colline al confine tra Parma e Piacenza\, e fondato prima dell’anno Mille da Adalberto Pallavicino\, tra i più grandi condottieri del suo tempo\, potrà essere visitato nella penombra della sera; verranno raccontati gli intrighi e misteri che avvolgono il Castello e le leggende dei fantasmi che lo animano in alcune notti dell’anno… \nEccezionalmente verrà aperta la torre circolare quattrocentesca con le sue anguste prigioni rimaste intatte fino ad oggi\, e nel Salotto del Diavolo la porticina segreta si aprirà per mostrare l’antica via di fuga che attraversa il Castello. \nVerrà data voce alla struggente e straordinaria storia di Giacoma e Giangerolamo Pallavicino\, i cui passi\, in alcune notti dell’anno\, si fanno ancora sentire. \nPer l’occasione\, verranno inoltre aperti l’intero loggiato Seicentesco da dove sarà possibile ammirare il paesaggio collinare avvolto dalla luce della sera\, il quattrocentesco “scalone dei cavalli” con il suo giardino segreto e il grande giardino ai piedi della torre\, illuminato per la serata. \nPer chi desidera passare un fine settimana nel Castello incantato sulle colline\, è possibile soggiornare nel Castello stesso\, nelle meravigliose suites di charme\, nella torre a pianta quadrata e nell’ala Est\, con ampie finestre aperte sul paesaggio collinare e millenari soffitti a cassettoni. \nE’ inoltre possibile cenare negli agriturismi e trattorie nei dintorni del Castello. \nLa manifestazione si svolge anche in caso di mal tempo. \nCosto della manifestazione: \nAdulti: 12 euro \nBambini da 6 anni a 16 anni: 9 euro \nGratuito: fino a 5 anni inclusi \nPer informazioni: Tel: 0524 572381 – info@castellodiscipione.it; www.castellodiscipione.it \n  \nFonte testo e foto: https://www.castellidelducato.it
URL:https://tabianoterme.it/event/i-misteri-del-castello-millenario-al-castello-di-scipione/
LOCATION:Castello di Scipione\, Via Scipione Castello\, 61\, Salsomaggiore Terme\, Parma\, 43039\, Italia
CATEGORIES:Arte e Cultura,Cultura,Festa
ATTACH;FMTTYPE=image/webp:https://tabianoterme.it/wp-content/uploads/2025/07/i_misteri_del_castello_millenario_scipione_agosto2025.webp
END:VEVENT
BEGIN:VEVENT
DTSTART;TZID=Europe/Rome:20250806T180000
DTEND;TZID=Europe/Rome:20250806T233000
DTSTAMP:20260424T135622
CREATED:20250723T093547Z
LAST-MODIFIED:20250820T125945Z
UID:13416-1754503200-1754523000@tabianoterme.it
SUMMARY:ORTOCOLTO - Artigiani sotto la luna
DESCRIPTION:🌙✨ ARTIGIANI SOTTO LA LUNA – Le serate d’estate firmate Ortocolto ✨🌙📍 Piazza Verdi\, Tabiano Terme📅 Mercoledì 30 luglio\, 6 – 13 – 20 agosto 2025🕓 Dalle ore 18:00 alle 23:00 | Ingresso libero \nAnche quest’estate Tabiano Terme si accende di creatività e magia con Artigiani sotto la Luna\, l’appuntamento settimanale che trasforma Piazza Verdi in un salotto all’aperto\, tra mercatini artigianali\, gusto e spettacoli per tutta la famiglia 🌿🎭🍻 \n🎨 A partire dal tardo pomeriggio troverete:– Creazioni artigianali e prodotti locali da scoprire passeggiando tra le bancarelle– La piccola ristorazione casalinga del food truck La Bisia\, con piatti genuini e gustosi 🍔– Le ottime birre artigianali del Birrificio Farnese 🍺– Un’atmosfera rilassata e conviviale\, ideale per grandi e piccini \n🎪 E alle ore 21:00\, ogni mercoledì\, uno spettacolo gratuito a cura di Ottotipi Aps\, con posti a sedere e performance per tutta la famiglia: \n🔹 30 luglio – EL BECHINClown itinerante dalle storie macabre e irresistibili. Uno show sorprendente che mescola comicità e brivido. \n🔹 6 agosto – MAGO ABACUCUn giullare medievale alle prese con antichi giochi di prestigio e atmosfere d’altri tempi. \n🔹 13 agosto – MR LUCKYUn ciarlatano acrobata che tra rulli di equilibrio e pozioni magiche strappa applausi e risate. \n🔹 27 agosto – OTTOPANZER – DR STOK Clown esuberante e maestro dell’improvvisazione\, nei panni di un improbabile direttore di circo e un Astruso scienziato e “Spigolo”\, l’alchemico trabiccolo capace di trasformazioni incredibili\, realizzeranno il loro grande esperimento! \n🧺 Una festa sotto le stelle per vivere Tabiano in modo autentico\, tra gusto\, arte e spettacolo. \n📞 Per informazioni– Espositori: 347 0732 754 | 📧 espositori@ortocolto.it– Visitatori: 347 1510 556 | 📧 info@ortocolto.it
URL:https://tabianoterme.it/event/ortocolto-artigiani-sotto-la-luna/2025-08-06/
LOCATION:Piazza Verdi\, Piazza Verdi\, Tabiano Terme\, 43039
CATEGORIES:Arte e Cultura,artigianato,Bambini e famiglie,Cultura,Festa,Food,Musica
ATTACH;FMTTYPE=image/jpeg:https://tabianoterme.it/wp-content/uploads/2025/07/WhatsApp-Image-2025-07-23-at-11.35.12.jpeg
END:VEVENT
BEGIN:VEVENT
DTSTART;TZID=Europe/Rome:20250810T200000
DTEND;TZID=Europe/Rome:20250810T233000
DTSTAMP:20260424T135622
CREATED:20250724T102151Z
LAST-MODIFIED:20250724T102151Z
UID:13432-1754856000-1754868600@tabianoterme.it
SUMMARY:La magica Notte delle Stelle al Castello di Scipione
DESCRIPTION:Visite guidate alle ore 20:30\, 21:40 e 22:45 \nPer la lunga notte di San Lorenzo domenica 10 agosto sarà possibile vivere una serata magica al Castello di Scipione dei Marchesi Pallavicino\, il Castello millenario immerso nella natura\, nel borgo medioevale sulle colline di grande valore paesaggistico tra Parma e Piacenza\, a 2 km da Salsomaggiore Terme. \nDopo il pic-nic panoramico al tramonto\, nel grande giardino fiorito che gode di una vista unica sul paesaggio collinare\, il Castello si illuminerà magicamente per accogliere i suoi ospiti per tre visite guidate notturne\, nell’atmosfera incantata dei tempi lontani. Tra il romantico luccichio delle fiaccole e delle stelle\, sarà possibile ripercorrere la storia del Castello più antico della Provincia\, ascoltando le storie raccontate dagli affreschi quattrocenteschi e seicenteschi. \nVerranno inoltre aperti la terrazza con l’intero loggiato Seicentesco affacciato sul cielo e le stelle\, lo scalone dei cavalli con il suo giardino segreto tra le ombre dei bossi centenari e delle hoste fiorite\, e il grande giardino ai piedi della torre\, dove\, tra il profumo dei fiori\, sarà possibile soffermarsi fino alle 24 per guardare lo spettacolo del cielo stellato e\, con un po’ di fortuna\, per osservare la magia delle Perseidi che sfrecciano nella notte buia ed esprimere un desiderio. \nUn appuntamento unico per godersi una serata d’estate nell’atmosfera romantica del Castello\, tra i colori del tramonto e con la magia e la suggestione del Castello in notturna. Per chi desiderasse stendersi sull’erba si consiglia di portare un telo. Il cestino pic-nic non viene fornito in loco\, ognuno può portare il proprio cestino con tutto l’occorrente. \nPer chi desiderasse dormire nel Castello\, due esclusive suites con vista panoramica\, nella torre a pianta quadrata e nell’ala Est sono a disposizione degli ospiti per un minimo di due notti e con prima colazione offerta nella suite. \nCOSTI \nAdulti: 15 euro \nBambini da 6 anni a 16 anni: 9 euro \nGratuito: fino a 5 anni inclusi \nPer informazioni: Tel: 0524 572381 – info@castellodiscipione.it; www.castellodiscipione.it \n  \nFonte testo e foto: Castelli del Ducato
URL:https://tabianoterme.it/event/la-magica-notte-delle-stelle-al-castello-di-scipione/
LOCATION:Castello di Scipione\, Via Scipione Castello\, 61\, Salsomaggiore Terme\, Parma\, 43039\, Italia
CATEGORIES:Cultura,Spettacolo,Storia
ATTACH;FMTTYPE=image/webp:https://tabianoterme.it/wp-content/uploads/2025/07/MagicaNotte_CastellodiScipione_100825.webp
ORGANIZER;CN="Castelli del Ducato":MAILTO:info@castellidelducato.it
END:VEVENT
BEGIN:VEVENT
DTSTART;TZID=Europe/Rome:20250810T210000
DTEND;TZID=Europe/Rome:20250810T230000
DTSTAMP:20260424T135622
CREATED:20250724T103353Z
LAST-MODIFIED:20250724T103353Z
UID:13443-1754859600-1754866800@tabianoterme.it
SUMMARY:Spegni le luci\, accendi le stelle – Reggia di Colorno
DESCRIPTION:Domenica 10 agosto 2025\nOre 21.00 \n“SPEGNI LE LUCI\, ACCENDI LE STELLE”\nNella notte di San Lorenzo una visita guidata al piano nobile della Reggia di Colorno e al settecentesco Osservatorio Astronomico del Duca Ferdinando di Borbone. \nPrenotazione obbligatoria entro l’8 agosto.  \nBiglietti:\nIntero:  € 12\nRidotto: € 11 \nPer info: tel. 0521312545 – reggiadicolorno@provincia.parma.it  \n  \nFonte testo: https://reggiadicolorno.it/5795-2\nFonte foto: https://www.castellidelducato.it
URL:https://tabianoterme.it/event/spegni-le-luci-accendi-le-stelle-reggia-di-colorno/
LOCATION:Reggia di Colorno\, Piazza Giuseppe Garibaldi 26\, Colorno\, 43052\, Italia
CATEGORIES:Cultura,Storia
ATTACH;FMTTYPE=image/webp:https://tabianoterme.it/wp-content/uploads/2025/07/notte-di-san-lorenzo-visita-guidata-reggia-di-colorno-8-agosto-1-1.webp
END:VEVENT
BEGIN:VEVENT
DTSTART;TZID=Europe/Rome:20250813T180000
DTEND;TZID=Europe/Rome:20250813T233000
DTSTAMP:20260424T135622
CREATED:20250723T093547Z
LAST-MODIFIED:20250820T125946Z
UID:13417-1755108000-1755127800@tabianoterme.it
SUMMARY:ORTOCOLTO - Artigiani sotto la luna
DESCRIPTION:🌙✨ ARTIGIANI SOTTO LA LUNA – Le serate d’estate firmate Ortocolto ✨🌙📍 Piazza Verdi\, Tabiano Terme📅 Mercoledì 30 luglio\, 6 – 13 – 20 agosto 2025🕓 Dalle ore 18:00 alle 23:00 | Ingresso libero \nAnche quest’estate Tabiano Terme si accende di creatività e magia con Artigiani sotto la Luna\, l’appuntamento settimanale che trasforma Piazza Verdi in un salotto all’aperto\, tra mercatini artigianali\, gusto e spettacoli per tutta la famiglia 🌿🎭🍻 \n🎨 A partire dal tardo pomeriggio troverete:– Creazioni artigianali e prodotti locali da scoprire passeggiando tra le bancarelle– La piccola ristorazione casalinga del food truck La Bisia\, con piatti genuini e gustosi 🍔– Le ottime birre artigianali del Birrificio Farnese 🍺– Un’atmosfera rilassata e conviviale\, ideale per grandi e piccini \n🎪 E alle ore 21:00\, ogni mercoledì\, uno spettacolo gratuito a cura di Ottotipi Aps\, con posti a sedere e performance per tutta la famiglia: \n🔹 30 luglio – EL BECHINClown itinerante dalle storie macabre e irresistibili. Uno show sorprendente che mescola comicità e brivido. \n🔹 6 agosto – MAGO ABACUCUn giullare medievale alle prese con antichi giochi di prestigio e atmosfere d’altri tempi. \n🔹 13 agosto – MR LUCKYUn ciarlatano acrobata che tra rulli di equilibrio e pozioni magiche strappa applausi e risate. \n🔹 27 agosto – OTTOPANZER – DR STOK Clown esuberante e maestro dell’improvvisazione\, nei panni di un improbabile direttore di circo e un Astruso scienziato e “Spigolo”\, l’alchemico trabiccolo capace di trasformazioni incredibili\, realizzeranno il loro grande esperimento! \n🧺 Una festa sotto le stelle per vivere Tabiano in modo autentico\, tra gusto\, arte e spettacolo. \n📞 Per informazioni– Espositori: 347 0732 754 | 📧 espositori@ortocolto.it– Visitatori: 347 1510 556 | 📧 info@ortocolto.it
URL:https://tabianoterme.it/event/ortocolto-artigiani-sotto-la-luna/2025-08-13/
LOCATION:Piazza Verdi\, Piazza Verdi\, Tabiano Terme\, 43039
CATEGORIES:Arte e Cultura,artigianato,Bambini e famiglie,Cultura,Festa,Food,Musica
ATTACH;FMTTYPE=image/jpeg:https://tabianoterme.it/wp-content/uploads/2025/07/WhatsApp-Image-2025-07-23-at-11.35.12.jpeg
END:VEVENT
BEGIN:VEVENT
DTSTART;TZID=Europe/Rome:20250818T210000
DTEND;TZID=Europe/Rome:20250818T233000
DTSTAMP:20260424T135622
CREATED:20250818T085430Z
LAST-MODIFIED:20250818T085430Z
UID:13503-1755550800-1755559800@tabianoterme.it
SUMMARY:Immagini sotto le stelle in tour
DESCRIPTION:Fotografia… emozioni… fantasia in musica \nIMMAGINI SOTTO LE STELLE – in Toura cura di Ivano Bolondi37ª edizione “straordinaria” \nUn evento che unisce immagini\, musica e racconti\, per vivere la magia della fotografia sotto il cielo stellato di Tabiano Terme. \nProtagonisti e opere in programma: \n\n\nLorenzo DavighiDentro il mio specchio – Strega – Ecco la luna \n\n\nPaolo MazzoniEgitto: La valle delle balene – Deserto bianco \n\n\nEnnio ParmigianiUn cielo di colori – Preludio – Malanconia \n\n\nGabriele PinardiUn cielo di colori – Preludio – Malanconia \n\n\nElisabetta Premoli \n\n\nRodolfo VillaggiFiori – Fatica – Lenticchie – Un altro giro d’acqua \n\n\nDate: \n\n\n18 agosto: Paolo Mazzoni\, Elisabetta Premoli\, Rodolfo Villaggi \n\n\n21 agosto: Lorenzo Davighi\, Ennio Parmigiani\, Gabriele Pinardi \n\n\nLuogo e orario:Pasticceria Tabiano – Via delle FontiInizio ore 21:15 \nUn’iniziativa del Dipartimento Audiovisivi FIAF e del Circolo Fotografico Zoom di Salsomaggiore Terme\, con il patrocinio del Comune di Salsomaggiore Terme.
URL:https://tabianoterme.it/event/immagini-sotto-le-stelle-in-tour/2025-08-18/
LOCATION:Viale alle fonti 7\, Pasticceria Tabiano\, Viale alle fonti 7\, Tabiano Terme\, PR\, 43039\, Italia
CATEGORIES:Arte e Cultura,Bambini e famiglie,Cultura,Intrattenimento,Museo,Rassegna,Storia
ATTACH;FMTTYPE=image/jpeg:https://tabianoterme.it/wp-content/uploads/2025/08/Progetto-senza-titolo-2025-08-08T151551.961.jpg
END:VEVENT
BEGIN:VEVENT
DTSTART;TZID=Europe/Rome:20250821T210000
DTEND;TZID=Europe/Rome:20250821T233000
DTSTAMP:20260424T135622
CREATED:20250818T085430Z
LAST-MODIFIED:20250818T085430Z
UID:13506-1755810000-1755819000@tabianoterme.it
SUMMARY:Immagini sotto le stelle in tour
DESCRIPTION:Fotografia… emozioni… fantasia in musica \nIMMAGINI SOTTO LE STELLE – in Toura cura di Ivano Bolondi37ª edizione “straordinaria” \nUn evento che unisce immagini\, musica e racconti\, per vivere la magia della fotografia sotto il cielo stellato di Tabiano Terme. \nProtagonisti e opere in programma: \n\n\nLorenzo DavighiDentro il mio specchio – Strega – Ecco la luna \n\n\nPaolo MazzoniEgitto: La valle delle balene – Deserto bianco \n\n\nEnnio ParmigianiUn cielo di colori – Preludio – Malanconia \n\n\nGabriele PinardiUn cielo di colori – Preludio – Malanconia \n\n\nElisabetta Premoli \n\n\nRodolfo VillaggiFiori – Fatica – Lenticchie – Un altro giro d’acqua \n\n\nDate: \n\n\n18 agosto: Paolo Mazzoni\, Elisabetta Premoli\, Rodolfo Villaggi \n\n\n21 agosto: Lorenzo Davighi\, Ennio Parmigiani\, Gabriele Pinardi \n\n\nLuogo e orario:Pasticceria Tabiano – Via delle FontiInizio ore 21:15 \nUn’iniziativa del Dipartimento Audiovisivi FIAF e del Circolo Fotografico Zoom di Salsomaggiore Terme\, con il patrocinio del Comune di Salsomaggiore Terme.
URL:https://tabianoterme.it/event/immagini-sotto-le-stelle-in-tour/2025-08-21/
LOCATION:Viale alle fonti 7\, Pasticceria Tabiano\, Viale alle fonti 7\, Tabiano Terme\, PR\, 43039\, Italia
CATEGORIES:Arte e Cultura,Bambini e famiglie,Cultura,Intrattenimento,Museo,Rassegna,Storia
ATTACH;FMTTYPE=image/jpeg:https://tabianoterme.it/wp-content/uploads/2025/08/Progetto-senza-titolo-2025-08-08T151551.961.jpg
END:VEVENT
BEGIN:VEVENT
DTSTART;TZID=Europe/Rome:20250827T180000
DTEND;TZID=Europe/Rome:20250827T233000
DTSTAMP:20260424T135622
CREATED:20250723T093547Z
LAST-MODIFIED:20250723T093547Z
UID:13537-1756317600-1756337400@tabianoterme.it
SUMMARY:ORTOCOLTO - Artigiani sotto la luna
DESCRIPTION:🌙✨ ARTIGIANI SOTTO LA LUNA – Le serate d’estate firmate Ortocolto ✨🌙📍 Piazza Verdi\, Tabiano Terme📅 Mercoledì 30 luglio\, 6 – 13 – 20 agosto 2025🕓 Dalle ore 18:00 alle 23:00 | Ingresso libero \nAnche quest’estate Tabiano Terme si accende di creatività e magia con Artigiani sotto la Luna\, l’appuntamento settimanale che trasforma Piazza Verdi in un salotto all’aperto\, tra mercatini artigianali\, gusto e spettacoli per tutta la famiglia 🌿🎭🍻 \n🎨 A partire dal tardo pomeriggio troverete:– Creazioni artigianali e prodotti locali da scoprire passeggiando tra le bancarelle– La piccola ristorazione casalinga del food truck La Bisia\, con piatti genuini e gustosi 🍔– Le ottime birre artigianali del Birrificio Farnese 🍺– Un’atmosfera rilassata e conviviale\, ideale per grandi e piccini \n🎪 E alle ore 21:00\, ogni mercoledì\, uno spettacolo gratuito a cura di Ottotipi Aps\, con posti a sedere e performance per tutta la famiglia: \n🔹 30 luglio – EL BECHINClown itinerante dalle storie macabre e irresistibili. Uno show sorprendente che mescola comicità e brivido. \n🔹 6 agosto – MAGO ABACUCUn giullare medievale alle prese con antichi giochi di prestigio e atmosfere d’altri tempi. \n🔹 13 agosto – MR LUCKYUn ciarlatano acrobata che tra rulli di equilibrio e pozioni magiche strappa applausi e risate. \n🔹 27 agosto – OTTOPANZER – DR STOK Clown esuberante e maestro dell’improvvisazione\, nei panni di un improbabile direttore di circo e un Astruso scienziato e “Spigolo”\, l’alchemico trabiccolo capace di trasformazioni incredibili\, realizzeranno il loro grande esperimento! \n🧺 Una festa sotto le stelle per vivere Tabiano in modo autentico\, tra gusto\, arte e spettacolo. \n📞 Per informazioni– Espositori: 347 0732 754 | 📧 espositori@ortocolto.it– Visitatori: 347 1510 556 | 📧 info@ortocolto.it
URL:https://tabianoterme.it/event/ortocolto-artigiani-sotto-la-luna/2025-08-27/
LOCATION:Piazza Verdi\, Piazza Verdi\, Tabiano Terme\, 43039
CATEGORIES:Arte e Cultura,artigianato,Bambini e famiglie,Cultura,Festa,Food,Musica
ATTACH;FMTTYPE=image/jpeg:https://tabianoterme.it/wp-content/uploads/2025/07/WhatsApp-Image-2025-07-23-at-11.35.12.jpeg
END:VEVENT
END:VCALENDAR