BEGIN:VCALENDAR
VERSION:2.0
PRODID:-//Tabiano terme - ECPv6.15.11//NONSGML v1.0//EN
CALSCALE:GREGORIAN
METHOD:PUBLISH
X-WR-CALNAME:Tabiano terme
X-ORIGINAL-URL:https://tabianoterme.it
X-WR-CALDESC:Eventi per Tabiano terme
REFRESH-INTERVAL;VALUE=DURATION:PT1H
X-Robots-Tag:noindex
X-PUBLISHED-TTL:PT1H
BEGIN:VTIMEZONE
TZID:Europe/Rome
BEGIN:DAYLIGHT
TZOFFSETFROM:+0100
TZOFFSETTO:+0200
TZNAME:CEST
DTSTART:20240331T010000
END:DAYLIGHT
BEGIN:STANDARD
TZOFFSETFROM:+0200
TZOFFSETTO:+0100
TZNAME:CET
DTSTART:20241027T010000
END:STANDARD
BEGIN:DAYLIGHT
TZOFFSETFROM:+0100
TZOFFSETTO:+0200
TZNAME:CEST
DTSTART:20250330T010000
END:DAYLIGHT
BEGIN:STANDARD
TZOFFSETFROM:+0200
TZOFFSETTO:+0100
TZNAME:CET
DTSTART:20251026T010000
END:STANDARD
BEGIN:DAYLIGHT
TZOFFSETFROM:+0100
TZOFFSETTO:+0200
TZNAME:CEST
DTSTART:20260329T010000
END:DAYLIGHT
BEGIN:STANDARD
TZOFFSETFROM:+0200
TZOFFSETTO:+0100
TZNAME:CET
DTSTART:20261025T010000
END:STANDARD
END:VTIMEZONE
BEGIN:VEVENT
DTSTART;VALUE=DATE:20250301
DTEND;VALUE=DATE:20250302
DTSTAMP:20260426T023322
CREATED:20250110T160534Z
LAST-MODIFIED:20250110T160534Z
UID:12623-1740787200-1740873599@tabianoterme.it
SUMMARY:Scopri il Castello di Scipione dei Marchesi Pallavicino
DESCRIPTION:A pochi chilometri da Tabiano Terme\, tra le dolci colline che dominano il Parco Regionale dello Stirone e del Piacenziano\, sorge il maestoso Castello di Scipione dei Marchesi Pallavicino\, uno dei più antichi e affascinanti castelli della regione. \nSituato nel suggestivo borgo medievale di Scipione Castello\, a soli 15 minuti di auto da Tabiano Terme\, il Castello rappresenta una tappa imperdibile per gli amanti della storia\, dell’arte e della natura. \nUn patrimonio storico Unico dichiarato Monumento Nazionale nel 1922\, il Castello di Scipione vanta una ricca eredità storico-artistica. La visita guidata conduce i visitatori attraverso un percorso mozzafiato che include affreschi unici\, eleganti saloni\, giardini segreti e spettacolari terrazze panoramiche. \nOrari di Apertura e Visite Guidate\nLe visite al Castello sono disponibili da marzo a novembre\, esclusivamente con guida. \nMarzo \nSabato: 15.00\, 16.00\, 17.00\nFestivi: 10.30\, 11.30\, 15.00\, 16.00\, 17.00 \nDa Aprile a Ottobre \nSabato: 15.00\, 16.00\, 17.00\nDomenica e festivi: 10.30\, 11.30\, 15.00\, 16.00\, 17.00 \nNovembre \nSabato: 15.00\, 16.00\, 17.00\nFestivi: 10.30\, 11.30\, 15.00\, 16.00\, 17.00\nDurata della visita: circa 55 minuti. \nBiglietti e Informazioni\nAdulti: €10\,00\nBambini (5-16 anni): €9\,00 (gratis fino a 4 anni)\nGruppi (min. 20 persone): €9\,00 a persona\nScolaresche: €7\,00 a persona\nAgevolazioni disponibili con Card del Ducato e Around Thermae Card (€8\,00). \nPunti Salienti del Percorso di Visita\nCortile d’onore e giardino privato\nGalleria degli antenati e salone giallo\nEsposizione della tavola imperiale con servizio Pallavicino del XVIII secolo\nBiblioteca\, salotto del Diavolo e terrazza panoramica con loggiato seicentesco \nUn’esperienza straordinaria per scoprire l’arte\, la storia e le tradizioni di un luogo unico nel cuore dell’Emilia-Romagna!
URL:https://tabianoterme.it/event/scopri-il-castello-di-scipione-dei-marchesi-pallavicino/2025-03-01/
LOCATION:Castello di Scipione\, Via Scipione Castello\, 61\, Salsomaggiore Terme\, Parma\, 43039\, Italia
CATEGORIES:Arte e Cultura,Cultura,Museo
ATTACH;FMTTYPE=image/jpeg:https://tabianoterme.it/wp-content/uploads/2025/01/72-scipione10.jpg
ORGANIZER;CN="Castello di Scipione":MAILTO:info@castellodiscipione.it
END:VEVENT
BEGIN:VEVENT
DTSTART;VALUE=DATE:20250301
DTEND;VALUE=DATE:20250602
DTSTAMP:20260426T023322
CREATED:20250117T152809Z
LAST-MODIFIED:20250117T152809Z
UID:12757-1740787200-1748822399@tabianoterme.it
SUMMARY:Castello di Rivalta: Le Tavole Apparecchiate di un’Antica Famiglia Piacentina
DESCRIPTION:Un viaggio nel passato\, tra storia\, eleganza e tradizione. Fino al 1° giugno 2025\, il Castello di Rivalta apre le porte alla mostra esclusiva “Le Tavole Apparecchiate di un’Antica Famiglia Piacentina”\, un’esperienza immersiva che ti farà rivivere l’atmosfera di un’epoca lontana\, direttamente all’interno delle storiche sale di uno dei castelli più affascinanti della nostra regione. \nLa mostra è una ricostruzione autentica delle “mise en place” che hanno decorato le tavole nobiliari della famiglia Zanardi Landi per secoli. Piatti francesi del 1830\, calici di Murano\, posate monogrammate e tovaglioli con stemmi nobiliari sono solo alcuni degli elementi che compongono questa raffinata esposizione. Ogni sala racconta una storia\, un pezzo di storia vissuta da una famiglia che ha fatto la storia del territorio piacentino. \nNon si tratta di una semplice esposizione di oggetti d’antiquariato\, ma di una vera e propria esperienza sensoriale che ti farà vivere la quotidianità dell’aristocrazia del passato. Il Conte Orazio Zanardi Landi\, presidente di Castelli del Ducato\, ha curato personalmente questa mostra per condividere con il pubblico gli oggetti che hanno segnato il percorso della sua famiglia nel tempo. \nQuando:\nDal 1 marzo al 1 giugno 2025\, con visite guidate quotidiane\, da lunedì a venerdì su prenotazione (ore 11:00 e 15:30) e sabato e domenica a orari più ampi (dalle 10:30 alle 18:00). \nE-MAIL: info@castellodirivalta.it
URL:https://tabianoterme.it/event/castello-di-rivalta-le-tavole-apparecchiate-di-unantica-famiglia-piacentina/
LOCATION:Castello di Rivalta\, Località Rivalta\, 29010 Gazzola (PC)\, Emilia-Romagna\, Italia
CATEGORIES:Arte e Cultura,Cultura,Storia
ATTACH;FMTTYPE=image/jpeg:https://tabianoterme.it/wp-content/uploads/2025/01/BLOG-4-8-1.jpg
ORGANIZER;CN="Castelli del Ducato":MAILTO:info@castellidelducato.it
END:VEVENT
BEGIN:VEVENT
DTSTART;VALUE=DATE:20250307
DTEND;VALUE=DATE:20250308
DTSTAMP:20260426T023322
CREATED:20250203T111324Z
LAST-MODIFIED:20250203T111324Z
UID:12813-1741305600-1741391999@tabianoterme.it
SUMMARY:ORA D'ARTE  Salotti contemporanei per spiriti curiosi
DESCRIPTION:Cinque appuntamenti serali ideati in collaborazione con Stefano Salis\, a partire da venerdì 28 febbraio\, per scoprire e riscoprire storie\, personaggi e temi che sfuggono alle narrazioni più scontate e aprono sguardi inediti sulla cultura contemporanea. \nOra d’Arte è un invito a unirsi a un circolo di curiosi e appassionati\, un’ora da trascorrere insieme in un vivace convivio\, un aperitivo fuori dagli schemi in cui le conversazioni si intrecciano in un’atmosfera informale e stimolante.\nDalla grafica alla pittura\, dalla fotografia alla scultura fino alla bibliofilia\, la rassegna è un’occasione d’incontro con artisti e idee che dialogano con il nostro tempo. \nLuigi Ghirri e Giandante X\, e ancora Luigi Serafini\, Paolo Ventura senza dimenticare la “premiata ditta” Bertozzi & Casoni: ogni serata invita a dialogare direttamente con i protagonisti e le autorevoli voci che ne hanno svelato il valore e la rilevanza. \nll Museo del Labirinto\, crocevia di incontri inconsueti\, si trasforma grazie agli arredi di design di Pedrali Spa in un accogliente salotto dove assaporare insieme il piacere della scoperta e del buon cibo\, con gustosi assaggi e le raffinate bollicine di Freccianera Fratelli Berlucchi ad accompagnare il brindisi. \nIl biglietto per il singolo appuntamento ha costo di €12\,00. La partecipazione è altrimenti inclusa nel biglietto d’ingresso al Labirinto della Masone per la giornata dell’incontro. È disponibile uno speciale carnet alla tariffa promozionale di €40\,00 per tutti e 5 gli aperitivi. Il biglietto include cibo e bevande serviti durante l’aperitivo.  Contatti  Tel. +39 0521 827081   labirinto@francomariaricci.com \n\n\n\nVenerdì 28 febbraio\, ore 18.00\nBERTOZZI & CASONI. Ceramica incantata. Visita alla mostra con Giampaolo Bertozzi e Tiziano Scarpa\n\n\n\n\n\nIn occasione del finissage della mostra “BERTOZZI & CASONI. Non è quel che sembra”\, l’artista Giampaolo Bertozzi ci conduce in visita tra le sue creazioni\, un “a tu per tu” non scontato e pieno di curiosità. Con lui lo scrittore Premio Strega Tiziano Scarpa\, che ispirato dalle opere ha immaginato le storie che queste sussurrano: per l’occasione ne leggerà alcune\, trasportandoci in un mondo di puro incanto. \n\n\n\n\n\nVenerdì 7 marzo\, ore 18.00\nLUIGI GHIRRI. Vita padana\, sguardo universale. Con Marco Belpoliti e Gino Ruozzi\n\n\n\n\n\nNon una riscoperta\, ma una celebrazione. Nessuno meglio di Luigi Ghirri\, maestro dello sguardo\, ha saputo esplorare con tale felicità il rapporto tra realtà\, percezione e rappresentazione attraverso la fotografia. Nella sua opera emerge una padanità poetica e intima\, fatta di luoghi\, oggetti e segni culturali quotidiani illuminati da una luce nuova. Su queste tracce si muovono Marco Belpoliti e Gino Ruozzi\, esperti conoscitori della sua opera e conterranei che hanno dedicato alle sue atmosfere padane attenzione\, saggi e rispetto. \nVenerdì 14 marzo\, ore 18.00 \n\n\n\nGIANDANTE X. Uno sconosciuto\, un mistero\, un artista da riscoprire. Con Roberto Farina e Antonio Riccardi\n\n\n\n\n\nGiandante\, chi era costui? Alla scoperta di Dante Pescò\, in arte Giandante X. Pittore\, scultore\, illustratore\, anarchico\, antifascista\, partigiano\, soprattutto un eterno viandante dalla biografia artistica ancora da rifinire. Ce lo raccontano Roberto Farina\, autore della più importante monografia documentata sull’artista\, e il poeta (e di poeti funzionario) Antonio Riccardi\, ammiratore di Giandante e capace di coglierne lo sguardo poetico sulle cose. \n\n\n\nSabato 29 marzo\, ore 18.00\nLUIGI SERAFINI. Codex Ininterrumptus. Con Luigi Serafini e Daniela Collu\n\n\n\n\n\nChi se non Serafini? L’autore di uno dei libri più enigmatici e affascinanti degli ultimi decenni\, artista poliedrico che ha legato la sua carriera al Codex che da lui prende il nome e che\, insieme a Franco Maria Ricci\, ha rivoluzionato l’arte contemporanea e l’idea stessa di libro d’arte. In occasione dell’apertura della mostra a lui dedicata al Labirinto\, Luigi Serafini ci svelerà i segreti che abitano il suo universo stralunato\, intervistato da un’ammiratrice d’eccezione: Daniela Collu. \n\n\n\nVenerdì 4 aprile\, ore 18.00\nPAOLO VENTURA. Un impostore fatto ad arte. Con Paolo Ventura e Laura Leonelli \n\n\n\n\n\nFotografie ritoccate\, città deserte\, nebbie agli irti colli\, travestimenti. Paolo Ventura ama sdoppiarsi e raccontarsi con la sua arte sbilenca in cui i personaggi che interpreta vivono storie fantastiche\, calate in realtà inafferrabili. Forse è proprio questo che ci comunica: l’opacità irreversibile dell’essere artisti\, quasi un’impostura\, come recita la sua autobiografia scritta insieme alla critica ed esperta di fotografia Laura Leonelli che qui lo accompagna nei sentieri delle sue mistificazioni.
URL:https://tabianoterme.it/event/ora-darte-salotti-contemporanei-per-spiriti-curiosi/2025-03-07/
LOCATION:Labirinto della Masone\, Strada Masone\, 121\, Fontanellato\, 43012
CATEGORIES:Arte e Cultura,Cultura,Rassegna
ATTACH;FMTTYPE=image/jpeg:https://tabianoterme.it/wp-content/uploads/2025/02/download-2.jpg
ORGANIZER;CN="Labirinto della Masone":MAILTO:labirinto@francomariaricci.com
END:VEVENT
BEGIN:VEVENT
DTSTART;VALUE=DATE:20250313
DTEND;VALUE=DATE:20250314
DTSTAMP:20260426T023322
CREATED:20250110T204428Z
LAST-MODIFIED:20250110T204428Z
UID:12651-1741824000-1741910399@tabianoterme.it
SUMMARY:Scopri il Castello di Tabiano
DESCRIPTION:Immerso tra le colline di Salsomaggiore Terme\, il Castello di Tabiano ti invita a vivere un’esperienza unica tra storia\, arte e relax. Edificato oltre mille anni fa\, il castello si erge maestoso su un pianoro panoramico\, un tempo utilizzato per sorvegliare i preziosi pozzi di sale. \nOggi puoi esplorare i suoi eleganti saloni affrescati\, le suggestive cantine medievali e le terrazze con una vista mozzafiato che spazia fino alle Alpi. Accanto al castello si trova l’Antico Borgo di Tabiano Castello\, trasformato in un esclusivo Relais de Charme\, e il ristorante Il Caseificio\, dove assaporare i prodotti del territorio. \nNon perdere l’occasione di immergerti in un viaggio nel tempo in una delle più affascinanti fortezze dell’Appennino Tosco-Emiliano: le visite guidate sono disponibili tutto l’anno\, con prenotazione consigliata. \n📍 Dove: Via Castello\, 1\, Frazione Tabiano Castello\, Salsomaggiore Terme (PR).\n📅 Quando: Controlla orari e disponibilità sul sito ufficiale o sui canali social.
URL:https://tabianoterme.it/event/scopri-il-castello-di-tabiano/2025-03-13/
LOCATION:Castello di Tabiano\, Via Castello\, Salsomaggiore Terme\, 43039
CATEGORIES:Arte e Cultura,Cultura,Storia
ATTACH;FMTTYPE=image/jpeg:https://tabianoterme.it/wp-content/uploads/2025/01/termecastello_di_tabiano.jpg
ORGANIZER;CN="Castelli del Ducato":MAILTO:info@castellidelducato.it
END:VEVENT
BEGIN:VEVENT
DTSTART;VALUE=DATE:20250314
DTEND;VALUE=DATE:20250315
DTSTAMP:20260426T023322
CREATED:20250203T111324Z
LAST-MODIFIED:20250203T111324Z
UID:12814-1741910400-1741996799@tabianoterme.it
SUMMARY:ORA D'ARTE  Salotti contemporanei per spiriti curiosi
DESCRIPTION:Cinque appuntamenti serali ideati in collaborazione con Stefano Salis\, a partire da venerdì 28 febbraio\, per scoprire e riscoprire storie\, personaggi e temi che sfuggono alle narrazioni più scontate e aprono sguardi inediti sulla cultura contemporanea. \nOra d’Arte è un invito a unirsi a un circolo di curiosi e appassionati\, un’ora da trascorrere insieme in un vivace convivio\, un aperitivo fuori dagli schemi in cui le conversazioni si intrecciano in un’atmosfera informale e stimolante.\nDalla grafica alla pittura\, dalla fotografia alla scultura fino alla bibliofilia\, la rassegna è un’occasione d’incontro con artisti e idee che dialogano con il nostro tempo. \nLuigi Ghirri e Giandante X\, e ancora Luigi Serafini\, Paolo Ventura senza dimenticare la “premiata ditta” Bertozzi & Casoni: ogni serata invita a dialogare direttamente con i protagonisti e le autorevoli voci che ne hanno svelato il valore e la rilevanza. \nll Museo del Labirinto\, crocevia di incontri inconsueti\, si trasforma grazie agli arredi di design di Pedrali Spa in un accogliente salotto dove assaporare insieme il piacere della scoperta e del buon cibo\, con gustosi assaggi e le raffinate bollicine di Freccianera Fratelli Berlucchi ad accompagnare il brindisi. \nIl biglietto per il singolo appuntamento ha costo di €12\,00. La partecipazione è altrimenti inclusa nel biglietto d’ingresso al Labirinto della Masone per la giornata dell’incontro. È disponibile uno speciale carnet alla tariffa promozionale di €40\,00 per tutti e 5 gli aperitivi. Il biglietto include cibo e bevande serviti durante l’aperitivo.  Contatti  Tel. +39 0521 827081   labirinto@francomariaricci.com \n\n\n\nVenerdì 28 febbraio\, ore 18.00\nBERTOZZI & CASONI. Ceramica incantata. Visita alla mostra con Giampaolo Bertozzi e Tiziano Scarpa\n\n\n\n\n\nIn occasione del finissage della mostra “BERTOZZI & CASONI. Non è quel che sembra”\, l’artista Giampaolo Bertozzi ci conduce in visita tra le sue creazioni\, un “a tu per tu” non scontato e pieno di curiosità. Con lui lo scrittore Premio Strega Tiziano Scarpa\, che ispirato dalle opere ha immaginato le storie che queste sussurrano: per l’occasione ne leggerà alcune\, trasportandoci in un mondo di puro incanto. \n\n\n\n\n\nVenerdì 7 marzo\, ore 18.00\nLUIGI GHIRRI. Vita padana\, sguardo universale. Con Marco Belpoliti e Gino Ruozzi\n\n\n\n\n\nNon una riscoperta\, ma una celebrazione. Nessuno meglio di Luigi Ghirri\, maestro dello sguardo\, ha saputo esplorare con tale felicità il rapporto tra realtà\, percezione e rappresentazione attraverso la fotografia. Nella sua opera emerge una padanità poetica e intima\, fatta di luoghi\, oggetti e segni culturali quotidiani illuminati da una luce nuova. Su queste tracce si muovono Marco Belpoliti e Gino Ruozzi\, esperti conoscitori della sua opera e conterranei che hanno dedicato alle sue atmosfere padane attenzione\, saggi e rispetto. \nVenerdì 14 marzo\, ore 18.00 \n\n\n\nGIANDANTE X. Uno sconosciuto\, un mistero\, un artista da riscoprire. Con Roberto Farina e Antonio Riccardi\n\n\n\n\n\nGiandante\, chi era costui? Alla scoperta di Dante Pescò\, in arte Giandante X. Pittore\, scultore\, illustratore\, anarchico\, antifascista\, partigiano\, soprattutto un eterno viandante dalla biografia artistica ancora da rifinire. Ce lo raccontano Roberto Farina\, autore della più importante monografia documentata sull’artista\, e il poeta (e di poeti funzionario) Antonio Riccardi\, ammiratore di Giandante e capace di coglierne lo sguardo poetico sulle cose. \n\n\n\nSabato 29 marzo\, ore 18.00\nLUIGI SERAFINI. Codex Ininterrumptus. Con Luigi Serafini e Daniela Collu\n\n\n\n\n\nChi se non Serafini? L’autore di uno dei libri più enigmatici e affascinanti degli ultimi decenni\, artista poliedrico che ha legato la sua carriera al Codex che da lui prende il nome e che\, insieme a Franco Maria Ricci\, ha rivoluzionato l’arte contemporanea e l’idea stessa di libro d’arte. In occasione dell’apertura della mostra a lui dedicata al Labirinto\, Luigi Serafini ci svelerà i segreti che abitano il suo universo stralunato\, intervistato da un’ammiratrice d’eccezione: Daniela Collu. \n\n\n\nVenerdì 4 aprile\, ore 18.00\nPAOLO VENTURA. Un impostore fatto ad arte. Con Paolo Ventura e Laura Leonelli \n\n\n\n\n\nFotografie ritoccate\, città deserte\, nebbie agli irti colli\, travestimenti. Paolo Ventura ama sdoppiarsi e raccontarsi con la sua arte sbilenca in cui i personaggi che interpreta vivono storie fantastiche\, calate in realtà inafferrabili. Forse è proprio questo che ci comunica: l’opacità irreversibile dell’essere artisti\, quasi un’impostura\, come recita la sua autobiografia scritta insieme alla critica ed esperta di fotografia Laura Leonelli che qui lo accompagna nei sentieri delle sue mistificazioni.
URL:https://tabianoterme.it/event/ora-darte-salotti-contemporanei-per-spiriti-curiosi/2025-03-14/
LOCATION:Labirinto della Masone\, Strada Masone\, 121\, Fontanellato\, 43012
CATEGORIES:Arte e Cultura,Cultura,Rassegna
ATTACH;FMTTYPE=image/jpeg:https://tabianoterme.it/wp-content/uploads/2025/02/download-2.jpg
ORGANIZER;CN="Labirinto della Masone":MAILTO:labirinto@francomariaricci.com
END:VEVENT
BEGIN:VEVENT
DTSTART;TZID=Europe/Rome:20250325T210000
DTEND;TZID=Europe/Rome:20250325T210000
DTSTAMP:20260426T023322
CREATED:20250109T150445Z
LAST-MODIFIED:20250109T150445Z
UID:12598-1742936400-1742936400@tabianoterme.it
SUMMARY:Orazio al Teatro della Rosa di Pontremoli
DESCRIPTION:Il Teatro della Rosa di Pontremoli ospita il 25 marzo 2025 l’imperdibile spettacolo Orazio\, interpretato e diretto da Paolo Mazzarelli. Ispirato dall’Amleto di William Shakespeare\, lo spettacolo mette in scena un Orazio moderno: un antieroe\, alle prese con un amico in difficoltà e con la realtà che lo costringe in un ruolo di testimone. La commedia\, che mescola riflessioni sull’esistenza e momenti di grande umorismo\, offre uno spunto originale e contemporaneo sulla figura di Orazio e sulla condizione umana. \nLuogo: Teatro della Rosa\, Pontremoli (MS)\nData: Martedì 25 marzo 2025 \nPer informazioni:\nTelefono: 0187 43042\nEmail: info@teatrodellarosa.it\nSito web: www.teatrodellarosa.it
URL:https://tabianoterme.it/event/orazio-al-teatro-della-rosa-di-pontremoli/
LOCATION:Teatro della Rosa\, Via Ponte C. Battisti\, Pontremoli MS\, 54027\, Italia
CATEGORIES:Cultura,Intrattenimento,Spettacolo,Teatro
ATTACH;FMTTYPE=image/jpeg:https://tabianoterme.it/wp-content/uploads/2025/01/BLOG-4-6.jpg
ORGANIZER;CN="Castelli del Ducato":MAILTO:info@castellidelducato.it
END:VEVENT
BEGIN:VEVENT
DTSTART;VALUE=DATE:20250327
DTEND;VALUE=DATE:20250328
DTSTAMP:20260426T023322
CREATED:20250110T161658Z
LAST-MODIFIED:20250110T161658Z
UID:12641-1743033600-1743119999@tabianoterme.it
SUMMARY:Scopri il Castello di Contignaco
DESCRIPTION:Il Castello di Contignaco\, arroccato sulle colline di Salsomaggiore Terme\, è un luogo dove storia\, natura ed enogastronomia si incontrano. Costruito nell’XI secolo per proteggere le saline\, questo affascinante maniero ha ospitato persino il poeta Dante Alighieri\, secondo la leggenda. \nOggi il castello offre visite guidate alla scoperta delle sue antiche sale\, del mastio e del suggestivo cortile interno. È anche un tempio per gli amanti del buon vino\, con degustazioni di etichette pregiate prodotte nei vigneti circostanti\, accompagnate da eccellenze locali come il Parmigiano Reggiano. \nPerfetto per famiglie\, coppie e appassionati di storia\, il Castello di Contignaco regala un’esperienza unica e indimenticabile. Venite a scoprire il fascino senza tempo di questo gioiello medievale! \nQuando: Sabato\, domenica\, lunedì e festivi (visite guidate alle 11:00\, 15:30\, 17:30). \nPrenotazione obbligatoria:\n📧 castello.contignaco@gmail.com\n📞 +39 320 6126425 \nCosa puoi fare: \nVisite guidate: Un viaggio nel tempo tra storia\, leggende\, e architettura medievale.\nDegustazioni: Scopri i vini artigianali prodotti nella cantina del Castello\, accompagnati dai racconti dei proprietari.\nEventi speciali: Aperitivi\, mostre fotografiche\, cacce al tesoro a tema dantesco\, concerti e altro.\nEsplora la natura: Ammira l’antica quercia monumentale all’ingresso e la vista spettacolare sulla valle del torrente Ghiara.
URL:https://tabianoterme.it/event/scopri-il-castello-di-contignaco/2025-03-27/
LOCATION:Castello di Contignaco\, Via Contignaco Castello\, 125\, Salsomaggiore Terme\, 43039\, Italia
CATEGORIES:Arte e Cultura,Bambini e famiglie,Cultura
ATTACH;FMTTYPE=image/jpeg:https://tabianoterme.it/wp-content/uploads/2025/01/contignaco.jpg
ORGANIZER;CN="Castello di Contignaco":MAILTO:castello.contignaco@gmail.com
END:VEVENT
BEGIN:VEVENT
DTSTART;VALUE=DATE:20250329
DTEND;VALUE=DATE:20250330
DTSTAMP:20260426T023322
CREATED:20250203T111324Z
LAST-MODIFIED:20250203T111324Z
UID:12815-1743206400-1743292799@tabianoterme.it
SUMMARY:ORA D'ARTE  Salotti contemporanei per spiriti curiosi
DESCRIPTION:Cinque appuntamenti serali ideati in collaborazione con Stefano Salis\, a partire da venerdì 28 febbraio\, per scoprire e riscoprire storie\, personaggi e temi che sfuggono alle narrazioni più scontate e aprono sguardi inediti sulla cultura contemporanea. \nOra d’Arte è un invito a unirsi a un circolo di curiosi e appassionati\, un’ora da trascorrere insieme in un vivace convivio\, un aperitivo fuori dagli schemi in cui le conversazioni si intrecciano in un’atmosfera informale e stimolante.\nDalla grafica alla pittura\, dalla fotografia alla scultura fino alla bibliofilia\, la rassegna è un’occasione d’incontro con artisti e idee che dialogano con il nostro tempo. \nLuigi Ghirri e Giandante X\, e ancora Luigi Serafini\, Paolo Ventura senza dimenticare la “premiata ditta” Bertozzi & Casoni: ogni serata invita a dialogare direttamente con i protagonisti e le autorevoli voci che ne hanno svelato il valore e la rilevanza. \nll Museo del Labirinto\, crocevia di incontri inconsueti\, si trasforma grazie agli arredi di design di Pedrali Spa in un accogliente salotto dove assaporare insieme il piacere della scoperta e del buon cibo\, con gustosi assaggi e le raffinate bollicine di Freccianera Fratelli Berlucchi ad accompagnare il brindisi. \nIl biglietto per il singolo appuntamento ha costo di €12\,00. La partecipazione è altrimenti inclusa nel biglietto d’ingresso al Labirinto della Masone per la giornata dell’incontro. È disponibile uno speciale carnet alla tariffa promozionale di €40\,00 per tutti e 5 gli aperitivi. Il biglietto include cibo e bevande serviti durante l’aperitivo.  Contatti  Tel. +39 0521 827081   labirinto@francomariaricci.com \n\n\n\nVenerdì 28 febbraio\, ore 18.00\nBERTOZZI & CASONI. Ceramica incantata. Visita alla mostra con Giampaolo Bertozzi e Tiziano Scarpa\n\n\n\n\n\nIn occasione del finissage della mostra “BERTOZZI & CASONI. Non è quel che sembra”\, l’artista Giampaolo Bertozzi ci conduce in visita tra le sue creazioni\, un “a tu per tu” non scontato e pieno di curiosità. Con lui lo scrittore Premio Strega Tiziano Scarpa\, che ispirato dalle opere ha immaginato le storie che queste sussurrano: per l’occasione ne leggerà alcune\, trasportandoci in un mondo di puro incanto. \n\n\n\n\n\nVenerdì 7 marzo\, ore 18.00\nLUIGI GHIRRI. Vita padana\, sguardo universale. Con Marco Belpoliti e Gino Ruozzi\n\n\n\n\n\nNon una riscoperta\, ma una celebrazione. Nessuno meglio di Luigi Ghirri\, maestro dello sguardo\, ha saputo esplorare con tale felicità il rapporto tra realtà\, percezione e rappresentazione attraverso la fotografia. Nella sua opera emerge una padanità poetica e intima\, fatta di luoghi\, oggetti e segni culturali quotidiani illuminati da una luce nuova. Su queste tracce si muovono Marco Belpoliti e Gino Ruozzi\, esperti conoscitori della sua opera e conterranei che hanno dedicato alle sue atmosfere padane attenzione\, saggi e rispetto. \nVenerdì 14 marzo\, ore 18.00 \n\n\n\nGIANDANTE X. Uno sconosciuto\, un mistero\, un artista da riscoprire. Con Roberto Farina e Antonio Riccardi\n\n\n\n\n\nGiandante\, chi era costui? Alla scoperta di Dante Pescò\, in arte Giandante X. Pittore\, scultore\, illustratore\, anarchico\, antifascista\, partigiano\, soprattutto un eterno viandante dalla biografia artistica ancora da rifinire. Ce lo raccontano Roberto Farina\, autore della più importante monografia documentata sull’artista\, e il poeta (e di poeti funzionario) Antonio Riccardi\, ammiratore di Giandante e capace di coglierne lo sguardo poetico sulle cose. \n\n\n\nSabato 29 marzo\, ore 18.00\nLUIGI SERAFINI. Codex Ininterrumptus. Con Luigi Serafini e Daniela Collu\n\n\n\n\n\nChi se non Serafini? L’autore di uno dei libri più enigmatici e affascinanti degli ultimi decenni\, artista poliedrico che ha legato la sua carriera al Codex che da lui prende il nome e che\, insieme a Franco Maria Ricci\, ha rivoluzionato l’arte contemporanea e l’idea stessa di libro d’arte. In occasione dell’apertura della mostra a lui dedicata al Labirinto\, Luigi Serafini ci svelerà i segreti che abitano il suo universo stralunato\, intervistato da un’ammiratrice d’eccezione: Daniela Collu. \n\n\n\nVenerdì 4 aprile\, ore 18.00\nPAOLO VENTURA. Un impostore fatto ad arte. Con Paolo Ventura e Laura Leonelli \n\n\n\n\n\nFotografie ritoccate\, città deserte\, nebbie agli irti colli\, travestimenti. Paolo Ventura ama sdoppiarsi e raccontarsi con la sua arte sbilenca in cui i personaggi che interpreta vivono storie fantastiche\, calate in realtà inafferrabili. Forse è proprio questo che ci comunica: l’opacità irreversibile dell’essere artisti\, quasi un’impostura\, come recita la sua autobiografia scritta insieme alla critica ed esperta di fotografia Laura Leonelli che qui lo accompagna nei sentieri delle sue mistificazioni.
URL:https://tabianoterme.it/event/ora-darte-salotti-contemporanei-per-spiriti-curiosi/2025-03-29/
LOCATION:Labirinto della Masone\, Strada Masone\, 121\, Fontanellato\, 43012
CATEGORIES:Arte e Cultura,Cultura,Rassegna
ATTACH;FMTTYPE=image/jpeg:https://tabianoterme.it/wp-content/uploads/2025/02/download-2.jpg
ORGANIZER;CN="Labirinto della Masone":MAILTO:labirinto@francomariaricci.com
END:VEVENT
END:VCALENDAR