BEGIN:VCALENDAR
VERSION:2.0
PRODID:-//Tabiano terme - ECPv6.15.11//NONSGML v1.0//EN
CALSCALE:GREGORIAN
METHOD:PUBLISH
X-ORIGINAL-URL:https://tabianoterme.it
X-WR-CALDESC:Eventi per Tabiano terme
REFRESH-INTERVAL;VALUE=DURATION:PT1H
X-Robots-Tag:noindex
X-PUBLISHED-TTL:PT1H
BEGIN:VTIMEZONE
TZID:Europe/Rome
BEGIN:DAYLIGHT
TZOFFSETFROM:+0100
TZOFFSETTO:+0200
TZNAME:CEST
DTSTART:20240331T010000
END:DAYLIGHT
BEGIN:STANDARD
TZOFFSETFROM:+0200
TZOFFSETTO:+0100
TZNAME:CET
DTSTART:20241027T010000
END:STANDARD
BEGIN:DAYLIGHT
TZOFFSETFROM:+0100
TZOFFSETTO:+0200
TZNAME:CEST
DTSTART:20250330T010000
END:DAYLIGHT
BEGIN:STANDARD
TZOFFSETFROM:+0200
TZOFFSETTO:+0100
TZNAME:CET
DTSTART:20251026T010000
END:STANDARD
BEGIN:DAYLIGHT
TZOFFSETFROM:+0100
TZOFFSETTO:+0200
TZNAME:CEST
DTSTART:20260329T010000
END:DAYLIGHT
BEGIN:STANDARD
TZOFFSETFROM:+0200
TZOFFSETTO:+0100
TZNAME:CET
DTSTART:20261025T010000
END:STANDARD
END:VTIMEZONE
BEGIN:VEVENT
DTSTART;VALUE=DATE:20250201
DTEND;VALUE=DATE:20250202
DTSTAMP:20260426T053755
CREATED:20250115T103541Z
LAST-MODIFIED:20250115T103541Z
UID:12688-1738368000-1738454399@tabianoterme.it
SUMMARY:Visita il Museo del Tartufo di Fragno: fai un Viaggio nel Mistero e nel Gusto
DESCRIPTION:Il Museo del Tartufo di Fragno\, situato a Calestano nel Municipio storico\, offre un’esperienza unica alla scoperta del tartufo e delle sue tradizioni. Allestito in un ambiente che conserva le antiche strutture in pietra\, il museo propone un percorso interattivo che coinvolge i visitatori in un viaggio sensoriale\, con tecnologie avanzate\, proiezioni immersive e un grande touchscreen che esplora la gastronomia del tartufo. Inoltre\, grazie a una “mappa criptata”\, i visitatori sono invitati a partecipare a una caccia al tartufo all’interno del museo. \nOrganizzato dai Musei del Cibo della Provincia di Parma\, con il supporto di Fondazione Cariparma e Barilla\, il Museo del Tartufo è una tappa imperdibile per chi visita Tabiano Terme e desidera esplorare la tradizione gastronomica della “food valley” parmigiana. \nUn’esperienza didattica che stimola curiosità e sensi\, per scoprire la storia\, la botanica e le tradizioni legate a questo pregiato prodotto. Il museo è aperto tutto l’anno\, con orari variabili. \nDove: Museo del Tartufo di Fragno\nCalestano (PR)\, all’interno del Municipio. \nE-mail: prenotazioni.tartufo@museidelcibo.it
URL:https://tabianoterme.it/event/visita-il-museo-del-tartufo-di-fragno-fai-un-viaggio-nel-mistero-e-nel-gusto/
LOCATION:Museo del Tartufo di Fragno\, Via Maschi\, 2\, Calestano PR\, 43030\, Italia
CATEGORIES:Cultura,Enogastronomia,Museo
ATTACH;FMTTYPE=image/jpeg:https://tabianoterme.it/wp-content/uploads/2025/01/BLOG-4-17.jpg
ORGANIZER;CN="Musei del Cibo della Provincia di Parma":MAILTO:info@museidelcibo.it
END:VEVENT
BEGIN:VEVENT
DTSTART;VALUE=DATE:20250213
DTEND;VALUE=DATE:20250214
DTSTAMP:20260426T053755
CREATED:20250110T204428Z
LAST-MODIFIED:20250110T204428Z
UID:12647-1739404800-1739491199@tabianoterme.it
SUMMARY:Scopri il Castello di Tabiano
DESCRIPTION:Immerso tra le colline di Salsomaggiore Terme\, il Castello di Tabiano ti invita a vivere un’esperienza unica tra storia\, arte e relax. Edificato oltre mille anni fa\, il castello si erge maestoso su un pianoro panoramico\, un tempo utilizzato per sorvegliare i preziosi pozzi di sale. \nOggi puoi esplorare i suoi eleganti saloni affrescati\, le suggestive cantine medievali e le terrazze con una vista mozzafiato che spazia fino alle Alpi. Accanto al castello si trova l’Antico Borgo di Tabiano Castello\, trasformato in un esclusivo Relais de Charme\, e il ristorante Il Caseificio\, dove assaporare i prodotti del territorio. \nNon perdere l’occasione di immergerti in un viaggio nel tempo in una delle più affascinanti fortezze dell’Appennino Tosco-Emiliano: le visite guidate sono disponibili tutto l’anno\, con prenotazione consigliata. \n📍 Dove: Via Castello\, 1\, Frazione Tabiano Castello\, Salsomaggiore Terme (PR).\n📅 Quando: Controlla orari e disponibilità sul sito ufficiale o sui canali social.
URL:https://tabianoterme.it/event/scopri-il-castello-di-tabiano/2025-02-13/
LOCATION:Castello di Tabiano\, Via Castello\, Salsomaggiore Terme\, 43039
CATEGORIES:Arte e Cultura,Cultura,Storia
ATTACH;FMTTYPE=image/jpeg:https://tabianoterme.it/wp-content/uploads/2025/01/termecastello_di_tabiano.jpg
ORGANIZER;CN="Castelli del Ducato":MAILTO:info@castellidelducato.it
END:VEVENT
BEGIN:VEVENT
DTSTART;VALUE=DATE:20250214
DTEND;VALUE=DATE:20250216
DTSTAMP:20260426T053755
CREATED:20250109T135319Z
LAST-MODIFIED:20250109T135319Z
UID:12529-1739491200-1739663999@tabianoterme.it
SUMMARY:Visita Guidata al Castello di Rivalta a Lume di Candela
DESCRIPTION:Il Castello di Rivalta si trasforma in un luogo di pura magia per celebrare San Valentino con proposte romantiche che uniscono storia\, atmosfera e momenti di relax. Vivi un’esperienza indimenticabile con la persona che ami in una cornice unica e suggestiva: un viaggio nel tempo in un’ambientazione illuminata dalle fioche luci delle candele. \nIl percorso\, adatto a tutte le età\, include: \nLa facciata e il cortile. \nGli interni con il salone\, la sala da pranzo\, la cucina\, le cantine e le prigioni sotterranee. \nL’area museale\, con esposizioni dedicate alla Battaglia di Lepanto\, arte sacra ed esplorazioni. \nCamere da letto storiche\, accompagnate da leggende\, curiosità e racconti delle vite di chi vi ha abitato. \nUn’esposizione di divise militari e una sezione dedicata alla vita nel Medioevo. \n  \nQuando: Venerdì 14 e Sabato 15 Febbraio 2025\, alle ore 19:00. \nDove: Castello di Rivalta\, Rivalta (PC). \n  \nInformazioni e Prenotazioni: \nEmail: info@castellodirivalta.it
URL:https://tabianoterme.it/event/visita-guidata-al-castello-di-rivalta-a-lume-di-candela/
LOCATION:Castello di Rivalta\, Località Rivalta\, 29010 Gazzola (PC)\, Emilia-Romagna\, Italia
CATEGORIES:Cultura,Storia,Visita guidata
ATTACH;FMTTYPE=image/png:https://tabianoterme.it/wp-content/uploads/2025/01/BLOG-4.png
ORGANIZER;CN="Castelli del Ducato":MAILTO:info@castellidelducato.it
END:VEVENT
BEGIN:VEVENT
DTSTART;TZID=Europe/Rome:20250223T160000
DTEND;TZID=Europe/Rome:20250223T173000
DTSTAMP:20260426T053755
CREATED:20250109T135226Z
LAST-MODIFIED:20250109T135226Z
UID:12554-1740326400-1740331800@tabianoterme.it
SUMMARY:Sughero e sorrisi al Museo Il Correggio
DESCRIPTION:Domenica 23 febbraio 2025\, dalle ore 16.00 alle ore 17.30\, il Museo Civico “Il Correggio” di Correggio invita grandi e piccini a partecipare a un laboratorio creativo dal titolo “Sughero e sorrisi”\, pensato per bambini dai 3 ai 10 anni. In questo divertente evento\, i partecipanti avranno l’opportunità di creare simpatici burattini utilizzando tappi di sughero\, fili di ferro e stoffa\, ispirandosi alla varietà di volti rappresentati nei dipinti settecenteschi custoditi nel museo. \nUn’occasione imperdibile per stimolare la creatività dei più piccoli in un ambiente ricco di storia e arte! \nL’evento si terrà anche in caso di mal tempo. Il Museo è facilmente raggiungibile con i mezzi pubblici e in automobile\, con comodi parcheggi nelle vicinanze (Corso Cavour e Piazza San Quirino)\, e l’area camper più vicina si trova in via Fazzano 5. \nPer partecipare\, è necessario prenotare via e-mail a museo@comune.correggio.re.it o telefonicamente al numero 0522 691806. \nQuando: Domenica 23 febbraio 2025\, dalle ore 16.00 alle 17.30\nDove: Palazzo dei Principi\, Museo Il Correggio\, Corso Cavour 7\, Correggio (RE)
URL:https://tabianoterme.it/event/sughero-e-sorrisi-al-museo-il-correggio/
LOCATION:Museo Civico “Il Correggio”\, Corso Cavour 7\, Correggio (RE)\, 429015\, Italia
CATEGORIES:Bambini e famiglie,Cultura,Intrattenimento
ATTACH;FMTTYPE=image/jpeg:https://tabianoterme.it/wp-content/uploads/2025/01/BLOG-4-4.jpg
ORGANIZER;CN="Museo Civico 'Il Correggio'":MAILTO:museo@comune.correggio.re.it
END:VEVENT
BEGIN:VEVENT
DTSTART;VALUE=DATE:20250227
DTEND;VALUE=DATE:20250228
DTSTAMP:20260426T053755
CREATED:20250110T161658Z
LAST-MODIFIED:20250110T161658Z
UID:12640-1740614400-1740700799@tabianoterme.it
SUMMARY:Scopri il Castello di Contignaco
DESCRIPTION:Il Castello di Contignaco\, arroccato sulle colline di Salsomaggiore Terme\, è un luogo dove storia\, natura ed enogastronomia si incontrano. Costruito nell’XI secolo per proteggere le saline\, questo affascinante maniero ha ospitato persino il poeta Dante Alighieri\, secondo la leggenda. \nOggi il castello offre visite guidate alla scoperta delle sue antiche sale\, del mastio e del suggestivo cortile interno. È anche un tempio per gli amanti del buon vino\, con degustazioni di etichette pregiate prodotte nei vigneti circostanti\, accompagnate da eccellenze locali come il Parmigiano Reggiano. \nPerfetto per famiglie\, coppie e appassionati di storia\, il Castello di Contignaco regala un’esperienza unica e indimenticabile. Venite a scoprire il fascino senza tempo di questo gioiello medievale! \nQuando: Sabato\, domenica\, lunedì e festivi (visite guidate alle 11:00\, 15:30\, 17:30). \nPrenotazione obbligatoria:\n📧 castello.contignaco@gmail.com\n📞 +39 320 6126425 \nCosa puoi fare: \nVisite guidate: Un viaggio nel tempo tra storia\, leggende\, e architettura medievale.\nDegustazioni: Scopri i vini artigianali prodotti nella cantina del Castello\, accompagnati dai racconti dei proprietari.\nEventi speciali: Aperitivi\, mostre fotografiche\, cacce al tesoro a tema dantesco\, concerti e altro.\nEsplora la natura: Ammira l’antica quercia monumentale all’ingresso e la vista spettacolare sulla valle del torrente Ghiara.
URL:https://tabianoterme.it/event/scopri-il-castello-di-contignaco/2025-02-27/
LOCATION:Castello di Contignaco\, Via Contignaco Castello\, 125\, Salsomaggiore Terme\, 43039\, Italia
CATEGORIES:Arte e Cultura,Bambini e famiglie,Cultura
ATTACH;FMTTYPE=image/jpeg:https://tabianoterme.it/wp-content/uploads/2025/01/contignaco.jpg
ORGANIZER;CN="Castello di Contignaco":MAILTO:castello.contignaco@gmail.com
END:VEVENT
BEGIN:VEVENT
DTSTART;VALUE=DATE:20250228
DTEND;VALUE=DATE:20250301
DTSTAMP:20260426T053755
CREATED:20250203T111324Z
LAST-MODIFIED:20250203T111324Z
UID:12803-1740700800-1740787199@tabianoterme.it
SUMMARY:ORA D'ARTE  Salotti contemporanei per spiriti curiosi
DESCRIPTION:Cinque appuntamenti serali ideati in collaborazione con Stefano Salis\, a partire da venerdì 28 febbraio\, per scoprire e riscoprire storie\, personaggi e temi che sfuggono alle narrazioni più scontate e aprono sguardi inediti sulla cultura contemporanea. \nOra d’Arte è un invito a unirsi a un circolo di curiosi e appassionati\, un’ora da trascorrere insieme in un vivace convivio\, un aperitivo fuori dagli schemi in cui le conversazioni si intrecciano in un’atmosfera informale e stimolante.\nDalla grafica alla pittura\, dalla fotografia alla scultura fino alla bibliofilia\, la rassegna è un’occasione d’incontro con artisti e idee che dialogano con il nostro tempo. \nLuigi Ghirri e Giandante X\, e ancora Luigi Serafini\, Paolo Ventura senza dimenticare la “premiata ditta” Bertozzi & Casoni: ogni serata invita a dialogare direttamente con i protagonisti e le autorevoli voci che ne hanno svelato il valore e la rilevanza. \nll Museo del Labirinto\, crocevia di incontri inconsueti\, si trasforma grazie agli arredi di design di Pedrali Spa in un accogliente salotto dove assaporare insieme il piacere della scoperta e del buon cibo\, con gustosi assaggi e le raffinate bollicine di Freccianera Fratelli Berlucchi ad accompagnare il brindisi. \nIl biglietto per il singolo appuntamento ha costo di €12\,00. La partecipazione è altrimenti inclusa nel biglietto d’ingresso al Labirinto della Masone per la giornata dell’incontro. È disponibile uno speciale carnet alla tariffa promozionale di €40\,00 per tutti e 5 gli aperitivi. Il biglietto include cibo e bevande serviti durante l’aperitivo.  Contatti  Tel. +39 0521 827081   labirinto@francomariaricci.com \n\n\n\nVenerdì 28 febbraio\, ore 18.00\nBERTOZZI & CASONI. Ceramica incantata. Visita alla mostra con Giampaolo Bertozzi e Tiziano Scarpa\n\n\n\n\n\nIn occasione del finissage della mostra “BERTOZZI & CASONI. Non è quel che sembra”\, l’artista Giampaolo Bertozzi ci conduce in visita tra le sue creazioni\, un “a tu per tu” non scontato e pieno di curiosità. Con lui lo scrittore Premio Strega Tiziano Scarpa\, che ispirato dalle opere ha immaginato le storie che queste sussurrano: per l’occasione ne leggerà alcune\, trasportandoci in un mondo di puro incanto. \n\n\n\n\n\nVenerdì 7 marzo\, ore 18.00\nLUIGI GHIRRI. Vita padana\, sguardo universale. Con Marco Belpoliti e Gino Ruozzi\n\n\n\n\n\nNon una riscoperta\, ma una celebrazione. Nessuno meglio di Luigi Ghirri\, maestro dello sguardo\, ha saputo esplorare con tale felicità il rapporto tra realtà\, percezione e rappresentazione attraverso la fotografia. Nella sua opera emerge una padanità poetica e intima\, fatta di luoghi\, oggetti e segni culturali quotidiani illuminati da una luce nuova. Su queste tracce si muovono Marco Belpoliti e Gino Ruozzi\, esperti conoscitori della sua opera e conterranei che hanno dedicato alle sue atmosfere padane attenzione\, saggi e rispetto. \nVenerdì 14 marzo\, ore 18.00 \n\n\n\nGIANDANTE X. Uno sconosciuto\, un mistero\, un artista da riscoprire. Con Roberto Farina e Antonio Riccardi\n\n\n\n\n\nGiandante\, chi era costui? Alla scoperta di Dante Pescò\, in arte Giandante X. Pittore\, scultore\, illustratore\, anarchico\, antifascista\, partigiano\, soprattutto un eterno viandante dalla biografia artistica ancora da rifinire. Ce lo raccontano Roberto Farina\, autore della più importante monografia documentata sull’artista\, e il poeta (e di poeti funzionario) Antonio Riccardi\, ammiratore di Giandante e capace di coglierne lo sguardo poetico sulle cose. \n\n\n\nSabato 29 marzo\, ore 18.00\nLUIGI SERAFINI. Codex Ininterrumptus. Con Luigi Serafini e Daniela Collu\n\n\n\n\n\nChi se non Serafini? L’autore di uno dei libri più enigmatici e affascinanti degli ultimi decenni\, artista poliedrico che ha legato la sua carriera al Codex che da lui prende il nome e che\, insieme a Franco Maria Ricci\, ha rivoluzionato l’arte contemporanea e l’idea stessa di libro d’arte. In occasione dell’apertura della mostra a lui dedicata al Labirinto\, Luigi Serafini ci svelerà i segreti che abitano il suo universo stralunato\, intervistato da un’ammiratrice d’eccezione: Daniela Collu. \n\n\n\nVenerdì 4 aprile\, ore 18.00\nPAOLO VENTURA. Un impostore fatto ad arte. Con Paolo Ventura e Laura Leonelli \n\n\n\n\n\nFotografie ritoccate\, città deserte\, nebbie agli irti colli\, travestimenti. Paolo Ventura ama sdoppiarsi e raccontarsi con la sua arte sbilenca in cui i personaggi che interpreta vivono storie fantastiche\, calate in realtà inafferrabili. Forse è proprio questo che ci comunica: l’opacità irreversibile dell’essere artisti\, quasi un’impostura\, come recita la sua autobiografia scritta insieme alla critica ed esperta di fotografia Laura Leonelli che qui lo accompagna nei sentieri delle sue mistificazioni.
URL:https://tabianoterme.it/event/ora-darte-salotti-contemporanei-per-spiriti-curiosi/2025-02-28/
LOCATION:Labirinto della Masone\, Strada Masone\, 121\, Fontanellato\, 43012
CATEGORIES:Arte e Cultura,Cultura,Rassegna
ATTACH;FMTTYPE=image/jpeg:https://tabianoterme.it/wp-content/uploads/2025/02/download-2.jpg
ORGANIZER;CN="Labirinto della Masone":MAILTO:labirinto@francomariaricci.com
END:VEVENT
END:VCALENDAR