BEGIN:VCALENDAR
VERSION:2.0
PRODID:-//Tabiano terme - ECPv6.15.11//NONSGML v1.0//EN
CALSCALE:GREGORIAN
METHOD:PUBLISH
X-WR-CALNAME:Tabiano terme
X-ORIGINAL-URL:https://tabianoterme.it
X-WR-CALDESC:Eventi per Tabiano terme
REFRESH-INTERVAL;VALUE=DURATION:PT1H
X-Robots-Tag:noindex
X-PUBLISHED-TTL:PT1H
BEGIN:VTIMEZONE
TZID:Europe/Rome
BEGIN:DAYLIGHT
TZOFFSETFROM:+0100
TZOFFSETTO:+0200
TZNAME:CEST
DTSTART:20200329T010000
END:DAYLIGHT
BEGIN:STANDARD
TZOFFSETFROM:+0200
TZOFFSETTO:+0100
TZNAME:CET
DTSTART:20201025T010000
END:STANDARD
BEGIN:DAYLIGHT
TZOFFSETFROM:+0100
TZOFFSETTO:+0200
TZNAME:CEST
DTSTART:20210328T010000
END:DAYLIGHT
BEGIN:STANDARD
TZOFFSETFROM:+0200
TZOFFSETTO:+0100
TZNAME:CET
DTSTART:20211031T010000
END:STANDARD
BEGIN:DAYLIGHT
TZOFFSETFROM:+0100
TZOFFSETTO:+0200
TZNAME:CEST
DTSTART:20220327T010000
END:DAYLIGHT
BEGIN:STANDARD
TZOFFSETFROM:+0200
TZOFFSETTO:+0100
TZNAME:CET
DTSTART:20221030T010000
END:STANDARD
BEGIN:DAYLIGHT
TZOFFSETFROM:+0100
TZOFFSETTO:+0200
TZNAME:CEST
DTSTART:20230326T010000
END:DAYLIGHT
BEGIN:STANDARD
TZOFFSETFROM:+0200
TZOFFSETTO:+0100
TZNAME:CET
DTSTART:20231029T010000
END:STANDARD
END:VTIMEZONE
BEGIN:VEVENT
DTSTART;TZID=Europe/Rome:20220630T210000
DTEND;TZID=Europe/Rome:20220630T210000
DTSTAMP:20260424T064706
CREATED:20220630T095940Z
LAST-MODIFIED:20220630T124200Z
UID:10590-1656622800-1656622800@tabianoterme.it
SUMMARY:Fidenza Village Sound Festival: Coma-Cose
DESCRIPTION:Giovedì 30 giugno\nPalco principale alle Ore 21.00 \nComa_Cose \nOpening dj set Richi \nVuoi incontrare i Coma_Cose? Iscriviti a membership e scrivici a FVevents@fidenzavillage.com i primi 40 iscritti potranno incontrarli dalle 22 alle 22.30. \nPostazione EST DJ set  Dalle 18.30: \nMillgates & PrezBeat e Tincan \nPostazione OVEST DJ set  Dalle 18.30: \nTeeepeee e TODAY \nIngresso gratuito\, fino esaurimento posti. \nI Coma_Cose sono Fausto Lama e California. Un duo nato nel 2016\, che mischia vissuto e gusto sonoro urbano a una poetica cantautorale. Nel 2017 pubblicano i primi quattro brani e lanciano il loro primo EP-manifesto: il risultato di pubblico e critica è esplosivo. In soli 12 mesi i Coma_Cose cominciano a passare in radio e chiudono il 2018 con un centinaio di concerti all’attivo. Nel 2019 esce il loro primo disco “HYPE AURA” e suonano a Parigi e allo Sziget Festival di Budapest. \nOttenute le prime certificazioni FIMI (“Post Concerto” e “MANCARSI” sono dischi d’oro) i Coma_Cose cominciano il 2020 all’insegna delle collaborazioni\, duettano con i Subsonica e Francesca Michielin e insieme al produttore Stabber danno vita ad un nuovo EP: “DUE”. \nNel 2021 partecipano alla 71a edizione del Festival di Sanremo incantando con il brano Fiamme negli occhi\, che diventa singolo d’oro in sole tre settimane e ad oggi certificato doppio platino. Il singolo è contenuto nel loro ultimo album – “Nostralgia” – pubblicato ad aprile 2021. \nFonte testo: fidenzavillage.it \n 
URL:https://tabianoterme.it/event/i-coma-cose-al-fidenza-village-a-fidenza/
LOCATION:Fidenza village\, Via Federico Fellini\, 1\, Fidenza\, PR\, 43036\, Italia
CATEGORIES:Concerto,Musica
ATTACH;FMTTYPE=image/jpeg:https://tabianoterme.it/wp-content/uploads/2022/06/Cose2-kGMB-U31207618741560o-1224x916@Corriere-Web-Sezioni-593x443-1.jpg
ORGANIZER;CN="fidenza village":MAILTO:freception@valueretail.com
END:VEVENT
BEGIN:VEVENT
DTSTART;TZID=Europe/Rome:20220615T210000
DTEND;TZID=Europe/Rome:20220615T210000
DTSTAMP:20260424T064706
CREATED:20220606T134645Z
LAST-MODIFIED:20220606T134645Z
UID:10331-1655326800-1655326800@tabianoterme.it
SUMMARY:Simone Cristicchi e Amara in concerto a Salsomaggiore Terme
DESCRIPTION:“Torneremo ancora” concerto mistico per Battiato – 15 giugno 2022 – Ore 21.00\nPinko Arena\, Salsomaggiore Terme \nCon:\nSimone Cristicchi\nAmara\nValter Sivilotti\, pianoforte\, arrangiamenti e direzione musicale\nI solisti della Accademia Naonis di Pordenone\nLucia Clonfero\, violino\nIgor Dario\, viola\nAlan Dario\, violoncello\nU.T. Gandhi\, percussioni\nFranca Drioli\, soprano \nPochi sono quegli artisti che con le loro opere riescono a “cucire” terra e cielo\, raggiungendo la rara armonia capace di risvegliare e accarezzare l’anima.\nFranco Battiato\, pellegrino dell’Assoluto e rivoluzionario della musica\, ha lasciato un’eredità preziosa in cui alla forma/canzone si sposa alchemicamente una profonda tensione spirituale: dalla preghiera universale “L’ombra della Luce” alla struggente “La cura”; da “E ti vengo a cercare” fino all’ultimo brano inciso “Torneremo ancora”\, che dà il titolo al concerto. \nAd alternare l’esecuzione dei brani – nella nuovissima veste arrangiata dal Maestro Valter Sivilotti – faranno da guida alcune letture tratte dai maestri che hanno influenzato il pensiero di Battiato: Rumi\, Gurdjieff\, Ramana Maharshi\, Willigis Jager e il teologo Guidalberto Bormolini.\nIl concerto mistico “Torneremo ancora”\, lontano da una sterile celebrazione\, vuole essere liturgia musicale sulle tracce dell’insondabile mistero dell’Essere davanti al Divino. Un viaggio musicale che è ricerca dell’essenza nella confusione della modernità\, e “rapimento mistico e sensuale” tanto necessario in questo tempo in cui viviamo. \nprevendita disponibile presso:\nIAT Fidenza Village – 0524 335556\nIAT Salsomaggiore Terme – 0524 580211 \nFonte testo e foto: teatronuovosalsomaggiore.com
URL:https://tabianoterme.it/event/simone-cristicchi-e-amara-in-concerto-a-salsomaggiore-terme/
LOCATION:Arena Estiva Parco Mazzini\, Parco Mazzini\, Salsomaggiore Terme\, Parma\, 43039
CATEGORIES:Concerto
ATTACH;FMTTYPE=image/png:https://tabianoterme.it/wp-content/uploads/2022/06/amara-cristicchi-15-giugno-2022-salsomaggiore.png
END:VEVENT
BEGIN:VEVENT
DTSTART;TZID=Europe/Rome:20220507T210000
DTEND;TZID=Europe/Rome:20220507T210000
DTSTAMP:20260424T064706
CREATED:20220419T100125Z
LAST-MODIFIED:20220419T100125Z
UID:10171-1651957200-1651957200@tabianoterme.it
SUMMARY:Fabio Concato in concerto al Teatro Nuovo di Salsomaggiore Terme
DESCRIPTION:FABIO CONCATO in concerto – sabato 7 maggio ore 21 al Teatro Nuovo di Salsomaggiore Terme \nFabio Concato uno dei pochi cantanti italiani che ha una “stretta familiarità” con il jazz\, per la sua caratteristica armonia musicale\, proporrà un concerto improntato sulla musica e sulla parola\, tra il serio ed il faceto. \nNel lungo viaggio dal 1977 (anno del suo esordio discografico) ad oggi\, il pubblico ha subito compreso di avere a che fare con un autore elegante\, capace di grande autoironia\, sempre attento alle tematiche ambientali\, sociali e civili: le sue canzoni sono entrate nella storia della musica italiana e ci hanno accompagnato sin qui\, senza mostrare i segni del tempo\, anzi cristallizzando emozioni e versi entrati nell’immaginario collettivo. \nSarà l’occasione per ascoltare non solo i grandi “successi”\, ma anche tanti altri brani del suo ricco repertorio di oltre 40 anni di carriera\, senza dimostrarli affatto! \n“Domenica bestiale”\, “Fiore di Maggio”\, “Guido piano”\, “Rosalina”\, “051222525”\,” Sexi tango”\, “Gigi”\, fino ai singoli dell’ultimo album uscito nel 2012 Tutto qua\, queste alcune delle canzoni del concerto (nel quale non mancheranno altre gradite sorprese…) riproposte con nuovi arrangiamenti e scelte secondo i temi più cari all’Artista. Un bel viaggio al centro del cuore e del cervello. \nIl repertorio viene riproposto con grande energia e complicità\, assieme agli stessi musicisti che hanno contribuito alla realizzazione dell’album stesso: Ornella D’Urbano (arrangiamenti\, piano e tastiere)\, Stefano Casali (basso)\, Larry Tomassini (chitarre) e Gabriele Palazzi (batteria). \nInfo e prevendita:\nIAT Salsomaggiore Terme 0524 580211\nIAT R Fidenza Village 0524 335556\nOnline su Boxol
URL:https://tabianoterme.it/event/fabio-concato-in-concerto-al-teatro-nuovo-di-salsomaggiore-terme/
LOCATION:Teatro Nuovo di Salsomaggiore Terme\, Viale Giandomenico Romagnosi\, 24\, Salsomaggiore Terme\, 43039
CATEGORIES:Concerto
ATTACH;FMTTYPE=image/jpeg:https://tabianoterme.it/wp-content/uploads/2022/04/concato.jpeg
END:VEVENT
BEGIN:VEVENT
DTSTART;TZID=Europe/Rome:20220430T204500
DTEND;TZID=Europe/Rome:20220430T204500
DTSTAMP:20260424T064706
CREATED:20220420T082414Z
LAST-MODIFIED:20220420T082414Z
UID:10222-1651351500-1651351500@tabianoterme.it
SUMMARY:Chorus Verona in concerto a Salsomaggiore Terme
DESCRIPTION:Grande concerto del Gruppo Ritmico corale Chorus di Verona organizzato da Proloco di Salsomaggiore nella Chiesa di San Vitale – 30 aprile 2022 ore 20.45 \nCHORUS è un gruppo corale e strumentale nato nel 1995 diretto da Carlo Bennati. Il gruppo è attualmente composto da una cinquantina di coristi e 2 strumentisti: Roberto Maschi alla batteria e Fabio Furlan al pianoforte.\nFin dalle origini\, con ampio anticipo sulla dilagante moda del gospel e del vocal pop\, il repertorio spazia dalla musica leggera alla popolare internazionale (israeliana\, sudamericana\, africana\, gospel)\, da colonne sonore di film e cartoni animati a covers di successi internazionali.Non mancano tuttavia brani a cappella di ispirazione popolare e religiosi. Buona parte del repertorio è trascritto dal direttore\, musicista conosciuto per la solida preparazione classica unita alla sensibilità per le nuove tendenze\, che propone arrangiamenti originali con coinvolgenti alternanze di stili musicali\, di parti corali e interventi solistici.\nChorus riserva particolare attenzione alla qualità ed al contenuto dei testi\, sempre ispirati a valori fondamentali dell’umanità come la pace\, l’amicizia\, la solidarietà e la libertà: proprio per questa scelta di stile il gruppo spesso si esibisce in concerti a sostegno di Enti Benefici\, Associazioni Culturali e Istituzioni Pubbliche.\nOspite di RAI 2\, RAI International\, Tele Pace e TV locali\, il gruppo conta su un nutrito gruppo di estimatori che lo seguono anche nelle trasferte all’estero.\nEventi da ricordare: “Festival della Coralità Veneta”\, concerto per “Natale Vero” in diretta televisiva dall’Auditorium Gran Guardia di Verona\, concerti all’Auditorium Paganini di Parma\, al Teatro Magnani di Fidenza\, al Salieri di Legnago\, all’Auditorium di Waldsassen (Germania)\, al “Città di Vicenza”\, al Filarmonico e al Nuovo di Verona\, il “Concerto di Natale” di Rai 2 sotto la direzione del maestro Renato Serio\, i concerti sia con orchestra sia con banda musicale alla Gran Guardia di Verona e la partecipazione alla festa della “Notte delle Lampare” di Cetara\, in Costiera Amalfitana.\nDal 2011 è promotore ed organizzatore dell’evento “Chorus & Friends” che si tiene ogni anno a fine agosto nello splendido Parco di Villa “Carrera” a Caldierino (Verona)\, uno spettacolo di qualità con artisti “friends” affermati ed emergenti: sono stati nostri ospiti i Neri per Caso\, i Sonohra\, i Venetum Brass\, Beatrice Pezzini (giovane cantante delle trasmissioni televisive RAI “Ti Lascio una Canzone” e “The Voice”) la “Big Band Ritmo Sinfonica Città di Verona” ed Alan Sorrenti.\nDal 2017 propone un concerto dedicato alle Donne\, un nuovo spettacolo a tema intervallando ai brani musicali\, poesie e letture interpretate da coristi.\nChorus ha collaborato inoltre con altri artisti di rilievo come Irene Grandi\, Andrea Mingardi\, Alberto Jelmoni (tenore)\, Al Bano\, l’orchestra d’Archi “l’Estro Armonico”\, la JazzSet Orchestra\, lo storico Corpo Bandistico “Dino Fantoni”.\nLa discografia del Gruppo comprende la musicassetta “Feel the spirit” con una selezione di canti spiritual e gospel\, il CD “ChorusInCovers” con 14 arrangiamenti di celebri canzoni\, il CD “ChorusForWater” con una selezione di brani presenti in precedenti incisioni prodotto a favore del progetto “Acqua e Biodiversità” promosso da Legambiente nel 2005\, il CD “Christmas Songs” interamente dedicato al Natale\, il CD “Chorus Ensemble”\, registrazione dal vivo di Chorus con Orchestra e l’ultimo CD “Colors” presentato al “Chorus & Friends” edizione 2013.\nNella formazione allargata con orchestra d’archi e fiati il gruppo assume la denominazione di “Chorus Ensemble” per partecipare ad eventi di prestigio.\nIl gruppo dispone di un efficiente e versatile impianto di amplificazione e di un impianto luci gestiti dal responsabile tecnico Roberto Maschi.\nChorus ha sede a Caldiero (VR)\, centro turistico termale tra le zone vinicole del Soave\, del Valpolicella e del Garda Orientale. Il presidente Luca Fiorio con il consiglio direttivo gestisce tutti gli aspetti organizzativi dell’intensa attività artistica. \nIl sito www.chorus.verona.it riporta tracce audio\, calendario\, forum e notizie utili per coristi ed affezionato pubblico. \nFonte testo: VisitSalsomaggiore
URL:https://tabianoterme.it/event/chorus-verona-in-concerto-a-salsomaggiore-terme/
LOCATION:Salsomaggiore Terme\, Parma\, 43039\, Italia
CATEGORIES:Concerto
ATTACH;FMTTYPE=image/jpeg:https://tabianoterme.it/wp-content/uploads/2022/04/chorus-verona.jpeg
ORGANIZER;CN="Proloco Salsomaggiore":MAILTO:prolocosalsomaggiore@libero.it
END:VEVENT
BEGIN:VEVENT
DTSTART;TZID=Europe/Rome:20220417T173000
DTEND;TZID=Europe/Rome:20220417T173000
DTSTAMP:20260424T064706
CREATED:20220326T094631Z
LAST-MODIFIED:20220411T142705Z
UID:9965-1650216600-1650216600@tabianoterme.it
SUMMARY:Concerto di Pasqua a Salsomaggiore Terme
DESCRIPTION:17 aprile 2022 – ore 17:30 \nAppuntamento per il tradizionale Concerto di Pasqua con la talentuosa orchestra sinfonica I Musici di Parma al Teatro Nuovo di Salsomaggiore Terme \nPrevendita disponibile presso:\nIAT Salsomaggiore\, tel. 0524 580211\nIAT R Fidenza Village\, tel. 0524 335556\nTeatro Nuovo\, il giorno dello spettacolo\, 0524 070274 \nFonte testo e foto: www.teatronuovosalsomaggiore.it
URL:https://tabianoterme.it/event/concerto-di-pasqua-a-salsomaggiore-terme/
LOCATION:Teatro Nuovo di Salsomaggiore Terme\, Viale Giandomenico Romagnosi\, 24\, Salsomaggiore Terme\, 43039
CATEGORIES:Concerto
ATTACH;FMTTYPE=image/jpeg:https://tabianoterme.it/wp-content/uploads/2022/03/concerto-pasqua-2022-salsomaggiore.jpeg
END:VEVENT
BEGIN:VEVENT
DTSTART;TZID=Europe/Rome:20220409T210000
DTEND;TZID=Europe/Rome:20220409T210000
DTSTAMP:20260424T064706
CREATED:20220328T104741Z
LAST-MODIFIED:20220328T104741Z
UID:9990-1649538000-1649538000@tabianoterme.it
SUMMARY:Serata in ricordo di Beppe Finzi a Salsomaggiore Terme
DESCRIPTION:19 Marzo 2022\, 2 anni dalla morte del Dott. Giuseppe Finzi: eravamo in piena pandemia Covid-19 e lui fu tra i primi medici a esserne sconfitto. Dopo 2 anni di dolore e rabbia\, per una morte improvvisa e vigliacca\, i famigliari e alcuni amici hanno deciso che il modo migliore per ricordarlo fosse quello di organizzare una serata di raccolta fondi per un suo grande progetto: una borsa di studio per la ricerca in campo oncologico presso l’Azienda Ospedaliero-Universitaria di Parma. \nIl 9 Aprile 2022\, presso il Teatro Nuovo di Salsomaggiore Terme alle ore 21\,00\, si esibirà la cover band dei GENESIS “The Cage” e l’intero ricavato della serata\, verrà donato al costituendo fondo di solidarietà: “Beppe Finzi: solo i sognatori costruiscono il futuro” Attivato presso Munus Onlus\, Fondazione di Comunità di Parma e consegnato all’Azienda Ospedaliero Universitaria di Parma per la realizzazione del Progetto stesso. \nPrevendita biglietti e info: +39 345 9192180 \nFonte testo e foto: Serata in ricordo di Beppe Finzi
URL:https://tabianoterme.it/event/serata-in-ricordo-di-beppe-finzi-a-salsomaggiore-terme/
LOCATION:Teatro Nuovo di Salsomaggiore Terme\, Viale Giandomenico Romagnosi\, 24\, Salsomaggiore Terme\, 43039
CATEGORIES:Concerto
ATTACH;FMTTYPE=image/png:https://tabianoterme.it/wp-content/uploads/2022/03/genesis.png
ORGANIZER;CN="Arci Saturaco Soragna":MAILTO:arcisutarco@gmail.com
END:VEVENT
BEGIN:VEVENT
DTSTART;TZID=Europe/Rome:20210911T170000
DTEND;TZID=Europe/Rome:20210911T190000
DTSTAMP:20260424T064706
CREATED:20210909T093918Z
LAST-MODIFIED:20210909T093918Z
UID:9692-1631379600-1631386800@tabianoterme.it
SUMMARY:La Banda "Città di Fidenza" in Piazza a Tabiano
DESCRIPTION:Un concerto pomeridiano della Banda “Città di Fidenza” in Piazza Verdi\, a Tabiano Terme \nIngresso gratuito con prenotazione obbligatoria al numero 0524 5565742 – Green pass richiesto
URL:https://tabianoterme.it/event/la-banda-citta-di-fidenza-in-piazza-a-tabiano/
LOCATION:Piazza Verdi\, Piazza Verdi\, Tabiano Terme\, 43039
CATEGORIES:Concerto
ATTACH;FMTTYPE=image/jpeg:https://tabianoterme.it/wp-content/uploads/2021/09/banda-fidenza.jpg
ORGANIZER;CN="Consorzio Abitabiano":MAILTO:info@tabianoterme.it
END:VEVENT
END:VCALENDAR