BEGIN:VCALENDAR
VERSION:2.0
PRODID:-//Tabiano terme - ECPv6.15.11//NONSGML v1.0//EN
CALSCALE:GREGORIAN
METHOD:PUBLISH
X-WR-CALNAME:Tabiano terme
X-ORIGINAL-URL:https://tabianoterme.it
X-WR-CALDESC:Eventi per Tabiano terme
REFRESH-INTERVAL;VALUE=DURATION:PT1H
X-Robots-Tag:noindex
X-PUBLISHED-TTL:PT1H
BEGIN:VTIMEZONE
TZID:Europe/Rome
BEGIN:DAYLIGHT
TZOFFSETFROM:+0100
TZOFFSETTO:+0200
TZNAME:CEST
DTSTART:20240331T010000
END:DAYLIGHT
BEGIN:STANDARD
TZOFFSETFROM:+0200
TZOFFSETTO:+0100
TZNAME:CET
DTSTART:20241027T010000
END:STANDARD
BEGIN:DAYLIGHT
TZOFFSETFROM:+0100
TZOFFSETTO:+0200
TZNAME:CEST
DTSTART:20250330T010000
END:DAYLIGHT
BEGIN:STANDARD
TZOFFSETFROM:+0200
TZOFFSETTO:+0100
TZNAME:CET
DTSTART:20251026T010000
END:STANDARD
BEGIN:DAYLIGHT
TZOFFSETFROM:+0100
TZOFFSETTO:+0200
TZNAME:CEST
DTSTART:20260329T010000
END:DAYLIGHT
BEGIN:STANDARD
TZOFFSETFROM:+0200
TZOFFSETTO:+0100
TZNAME:CET
DTSTART:20261025T010000
END:STANDARD
END:VTIMEZONE
BEGIN:VEVENT
DTSTART;TZID=Europe/Rome:20250703T210000
DTEND;TZID=Europe/Rome:20250706T233000
DTSTAMP:20260424T141047
CREATED:20250512T094441Z
LAST-MODIFIED:20250530T081400Z
UID:13048-1751576400-1751844600@tabianoterme.it
SUMMARY:Festival Beat 2025 a Salsomaggiore
DESCRIPTION:Ritorna la 4 giorni più beat che ci sia! \nIl programma è fitto e le location sempre uniche! \nEventi e serate a pagamento. Biglietteria online. \n \n𝗚𝗜𝗢𝗩𝗘𝗗𝗜’ 𝟯 𝗟𝗨𝗚𝗟𝗜𝗢\n📍𝗕𝗮𝗿 𝗕𝗼𝗰𝗰𝗶𝗼𝗳𝗶𝗹𝗮 𝗦𝗮𝗹𝘀𝗲𝘀𝗲 — 𝗱𝗮𝗹𝗹𝗲 𝟮𝟭:𝟬𝟬\n𝘞𝘪𝘭𝘥 𝘏𝘰𝘯𝘦𝘺 𝘙𝘦𝘤𝘰𝘳𝘥𝘴 𝘯𝘪𝘨𝘩𝘵\n𝙕𝘼𝘾 – direttamente da Roma\, power pop e arrangiamenti complessi\n𝘽𝘼𝘿 𝙋𝙇𝙐𝙂 – batteria\, chitarra e synth per un punk rock che arriva per la prima volta al Festival\n𝙈𝘼𝙉𝘿𝙐𝙍𝙄𝘼 – da Milano\, one man band con un rock’n’roll sferragliante\n📍𝗕𝗮𝗿 𝗕𝗼𝗰𝗰𝗶𝗼𝗳𝗶𝗹𝗮 𝗦𝗮𝗹𝘀𝗲𝘀𝗲 — 𝗱𝗮𝗹𝗹𝗲 𝟮𝟯:𝟯𝟬 𝘿𝙅 𝙎𝙀𝙏 \n🗓️𝗩𝗘𝗡𝗘𝗥𝗗𝗜’ 𝟰 𝗟𝗨𝗚𝗟𝗜𝗢\n📍𝗣𝗶𝘀𝗰𝗶𝗻𝗮 𝗟𝗲𝗼𝗻𝗶 — 𝗱𝗮𝗹𝗹𝗲 𝟭𝟰:𝟯𝟬 𝗮𝗹𝗹𝗲 𝟮𝟬:𝟬𝟬\n🍹𝙋𝙊𝙊𝙇 𝙋𝘼𝙍𝙏𝙔\n📍𝗦𝗼𝗹𝗮𝗿𝗶𝘂𝗺 𝗣𝗶𝘀𝗰𝗶𝗻𝗮 𝗟𝗲𝗼𝗻𝗶 — 𝗱𝗮𝗹𝗹𝗲 𝟮𝟭:𝟬𝟬\n𝙆𝘼𝙏𝙀 𝘾𝙇𝙊𝙑𝙀𝙍 (from USA) – dalla California\, porta al Festival la migliore tradizione rock’n’roll con echi garage del passato\n𝙎𝙇𝙊𝘾𝙆𝙎 – garage/lo-fi con un accenno di no wave con spigoli vivi e rock’n’roll\n📍𝗕𝗮𝗿 𝗕𝗼𝗰𝗰𝗶𝗼𝗳𝗶𝗹𝗮 𝗦𝗮𝗹𝘀𝗲𝘀𝗲 — 𝗱𝗮𝗹𝗹𝗲 𝟮𝟭:𝟬𝟬\n𝙏𝙃𝙀 𝘾𝙃𝙀𝙍𝙍𝙔 𝙋𝙄𝙀𝙎 – band inclassificabile e contagiosa\, con tanta melodia ma anche strumenti che graffiano e pezzi che entrano in testa da subito\n𝘿𝘼𝘿𝘼𝙍 – nome di punta della scena weird punk italiana e non\, con un suono cattivo e in bilico tra punk\, hardcore e bassa fedeltà\n📍𝗕𝗮𝗿 𝗕𝗼𝗰𝗰𝗶𝗼𝗳𝗶𝗹𝗮 𝗦𝗮𝗹𝘀𝗲𝘀𝗲 + 𝗕𝗮𝗿 𝗔𝗻𝗱𝗿𝗲’ — 𝗱𝗮𝗹𝗹𝗲 𝟮𝟯:𝟯𝟬 𝘿𝙅 𝙎𝙀𝙏 \n🗓️𝗦𝗔𝗕𝗔𝗧𝗢 𝟱 𝗟𝗨𝗚𝗟𝗜𝗢\n📍𝗣𝗶𝘀𝗰𝗶𝗻𝗮 𝗟𝗲𝗼𝗻𝗶 — 𝗱𝗮𝗹𝗹𝗲 𝟭𝟰:𝟯𝟬 𝗮𝗹𝗹𝗲 𝟮𝟬:𝟬𝟬\n🍹𝙋𝙊𝙊𝙇 𝙋𝘼𝙍𝙏𝙔\n📍𝗦𝗼𝗹𝗮𝗿𝗶𝘂𝗺 𝗣𝗶𝘀𝗰𝗶𝗻𝗮 𝗟𝗲𝗼𝗻𝗶 — 𝗱𝗮𝗹𝗹𝗲 𝟮𝟭:𝟬𝟬\n𝙎𝙃𝘼𝙍𝙋 𝘾𝙇𝘼𝙎𝙎 (from UK) – trio che porta al Beat il meglio del british sound: beat\, mod\, punk\, soul\, con tanta rabbia e tanta passione\n𝙏𝙀𝙈𝙋𝙊𝙉𝘼𝙐𝙏𝙎 – tornano con il loro sixties sound a 360 gradi e lo (ri)portano al Beat\n📍𝗕𝗮𝗿 𝗕𝗼𝗰𝗰𝗶𝗼𝗳𝗶𝗹𝗮 𝗦𝗮𝗹𝘀𝗲𝘀𝗲 — 𝗱𝗮𝗹𝗹𝗲 𝟮𝟭:𝟬𝟬\n𝙏𝙃𝙀 𝙐𝙂𝙇𝙔 𝙎𝙊𝙐𝙉𝘿𝙎 – un suono garage-punk\, sporco e deragliante\n𝙏𝙃𝙀 𝙇𝙄𝙉𝙂𝙎 – approdano al Festival Beat e ci sorprenderanno con un powerpop che non ce li farà dimenticare\n📍𝗕𝗮𝗿 𝗕𝗼𝗰𝗰𝗶𝗼𝗳𝗶𝗹𝗮 𝗦𝗮𝗹𝘀𝗲𝘀𝗲 + 𝗕𝗮𝗿 𝗔𝗻𝗱𝗿𝗲’ — 𝗱𝗮𝗹𝗹𝗲 𝟮𝟯:𝟯𝟬 𝘿𝙅 𝙎𝙀𝙏 \n🗓️𝗗𝗢𝗠𝗘𝗡𝗜𝗖𝗔 𝟳 𝗟𝗨𝗚𝗟𝗜𝗢\n📍𝗣𝗶𝘀𝗰𝗶𝗻𝗮 𝗟𝗲𝗼𝗻𝗶 — 𝗱𝗮𝗹𝗹𝗲 𝟭𝟰:𝟯𝟬 𝗮𝗹𝗹𝗲 𝟮𝟬:𝟬𝟬\n🍹𝙋𝙊𝙊𝙇 𝙋𝘼𝙍𝙏𝙔\n📍𝗕𝗮𝗿 𝗕𝗼𝗰𝗰𝗶𝗼𝗳𝗶𝗹𝗮 𝗦𝗮𝗹𝘀𝗲𝘀𝗲 — 𝗱𝗮𝗹𝗹𝗲 𝟮𝟭:𝟬𝟬\n𝘎𝘰 𝘋𝘰𝘸𝘯 𝘯𝘪𝘨𝘩𝘵\n𝙅𝙐𝙆𝙀 𝘽𝙊𝙓 𝟳𝟰 – fondamenta punk\, approccio garage con virate soul nella serata di chiusura\n𝙈𝘼𝙎𝙏𝙄𝘾𝘼 – un beat/rock’n’roll con influenze hard\, psych\, soul e freak beat direttamente dal Veneto\nart: Andrea “THE AND” Sartori
URL:https://tabianoterme.it/event/festival-beat-2025-a-salsomaggiore/
LOCATION:Salsomaggiore Terme\, Parma\, 43039\, Italia
CATEGORIES:Concerto,Danza,Festival
ATTACH;FMTTYPE=image/webp:https://tabianoterme.it/wp-content/uploads/2025/05/festivalbeat2025.webp
ORGANIZER;CN="Associazione BUS1":MAILTO:associazionebus1@gmail.com
END:VEVENT
BEGIN:VEVENT
DTSTART;TZID=Europe/Rome:20250712T210000
DTEND;TZID=Europe/Rome:20250712T223000
DTSTAMP:20260424T141047
CREATED:20250703T144712Z
LAST-MODIFIED:20250703T144712Z
UID:13299-1752354000-1752359400@tabianoterme.it
SUMMARY:Italian Swing Trio in concerto
DESCRIPTION:Il trio propone un raffinato repertorio ispirato ai grandi autori italiani che\, tra il dopoguerra e gli anni ‘60\, hanno fuso la canzone d’autore con le sonorità jazz e swing d’oltreoceano. Omaggiando pionieri come Gorni Kramer\, Fred Buscaglione\, Lelio Luttazzi e il Quartetto Cetra\, la band celebra l’eleganza e l’ironia di una stagione musicale indimenticabile. \nAlessia Galeotti (voce) \nLuca Savazzi (pianoforte) \nEmi Vernizzi (sax) \nConcerto gratuito. Organizzazione a cura del Consorzio AbiTabiano \nDalle ore 21 dal Palco di Piazza Verdi a Tabiano Terme
URL:https://tabianoterme.it/event/italian-swing-trio-in-concerto/
LOCATION:Piazza Verdi\, Piazza Verdi\, Tabiano Terme\, 43039
CATEGORIES:Concerto,Spettacolo
ATTACH;FMTTYPE=image/png:https://tabianoterme.it/wp-content/uploads/2025/07/Immagine-2025-07-03-164318.png
ORGANIZER;CN="Consorzio Abitabiano":MAILTO:info@tabianoterme.it
END:VEVENT
BEGIN:VEVENT
DTSTART;TZID=Europe/Rome:20250726T210000
DTEND;TZID=Europe/Rome:20250726T230000
DTSTAMP:20260424T141047
CREATED:20250723T083703Z
LAST-MODIFIED:20250723T083703Z
UID:13388-1753563600-1753570800@tabianoterme.it
SUMMARY:BOOMBAND
DESCRIPTION:Ore 21.00 – Piazza Verdi\, a Tabiano \n\nQuattro giovani musicisti\, un’unica energia travolgente. \nLa Boomband accende il palco con un mix esplosivo di ritmo\, passione e sound dal vivo. \nVieni a vivere la musica come non l’hai mai sentita.
URL:https://tabianoterme.it/event/boomband/
LOCATION:Tabiano Terme
CATEGORIES:Concerto
ATTACH;FMTTYPE=image/jpeg:https://tabianoterme.it/wp-content/uploads/2025/07/2-2-scaled.jpg
END:VEVENT
END:VCALENDAR