BEGIN:VCALENDAR
VERSION:2.0
PRODID:-//Tabiano terme - ECPv6.15.11//NONSGML v1.0//EN
CALSCALE:GREGORIAN
METHOD:PUBLISH
X-WR-CALNAME:Tabiano terme
X-ORIGINAL-URL:https://tabianoterme.it
X-WR-CALDESC:Eventi per Tabiano terme
REFRESH-INTERVAL;VALUE=DURATION:PT1H
X-Robots-Tag:noindex
X-PUBLISHED-TTL:PT1H
BEGIN:VTIMEZONE
TZID:Europe/Rome
BEGIN:DAYLIGHT
TZOFFSETFROM:+0100
TZOFFSETTO:+0200
TZNAME:CEST
DTSTART:20200329T010000
END:DAYLIGHT
BEGIN:STANDARD
TZOFFSETFROM:+0200
TZOFFSETTO:+0100
TZNAME:CET
DTSTART:20201025T010000
END:STANDARD
BEGIN:DAYLIGHT
TZOFFSETFROM:+0100
TZOFFSETTO:+0200
TZNAME:CEST
DTSTART:20210328T010000
END:DAYLIGHT
BEGIN:STANDARD
TZOFFSETFROM:+0200
TZOFFSETTO:+0100
TZNAME:CET
DTSTART:20211031T010000
END:STANDARD
BEGIN:DAYLIGHT
TZOFFSETFROM:+0100
TZOFFSETTO:+0200
TZNAME:CEST
DTSTART:20220327T010000
END:DAYLIGHT
BEGIN:STANDARD
TZOFFSETFROM:+0200
TZOFFSETTO:+0100
TZNAME:CET
DTSTART:20221030T010000
END:STANDARD
BEGIN:DAYLIGHT
TZOFFSETFROM:+0100
TZOFFSETTO:+0200
TZNAME:CEST
DTSTART:20230326T010000
END:DAYLIGHT
BEGIN:STANDARD
TZOFFSETFROM:+0200
TZOFFSETTO:+0100
TZNAME:CET
DTSTART:20231029T010000
END:STANDARD
END:VTIMEZONE
BEGIN:VEVENT
DTSTART;TZID=Europe/Rome:20220628T211500
DTEND;TZID=Europe/Rome:20220705T211500
DTSTAMP:20260421T223544
CREATED:20220628T074224Z
LAST-MODIFIED:20220630T090740Z
UID:10465-1656450900-1657055700@tabianoterme.it
SUMMARY:Elvis al cinema Odeon di Salsomaggiore Terme
DESCRIPTION:Programmazione: \n28 Giugno 2022 alle  21:15\n01 Luglio 2022 alle 21:15\n02 Luglio 2022 alle 21:15\n03 Luglio 2022 alle  21:15\n05 Luglio 2022 alle 21:15 \nAnno: 2022\nGenere: Biografico\, Musicale\nDurata: 159 min\nRegia: Baz Luhrmann\nAttori: Austin Butler\, Tom Hanks\, Helen Thomson\, Richard Roxburgh\, Olivia DeJonge\, Luke Bracey\,\nDavid Wenham\, Kelvin Harrison Jr.\, Xavier Samuel\, Kodi Smit-McPhee\, Dacre Montgomery\,\nLeon Ford\, Kate Mulvany\, Jay Chaydon\, Charles Grounds\, Josh McConville \nTrama: \nElvis\, film diretto da Baz Luhrmann\, racconta la vita del Re del Rock and Roll\, Elvis Presley (Austin Butler)\, mostrando la sua ascesa e il suo successo\, che gli hanno permesso di diventare una delle icone del panorama culturale americano\, spazzando via anche parte dell’innocenza del tempo. Di particolare rilevanza sarà il rapporto con il suo manager\, il colonnello Tom Parker (Tom Hanks)\, con il quale Elvis intreccerà un sodalizio artistico della durata di circa vent’anni. Il film si concentra proprio su questo rapporto complesso\, a partire dall’ascesa della prima rockstar della storia fino al raggiungimento della fama mondiale\, fino a quel momento mai toccata da nessun’altra star con così tanta veemenza. Il tutto mentre l’America vive uno sconvolgimento socio-culturale\, che la porterà a grandi cambiamenti.\nNel cast troviamo anche Olivia DeJonge che interpreta Priscilla Presley\, la moglie di Elvis con cui il divo è convolato a nozze nel 1967 e\, nonostante le tante relazione attribuitigli\, l’unica donna che il Re abbia sposato. \nwww.coomingsoon.it \nFonte testo: visitsalsomaggiore
URL:https://tabianoterme.it/event/cinema-odeon-elvis/
LOCATION:cinema Odeon salsomaggiore\, Via Giovanni Valentini\, 11\, Salsomaggiore Terme\, PR\, 43039\, Italia
CATEGORIES:Cinema,Cultura,Musica
ATTACH;FMTTYPE=image/jpeg:https://tabianoterme.it/wp-content/uploads/2022/06/WhatsApp-Image-2022-02-22-at-21.35.28.jpeg
END:VEVENT
BEGIN:VEVENT
DTSTART;VALUE=DATE:20210915
DTEND;VALUE=DATE:20210927
DTSTAMP:20260421T223544
CREATED:20210906T093749Z
LAST-MODIFIED:20210906T093749Z
UID:9668-1631664000-1632700799@tabianoterme.it
SUMMARY:Mangiacinema 2021 – Festa del Cibo d’Autore e del Cinema Goloso
DESCRIPTION:Vi invitiamo dal 15 al 19 e dal 24 al 26 settembre 2021 a Salsomaggiore Terme per l’Ottava Edizione – Ritorno al Futuro – Family Edition. Mangiacinema è la Festa del Cibo d’autore e del Cinema goloso. Tantissimi artisti del Gusto e dello Spettacolo ti aspettano per gli otto giorni più golosi dell’anno\, tra spettacoli\, proiezioni appetitose\, show cooking\, imperdibili incontri e concerti. \nVisita il sito ufficiale: Mangiacinema – Festa del Cibo d’Autore e del Cinema goloso a Salsomaggiore
URL:https://tabianoterme.it/event/mangiacinema-2021-festa-del-cibo-dautore-e-del-cinema-goloso/
LOCATION:Palazzo dei Congressi\, Viale Giandomenico Romagnosi\, 7\, Salsomaggiore Terme\, Parma\, 43039\, Italia
CATEGORIES:Cinema,Festival,Food
ATTACH;FMTTYPE=image/jpeg:https://tabianoterme.it/wp-content/uploads/2021/09/Acquisisci-schermata-Web_6-9-2021_11288_www.mangiacinema.it_.jpeg
ORGANIZER;CN="Mangiacinema":MAILTO:info@mangiacinema.it
END:VEVENT
END:VCALENDAR