BEGIN:VCALENDAR
VERSION:2.0
PRODID:-//Tabiano terme - ECPv6.15.11//NONSGML v1.0//EN
CALSCALE:GREGORIAN
METHOD:PUBLISH
X-ORIGINAL-URL:https://tabianoterme.it
X-WR-CALDESC:Eventi per Tabiano terme
REFRESH-INTERVAL;VALUE=DURATION:PT1H
X-Robots-Tag:noindex
X-PUBLISHED-TTL:PT1H
BEGIN:VTIMEZONE
TZID:Europe/Rome
BEGIN:DAYLIGHT
TZOFFSETFROM:+0100
TZOFFSETTO:+0200
TZNAME:CEST
DTSTART:20250330T010000
END:DAYLIGHT
BEGIN:STANDARD
TZOFFSETFROM:+0200
TZOFFSETTO:+0100
TZNAME:CET
DTSTART:20251026T010000
END:STANDARD
BEGIN:DAYLIGHT
TZOFFSETFROM:+0100
TZOFFSETTO:+0200
TZNAME:CEST
DTSTART:20260329T010000
END:DAYLIGHT
BEGIN:STANDARD
TZOFFSETFROM:+0200
TZOFFSETTO:+0100
TZNAME:CET
DTSTART:20261025T010000
END:STANDARD
BEGIN:DAYLIGHT
TZOFFSETFROM:+0100
TZOFFSETTO:+0200
TZNAME:CEST
DTSTART:20270328T010000
END:DAYLIGHT
BEGIN:STANDARD
TZOFFSETFROM:+0200
TZOFFSETTO:+0100
TZNAME:CET
DTSTART:20271031T010000
END:STANDARD
END:VTIMEZONE
BEGIN:VEVENT
DTSTART;TZID=Europe/Rome:20260301T150000
DTEND;TZID=Europe/Rome:20260301T170000
DTSTAMP:20260424T010033
CREATED:20260219T152813Z
LAST-MODIFIED:20260219T152813Z
UID:14328-1772377200-1772384400@tabianoterme.it
SUMMARY:“Il fuoco primitivo” al MuMAB
DESCRIPTION:Il fuoco come svolta evolutiva dell’ umanità \nQuesto incontro organizzato da Valerio\, guida del MuMAB ed esperto di sopravvivenza\, è un’esperienza immersiva dedicata alla scoperta del fuoco come svolta evolutiva\, culturale e simbolica dell’umanità.\nNon una semplice dimostrazione tecnica\, ma un viaggio nel tempo: un ritorno al crepuscolo del Paleolitico\, quando il fuoco era luce\, protezione\, cibo trasformato e racconto condiviso. \nL’incontro alternerà narrazione scientifica accessibile\, osservazione diretta di strumenti primitivi e una pratica esperienziale guidata\, con possibilità per i partecipanti di sperimentare in sicurezza l’accensione del fuoco con metodi antichi.
URL:https://tabianoterme.it/event/il-fuoco-primitivo-al-mumab/
LOCATION:MuMAB- Museo Mare Antico e Biodiversità\, Podere Millepioppi\, Salsomaggiore Terme\, PR\, 43039\, Italia
CATEGORIES:Bambini e famiglie,Camminata,Incontro,Museo,Outdoor,Visita guidata
ATTACH;FMTTYPE=image/webp:https://tabianoterme.it/wp-content/uploads/2026/02/mumab-fuoco-primitivo-salsomaggiore-marzo-2026.webp
ORGANIZER;CN="MuMAB - Museo Mare Antico e Biodiversit%C3%A0":MAILTO:mumab@millepioppi.it
END:VEVENT
BEGIN:VEVENT
DTSTART;TZID=Europe/Rome:20260307T100000
DTEND;TZID=Europe/Rome:20260307T123000
DTSTAMP:20260424T010033
CREATED:20260302T112011Z
LAST-MODIFIED:20260302T112011Z
UID:14439-1772877600-1772886600@tabianoterme.it
SUMMARY:Una storia\, tante storie
DESCRIPTION:Camminata gratuita al torrente Stirone con la Direttrice del MuMAB\, Enrica Montanini\, che ricorderà la storia di Renata Fonte\, vittima innocente di mafia\, e ci porterà attraverso il Podere Millepioppi raccontandoci come cambia un luogo liberato\, confiscato alla criminalità organizzata. \nPer l’occasione si terrà la campagna di raccolta firme “Diamo linfa al bene”\, promossa dall’associazione di promozione sociale Libera con l’intento di chiedere la destinazione del 2% del Fondo Unico Giustizia al recupero e alla gestione dei beni confiscati.
URL:https://tabianoterme.it/event/una-storia-tante-storie/
LOCATION:MuMAB- Museo Mare Antico e Biodiversità\, Podere Millepioppi\, Salsomaggiore Terme\, PR\, 43039\, Italia
CATEGORIES:Bambini e famiglie,Camminata,Outdoor,Visita guidata
ATTACH;FMTTYPE=image/png:https://tabianoterme.it/wp-content/uploads/2026/03/7-marzo-diamo-linfa-al-bene-1024x577-1.png
ORGANIZER;CN="MuMAB - Museo Mare Antico e Biodiversit%C3%A0":MAILTO:mumab@millepioppi.it
END:VEVENT
BEGIN:VEVENT
DTSTART;TZID=Europe/Rome:20260308T100000
DTEND;TZID=Europe/Rome:20260308T120000
DTSTAMP:20260424T010033
CREATED:20260304T081317Z
LAST-MODIFIED:20260304T081317Z
UID:14468-1772964000-1772971200@tabianoterme.it
SUMMARY:Donne e Sport nella Città Bellissima – 08 marzo
DESCRIPTION:Giornata di Sport e Solidarietà per un futuro inclusivo\nL’8 marzo 2026\, in occasione della Giornata internazionale della Donna\, Salsomaggiore organizza un evento per scoprire in compagnia le bellezze della cittadina termale. \nLa tappa finale è la nuova pista di atletica “Paola Pigni”\, per celebrare le atlete salsesi che giorno dopo giorno si impegnano nei tornei sportivi di atletica\, basket\, danza\, calcio e volley. \nProgramma\n\nOre 10.00: Visita guidata al Palazzo dei Congressi\nOre 10.30: La visita prosegue per le vie principali della cittadina\, con una camminata e pedalata in compagnia seguendo il percorso dei pozzi e dei ferri battuti\nOre 11.30: Arrivo al centro sportivo Francani per un rinfresco\n\nVi aspettiamo numerosi per un 8 Marzo dedicato al Liberty e allo sport nella più bella cittadina termale d’Europa!
URL:https://tabianoterme.it/event/donne-e-sport-nella-citta-bellissima-08-marzo/
LOCATION:Salsomaggiore Terme\, Parma\, 43039\, Italia
CATEGORIES:Bambini e famiglie,Camminata
ATTACH;FMTTYPE=image/jpeg:https://tabianoterme.it/wp-content/uploads/2026/03/Post-Instagram-9.jpg
END:VEVENT
BEGIN:VEVENT
DTSTART;TZID=Europe/Rome:20260308T143000
DTEND;TZID=Europe/Rome:20260308T170000
DTSTAMP:20260424T010033
CREATED:20260203T113618Z
LAST-MODIFIED:20260203T113618Z
UID:14262-1772980200-1772989200@tabianoterme.it
SUMMARY:La Pieve di San Nicomede
DESCRIPTION:Passeggiata alla scoperta di una delle più belle chiese di campagna del nostro territorio\nDomenica 8 Marzo 2026Percorso di andata e ritorno nel Parco dello Stirone e del Piacenziano su sentiero ammirando alcuni sedimenti fossiliferi\, un antico mulino e una parete dove in estate nidificano i gruccioni; saremo circondati da splendidi paesaggi collinari\, andremo alla ricerca di un’antica fonte\, visiteremo l’antica pieve di San Nicomede e torneremo verso il parcheggio. \nDislivello: 150 metri in salita/200 metri in discesa. Distanza percorsa in escursione 5 km \nGrado di difficoltà: Escursionistico \nRitrovo: domenica 08 marzo 2026 alle ore 14.30 presso il parcheggio del MuMAB-Museo Mare Antico e Biodiversità in loc. San Nicomede\, nel comune di Salsomaggiore Terme (PR). Termine previsto ore 16.30. \nAttrezzatura richiesta: scarpe da trekking\, mantella per la pioggia\, acqua\, snack\, abbigliamento invernale \nOrganizzatore e Guida: Rossana Rossi del Gruppo Guide Escursionistiche E.V.A. (Esploratori Val d’Arda) \nCosti di partecipazione: 5 € a partecipante \nPrenotazione obbligatoria:Cell: 347/7892185 – escursionieva@gmail.com –  FB: E.V.A. gruppo esploratori Val D’Arda\, IG: @evaescursioni \nNel pomeriggio\, eventuale visita guidata facoltativa al MuMAB a pagamento. Se inteerssati\, comunicarlo alla guida in modo che possa prenotare l’ingresso al museo.
URL:https://tabianoterme.it/event/la-pieve-di-san-nicomede/
LOCATION:MuMAB- Museo Mare Antico e Biodiversità\, Podere Millepioppi\, Salsomaggiore Terme\, PR\, 43039\, Italia
CATEGORIES:Camminata,Outdoor
ATTACH;FMTTYPE=image/jpeg:https://tabianoterme.it/wp-content/uploads/2026/02/PRSTIman135192-loc.jpg
END:VEVENT
BEGIN:VEVENT
DTSTART;TZID=Europe/Rome:20260308T150000
DTEND;TZID=Europe/Rome:20260308T173000
DTSTAMP:20260424T010033
CREATED:20260302T112455Z
LAST-MODIFIED:20260302T112455Z
UID:14443-1772982000-1772991000@tabianoterme.it
SUMMARY:Al ritmo della natura
DESCRIPTION:Gemme di primavera\, il risveglio silenzioso del bosco \nAccompagnati da una guida esperta\, esploreremo il Parco osservando i cambiamenti portati dall’imminente arrivo della primavera. Le protagoniste saranno loro\, le gemme botaniche! \nUna nuova passeggiata nella natura\, lontano dagli schermi\, per riconnetterci con essa e ritrovare il giusto ritmo. \nL’ attività si svolge all’interno dell’iniziativa Domeniche Detox della Regione Emilia Romagna
URL:https://tabianoterme.it/event/al-ritmo-della-natura/
LOCATION:MuMAB- Museo Mare Antico e Biodiversità\, Podere Millepioppi\, Salsomaggiore Terme\, PR\, 43039\, Italia
CATEGORIES:Bambini e famiglie,Camminata,Museo,Outdoor,Visita guidata
ATTACH;FMTTYPE=image/png:https://tabianoterme.it/wp-content/uploads/2026/03/al-ritmo-della-natura-4-1024x577-1.png
ORGANIZER;CN="MuMAB - Museo Mare Antico e Biodiversit%C3%A0":MAILTO:mumab@millepioppi.it
END:VEVENT
BEGIN:VEVENT
DTSTART;TZID=Europe/Rome:20260315T150000
DTEND;TZID=Europe/Rome:20260315T173000
DTSTAMP:20260424T010033
CREATED:20260302T113138Z
LAST-MODIFIED:20260302T113138Z
UID:14447-1773586800-1773595800@tabianoterme.it
SUMMARY:Biologi per un giorno
DESCRIPTION:Esploriamo lo stagno del MuMAB \nCome ogni anno a marzo lo stagno didattico del MuMAB torna a popolarsi di vita! \nEsploreremo insieme questo piccolo ecosistema per osservare chi lo abita\, tra insetti acquatici\, rane\, tritoni e molto altro.\nMa cosa fanno davvero i biologi che lavorano per la conservazione della biodiversità? Dotati di veri strumenti da laboratorio\, ci trasformeremo in ricercatori per un pomeriggio! \nAdatto a bambini dai 6 agli 12 anni\, senza la presenza di un adulto
URL:https://tabianoterme.it/event/biologi-per-un-giorno/
LOCATION:MuMAB- Museo Mare Antico e Biodiversità\, Podere Millepioppi\, Salsomaggiore Terme\, PR\, 43039\, Italia
CATEGORIES:Bambini e famiglie,Camminata,Museo,Outdoor
ATTACH;FMTTYPE=image/png:https://tabianoterme.it/wp-content/uploads/2026/03/15-marzo-biologi-per-un-giorno-1024x577-1.png
ORGANIZER;CN="MuMAB - Museo Mare Antico e Biodiversit%C3%A0":MAILTO:mumab@millepioppi.it
END:VEVENT
BEGIN:VEVENT
DTSTART;TZID=Europe/Rome:20260321T090000
DTEND;TZID=Europe/Rome:20260322T173000
DTSTAMP:20260424T010033
CREATED:20260318T105855Z
LAST-MODIFIED:20260318T105855Z
UID:14487-1774083600-1774200600@tabianoterme.it
SUMMARY:Sabato 21 e domenica 22 marzo tornano le Giornate FAI di Primavera
DESCRIPTION:Torna il più importante evento di piazza dedicato al patrimonio culturale e paesaggistico del nostro Paese con visite a contributo libero. \n6 luoghi aperti in Provincia di Parma e 5 in Provincia di Piacenza \nVisita il sito https://fondoambiente.it/il-fai/grandi-campagne/giornate-fai-di-primavera/i-luoghi-aperti \nper saperne di più e per scoprire straordinari luoghi spesso inaccessibili che aprono le porte in uno speciale weekend di Primavera. \n 
URL:https://tabianoterme.it/event/sabato-21-e-domenica-22-marzo-tornano-le-giornate-fai-di-primavera/
CATEGORIES:Arte e Cultura,Bambini e famiglie,Camminata,Cultura,Mostra,Museo,Visita guidata
ATTACH;FMTTYPE=image/jpeg:https://tabianoterme.it/wp-content/uploads/2026/03/giornate-fai-arezzo_XL.jpg
END:VEVENT
BEGIN:VEVENT
DTSTART;VALUE=DATE:20260404
DTEND;VALUE=DATE:20260405
DTSTAMP:20260424T010033
CREATED:20260318T162450Z
LAST-MODIFIED:20260318T162450Z
UID:14497-1775260800-1775347199@tabianoterme.it
SUMMARY:Gita in Pullman a  Castell'Arquato e Vigoleno
DESCRIPTION:Borghi Medievali: Viaggio nel Tempo tra Castell’Arquato e Vigoleno\nUn pomeriggio straordinario alla scoperta della Val d’Arda\, tra castelli\, leggende e atmosfere d’altri tempi. \nSiete pronti a lasciarvi alle spalle il presente? Vi invitiamo a un’escursione indimenticabile dedicata alla bellezza e alla storia. Partendo comodamente in pullman da Tabiano Terme\, raggiungeremo due delle perle più preziose del territorio: Castell’Arquato e Vigoleno. \nAccompagnati da una guida turistica abilitata\, passeggeremo tra possenti torri e vicoli acciottolati\, immersi in un mondo medievale dove ogni pietra racconta una leggenda lontana. Un’occasione unica per vivere il fascino autentico di borghi rimasti intatti nei secoli.  \nDettagli dell’Evento\n\n\nQuando: Partenza ore 14:30 \n\n\nPunto di ritrovo: Piazza Verdi\, Tabiano Terme \n\n\nCosto: 10\,00 € a persona (da versare comodamente alla partenza) \n\n\nGuida: Tour condotto da guida turistica abilitata \n\n\nInfo e Prenotazioni\nLa prenotazione è obbligatoria per garantire il posto in pullman. \n\n\nTelefono: 339 4987087 \n\n\nEmail: info@tabianoterme.it \n\n\nScadenza: Le prenotazioni devono pervenire entro le ore 12:00 del giorno precedente alla gita.
URL:https://tabianoterme.it/event/gita-in-pullman-a-castellarquato-e-vigoleno/
LOCATION:Tabiano Terme
CATEGORIES:Camminata,Outdoor,Visita guidata
ATTACH;FMTTYPE=image/png:https://tabianoterme.it/wp-content/uploads/2026/03/Gita-borghi-4-aprile-da-salso.png
ORGANIZER;CN="Consorzio Abitabiano":MAILTO:info@tabianoterme.it
END:VEVENT
BEGIN:VEVENT
DTSTART;TZID=Europe/Rome:20260406T150000
DTEND;TZID=Europe/Rome:20260406T170000
DTSTAMP:20260424T010033
CREATED:20260403T074043Z
LAST-MODIFIED:20260403T074129Z
UID:14512-1775487600-1775494800@tabianoterme.it
SUMMARY:Camminata sulle colline di Tabiano accompagnati da guida abilitata
DESCRIPTION:Partenza ore 15:00 da Piazza Verdi\, Tabiano \nFesteggia il Lunedì dell’Angelo immerso nella storia e nella natura. Ti proponiamo una camminata rigenerante tra scorci rurali e la maestosità dei castelli\, accompagnati dalle guide professioniste di EVA. Munirsi di scarpe da ginnastica con suola sagomata\, bottiglietta d’acqua\, torcia\, repellente per insetti\, scarpe di ricambio all’arrivo. \nAttività adatta a chi ha buona propensione alla camminata anche in salita!durata: 2 ore circa – distanza: 6 km\, 150+ \nPrenotazione obbligatoria al 3394987087 – info@tabianoterme.it (entro le ore 12 di sabato 4 aprile) \nAttività gratutita \nOrganizzazione a cura del Consorzio AbiTabiano
URL:https://tabianoterme.it/event/camminata-sulle-colline-di-tabiano-accompagnati-da-guida-abilitata/
LOCATION:Piazza Verdi\, Piazza Verdi\, Tabiano Terme\, 43039
CATEGORIES:Bambini e famiglie,Camminata,Outdoor
ATTACH;FMTTYPE=image/png:https://tabianoterme.it/wp-content/uploads/2026/04/Camminata-pasquetta-1.png
ORGANIZER;CN="Consorzio Abitabiano":MAILTO:info@tabianoterme.it
END:VEVENT
BEGIN:VEVENT
DTSTART;TZID=Europe/Rome:20260412T093000
DTEND;TZID=Europe/Rome:20260412T130000
DTSTAMP:20260424T010033
CREATED:20260223T092018Z
LAST-MODIFIED:20260223T092018Z
UID:14421-1775986200-1775998800@tabianoterme.it
SUMMARY:Aperi trek dei castelli: è primavera attorno al Castello di Tabiano
DESCRIPTION:“Aperi-trek” dei Castelli del Ducato di Parma\, Piacenza e Pontremoli inaugura la stagione primaverile con un’escursione attorno al Castello di Tabiano: un anello panoramico nel primo verde scintillante della collina che ci porterà tra i boschi e i calanchi che circondano il borgo medievale\, lungo un percorso che offre viste costanti sull’imponente mole del maniero e sulla pianura circostante. Cammineremo su sentieri battuti\, carrarecce e piccole strade asfaltate\, sempre immersi nel silenzio dei colli\, tra le meraviglie della natura primaverile e al fianco della storia; poi\, come vuole la regola degli “Aperi-trek”\, verrà il momento conviviale in cui la guida aprirà lo zaino per offrire al gruppo un piccolo aperitivo campestre con un bicchiere di “vin brulè d’estate”\, due fette di strolghino (salame di culatello) e qualche altra stuzzicheria\, un’occasione unica per staccare la spina\, respirare aria pura e assaporare la bellezza autentica del territorio parmense.\nPer chi vuole al termine si mangia qualcosa insieme in trattoria della zona (da segnalare alla guida con adeguato anticipo\, è domenica occorre prenotare!) \nRitrovo 09:45 zona Tabiano  (agli iscritti verrà data posizione precisa per navigatore).\nEscursione di 8 km circa per 250 m dislivello massimo\, su piccole asfaltate\, sentieri campestri\, ghiaiate\, \nRientro alle auto per le 13 circa.\nNecessarie scarpe da trekking a suola scolpita (sempre da aspettarsi un po’ di fango in qualche tratto data la stagione)\, giacca a vento\, guanti\, zaino\, acqua o the caldo\, bastoncini sempre consigliati.\nScarpe di ricambio da lasciare in auto per il cambio dopo l’escursione\nNumero minimo 8 massimo 25\nQuota di partecipazione:17 euro. \nPrenotazione obbligatoria: Guida antonio.rinaldi.76@gmail.com cel. 328.8116651\n* Per la prenotazione di questa escursione non è richiesto pagamento anticipato o caparra. Il patto è però che l’impegno preso sia serio dato che condiziona pesantemente il nostro lavoro e la disponibilità di posti per gli altri escursionisti. Ti chiediamo dunque di valutare con attenzione luoghi\, tempistiche e stagione\, mettendo in conto la disponibilità a partecipare anche con un meteo non perfetto\, perché Natura e Compagnia regalano comunque del bello in ogni giornata. \nTutti i percorsi potranno essere modificati in funzione delle condizioni ambientali per la sicurezza del gruppo. La Guida si riserva di non accettare persone non adeguatamente attrezzate. \nLa Guida è coperta da assicurazione RCT come di legge; non è prevista copertura infortuni per i partecipanti. Chi ritiene può provvedere autonomamente con una polizza multisport.
URL:https://tabianoterme.it/event/aperi-trek-dei-castelli-e-primavera-attorno-al-castello-di-tabiano/
LOCATION:Tabiano Terme
CATEGORIES:Camminata,Food,Outdoor
ATTACH;FMTTYPE=image/jpeg:https://tabianoterme.it/wp-content/uploads/2026/02/photo0jpg.jpg
ORGANIZER;CN="terre emerse":MAILTO:antonio.rinaldi.76@gmail.com
END:VEVENT
BEGIN:VEVENT
DTSTART;TZID=Europe/Rome:20260412T150000
DTEND;TZID=Europe/Rome:20260412T163000
DTSTAMP:20260424T010033
CREATED:20260403T101444Z
LAST-MODIFIED:20260403T101444Z
UID:14524-1776006000-1776011400@tabianoterme.it
SUMMARY:Al ritmo della natura
DESCRIPTION:Storie di cuccioli selvatici \nUn’escursione speciale nel Parco dello Stirone per raccontare la stagione delle nascite. Nel bosco stanno crescendo cuccioli di lupo\, di volpe\, di tasso\, di capriolo e molti altri! Attraverso l’osservazione dell’ambiente e l’interpretazione delle tracce\, scopriremo il ciclo di vita dei mammiferi del Parco dello Stirone e l’importanza di rispettare i loro spazi\, soprattutto in questo periodo così delicato. \nUna nuova passeggiata nella natura\, lontano dagli schermi\, per riconnetterci con essa e ritrovare il giusto ritmo. \n\nL’ attività si svolge all’interno dell’iniziativa Domeniche Detox della Regione Emilia Romagna
URL:https://tabianoterme.it/event/al-ritmo-della-natura-4/
LOCATION:Polo Museale Millepioppi\, San Nicomede\, PR\, 43039\, Italia
CATEGORIES:Bambini e famiglie,Camminata,Museo,Outdoor
ATTACH;FMTTYPE=image/png:https://tabianoterme.it/wp-content/uploads/2026/04/12-aprile-storie-di-cuccioli-selvatici-1024x577-1.png
ORGANIZER;CN="MuMAB - Museo Mare Antico e Biodiversit%C3%A0":MAILTO:mumab@millepioppi.it
END:VEVENT
BEGIN:VEVENT
DTSTART;TZID=Europe/Rome:20260426T090000
DTEND;TZID=Europe/Rome:20260426T120000
DTSTAMP:20260424T010033
CREATED:20260407T110330Z
LAST-MODIFIED:20260423T091147Z
UID:14602-1777194000-1777204800@tabianoterme.it
SUMMARY:Camminata sulle colline di Tabiano guida Valerio Uni
DESCRIPTION:Un cammino dolce tra Tabiano Bagni e Tabiano Castello\, dove il bosco sussurra fiabe antiche e i corsi d’acqua raccontano il respiro delle fonti termali. Una collina che invita a rallentare\, per riscoprire la bellezza nascosta nelle piccole cose.Le colline si aprono verso l’Appennino\, il castello appare tra gli alberi… e basta fermarsi un istante per innamorarsi. \nInfo tecniche:\nTipo di escursione: Giro ad anello\, percorso in senso antiorario\nDistanza: circa 6 km\nDislivello: +200m -200m\nDurata con soste: 3h\nDurata senza soste: 1:40h\nRitrovo: 9:00\nTermine escursione: 12:00\nDifficoltà: facile – scala CAI: T – Turistico\nTipo di fondo: asfalto\, terra\, strade bianche ghiaiate\nObbligatorio: scarpe adatte a giro escursionistico – acqua minimo 0.5L – abbigliamento adeguato a meteo \nGuida Valerio Uni
URL:https://tabianoterme.it/event/camminata-sulle-colline-di-tabiano-guida-valerio-uni/
LOCATION:Tabiano Terme
CATEGORIES:Bambini e famiglie,Camminata,Outdoor
ATTACH;FMTTYPE=image/png:https://tabianoterme.it/wp-content/uploads/2026/04/Camminata-26-aprile-.png
ORGANIZER;CN="Consorzio Abitabiano":MAILTO:info@tabianoterme.it
END:VEVENT
BEGIN:VEVENT
DTSTART;VALUE=DATE:20260505
DTEND;VALUE=DATE:20260511
DTSTAMP:20260424T010033
CREATED:20260407T115758Z
LAST-MODIFIED:20260407T115758Z
UID:14606-1777939200-1778457599@tabianoterme.it
SUMMARY:Francigena Fidenza Festival 2026
DESCRIPTION:La sesta edizione del Francigena Fidenza Festival si terrà dal 5 al 10 maggio 2026!\nQuesto evento unico celebra il connubio tra cammini\, cultura e spiritualità\, offrendo un itinerario che unisce passato e futuro. \nAnche quest’anno il programma sarà ricco di eventi imperdibili: mostre\, camminate\, visite guidate\, mercati\, degustazioni\, talk\, progetti per le scuole\, spettacoli e concerti animeranno Borgo San Donnino. \nFrancigena Fidenza Festival 2026: Scopri il Cuore della Via Francigena\nGrazie alla sua posizione strategica lungo l’antico itinerario che collega Canterbury a Santa Maria di Leuca\, Fidenza è il luogo ideale per celebrare e valorizzare la Via Francigena. Con queste premesse\, nasce il Francigena Fidenza Festival\, che nel 2026 raggiunge la sua sesta edizione. \nDal 5 al 10 maggio\, Fidenza si trasformerà in un palcoscenico culturale dedicato alla Via Francigena e ai cammini d’Italia e d’Europa. Organizzato dal Comune di Fidenza in collaborazione con l’Associazione Europea Vie Francigene (AEVF)\, il festival offrirà un ricco programma di eventi\, preparatevi quindi a intraprendere un nuovo cammino di conoscenza e trasformazione\, esplorando le strade di un luogo incantato e riscoprendo voi stessi lungo un viaggio alla scoperta della Via Francigena\, che potrebbe cambiare il mondo e il vostro modo di viverlo. \nFrancigena Fidenza Festival 2026: ecco il programma\nIl programma completo dell’edizione 2026 è attualmente in via di definizione e verrà pubblicato non appena sarà concluso e validato. La macchina organizzativa è già al lavoro per costruire un calendario capace di rinnovare l’energia del Festival e\, al tempo stesso\, restare fedele alla sua identità: la Via Francigena come esperienza viva\, fatta di passi\, incontri\, cultura e comunità. \nAnche quest’anno ci si prepara a una proposta articolata\, con appuntamenti diffusi\, momenti di approfondimento\, iniziative dedicate al cammino e occasioni di condivisione pensate per un pubblico ampio: camminatori\, appassionati di storia e territorio\, famiglie\, curiosi e chi desidera scoprire la Francigena da prospettive nuove. L’obiettivo è offrire un’edizione in continuità con le precedenti\, ma con uno slancio ulteriore\, portando nel Festival novità\, ospiti\, contenuti e format capaci di sorprendere. \n  \nFonte testo: https://www.francigenafidenzafestival.it/
URL:https://tabianoterme.it/event/francigena-fidenza-festival-2026/
LOCATION:Fidenza\, Piazza Duomo\, 16\, Fidenza\, 43036\, Italia
CATEGORIES:Bambini e famiglie,Camminata,Incontro,Outdoor
ATTACH;FMTTYPE=image/webp:https://tabianoterme.it/wp-content/uploads/2026/04/francigena-fidenza-festival-2026-1.webp
END:VEVENT
BEGIN:VEVENT
DTSTART;TZID=Europe/Rome:20260506T190000
DTEND;TZID=Europe/Rome:20260506T210000
DTSTAMP:20260424T010033
CREATED:20260407T120022Z
LAST-MODIFIED:20260407T120022Z
UID:14610-1778094000-1778101200@tabianoterme.it
SUMMARY:Francigena Fidenza Festival 2026: Trekking urbano nel cuore della città
DESCRIPTION:Mercoledì 6 maggio 2026\, ore 19:00 \nSulla strada per Roma\, Borgo San Donnino fu luogo di transito\, accoglienza e cura dei pellegrini\nUn trekking urbano lungo la Via Francigena nel cuore di Fidenza per mettersi sulle tracce dei pellegrini medievali. Attraverso le strade della città racconteremo i lunghi viaggi verso Roma\, le difficoltà del cammino e i luoghi di accoglienza dove i pellegrini trovavano riposo\, cure e ospitalità prima di ripartire. \nRitrovo: Piazza Duomo davanti alla torre Medievale\, ore 19:00 \nI punti che toccheremo durante il trekking sono la Cattedrale\, l’Oratorio di San Giorgio\, Piazza del Sambot\, il Teatro Magnani\, il Palazzo Comunale\, la Chiesa di Santa Maria ed ex Oratorio di Sant’Agata. \nPartecipazione gratuita\, prenotazione obbligatoria \nInformazioni e prenotazioni:\ninfo@verdeacque.it\niat.fidenza@terrediverdi.it\n392/9160719
URL:https://tabianoterme.it/event/francigena-fidenza-festival-2026-trekking-urbano-nel-cuore-della-citta/
LOCATION:Fidenza\, Piazza Duomo\, 16\, Fidenza\, 43036\, Italia
CATEGORIES:Bambini e famiglie,Camminata
ATTACH;FMTTYPE=image/webp:https://tabianoterme.it/wp-content/uploads/2026/04/francigena-fidenza-festival-2026-maggio-visita-guidata-pellegrini-1.webp
ORGANIZER;CN="Comune di Fidenza":MAILTO:iat.fidenza@terrediverdi.it
END:VEVENT
BEGIN:VEVENT
DTSTART;TZID=Europe/Rome:20260510T153000
DTEND;TZID=Europe/Rome:20260510T173000
DTSTAMP:20260424T010033
CREATED:20260407T121637Z
LAST-MODIFIED:20260407T121637Z
UID:14634-1778427000-1778434200@tabianoterme.it
SUMMARY:Francigena Fidenza Festival 2026: Camminata ad anello a Costamezzana
DESCRIPTION:Domenica 10 maggio 2026\, ore 15:30\nCamminata ad anello a Costamezzana \nCostamezzana\, sulle carte storiche Costa Mediana Tabernariorum ci suggerisce la sua posizione\, a mezza costa su colline e calanchi di antica formazione ma suggerisce anche la presenza di alcune taverne in grado di rifocillare pellegrini e viandanti. Faremo un percorso ad anello per conoscere meglio la storia della Val Parola\, ancora ricca di insediamenti abitativi e produttivi. \nRitrovo: parcheggio cimitero di Costamezzana ore 15:15\nLunghezza: 7 km – 2\,5 ore di camminata\n150 mt di dislivello \nCosto: € 10\,00 a persona\nMassimo 20 partecipanti \nInformazioni e prenotazioni:\ninfo@verdeacque.it\niat.fidenza@terrediverdi.it\n392/9160719
URL:https://tabianoterme.it/event/francigena-fidenza-festival-2026-camminata-ad-anello-a-costamezzana/
LOCATION:Fidenza\, Piazza Duomo\, 16\, Fidenza\, 43036\, Italia
CATEGORIES:Bambini e famiglie,Camminata,Outdoor
ATTACH;FMTTYPE=image/webp:https://tabianoterme.it/wp-content/uploads/2026/04/francigena-fidenza-festival-2026-maggio-costamezzana-camminata.webp
ORGANIZER;CN="Comune di Fidenza":MAILTO:iat.fidenza@terrediverdi.it
END:VEVENT
END:VCALENDAR