BEGIN:VCALENDAR
VERSION:2.0
PRODID:-//Tabiano terme - ECPv6.15.11//NONSGML v1.0//EN
CALSCALE:GREGORIAN
METHOD:PUBLISH
X-WR-CALNAME:Tabiano terme
X-ORIGINAL-URL:https://tabianoterme.it
X-WR-CALDESC:Eventi per Tabiano terme
REFRESH-INTERVAL;VALUE=DURATION:PT1H
X-Robots-Tag:noindex
X-PUBLISHED-TTL:PT1H
BEGIN:VTIMEZONE
TZID:Europe/Rome
BEGIN:DAYLIGHT
TZOFFSETFROM:+0100
TZOFFSETTO:+0200
TZNAME:CEST
DTSTART:20240331T010000
END:DAYLIGHT
BEGIN:STANDARD
TZOFFSETFROM:+0200
TZOFFSETTO:+0100
TZNAME:CET
DTSTART:20241027T010000
END:STANDARD
BEGIN:DAYLIGHT
TZOFFSETFROM:+0100
TZOFFSETTO:+0200
TZNAME:CEST
DTSTART:20250330T010000
END:DAYLIGHT
BEGIN:STANDARD
TZOFFSETFROM:+0200
TZOFFSETTO:+0100
TZNAME:CET
DTSTART:20251026T010000
END:STANDARD
BEGIN:DAYLIGHT
TZOFFSETFROM:+0100
TZOFFSETTO:+0200
TZNAME:CEST
DTSTART:20260329T010000
END:DAYLIGHT
BEGIN:STANDARD
TZOFFSETFROM:+0200
TZOFFSETTO:+0100
TZNAME:CET
DTSTART:20261025T010000
END:STANDARD
BEGIN:DAYLIGHT
TZOFFSETFROM:+0100
TZOFFSETTO:+0200
TZNAME:CEST
DTSTART:20270328T010000
END:DAYLIGHT
BEGIN:STANDARD
TZOFFSETFROM:+0200
TZOFFSETTO:+0100
TZNAME:CET
DTSTART:20271031T010000
END:STANDARD
END:VTIMEZONE
BEGIN:VEVENT
DTSTART;TZID=Europe/Rome:20251004T103000
DTEND;TZID=Europe/Rome:20260405T190000
DTSTAMP:20260420T194452
CREATED:20250908T085723Z
LAST-MODIFIED:20250908T085723Z
UID:13677-1759573800-1775415600@tabianoterme.it
SUMMARY:JEFF KOONS Balloons & Wonders
DESCRIPTION:La personale JEFF KOONS — Balloons & Wonders trasforma Palazzo Bertamini Lucca in un sorprendente teatro di riflessi: superfici cromate\, forme monumentali e colori che interrogano il rapporto tra oggetto\, spettatore e spazio. \nCurata da Luca Bravo e prodotta da Deodato Arte in collaborazione con il Comune di Fiorenzuola d’Arda\, la mostra raccoglie opere emblematiche — dalle Balloon series ai Gazing Ball fino alla serie Antiquity — in un percorso pensato per stupire\, coinvolgere e instaurare un dialogo tra contemporaneo e tradizione. \nVisitare la mostra significa lasciarsi catturare da un’esperienza sensoriale in cui il riflesso diventa racconto: lo spettatore si trova dentro l’opera e\, allo stesso tempo\, dentro la città che la ospita: Fiorenzuola d’Arda. \nAccanto all’esposizione principale\, il programma prevede visite guidate\, attività educational per le scuole e eventi pubblici che animeranno Palazzo Bertamini Lucca per l’intero periodo espositivo. \nPer informazioni su orari\, biglietti e calendario eventi segui il sito e i canali ufficiali di Fiorenzuola Eventi su Facebook e Instagram: aggiornamenti e approfondimenti saranno pubblicati regolarmente. \n 
URL:https://tabianoterme.it/event/jeff-koons-balloons-wonders/
LOCATION:Palazzo Bertamini Lucca\, Corso Garibaldi 11\, Fiorenzuola d'Arda
CATEGORIES:Bambini e famiglie,Mostra,Museo
ATTACH;FMTTYPE=image/png:https://tabianoterme.it/wp-content/uploads/2025/09/POST-IG-mostra.pdf-Post-Instagram-45.png
ORGANIZER;CN="Fiorenzuola Eventi":MAILTO:koons@fiorenzuolaeventi.it
END:VEVENT
BEGIN:VEVENT
DTSTART;TZID=Europe/Rome:20251010T100000
DTEND;TZID=Europe/Rome:20260215T190000
DTSTAMP:20260420T194452
CREATED:20251003T094108Z
LAST-MODIFIED:20260129T103901Z
UID:13719-1760090400-1771182000@tabianoterme.it
SUMMARY:“Giacomo Balla\, un universo di luce” a Parma - prorogata fino al 15 febbraio
DESCRIPTION:Dal 10 ottobre 2025 al 1 febbraio 2026Palazzo del Governatore – Parma \nLa collezione della Galleria Nazionale d’Arte Moderna e Contemporanea dal 10 ottobre 2025 al 1 febbraio 2026 riunirà per la prima volta\, fuori dalla sede romana di appartenenza\, nelle sale del Palazzo del Governatore di Parma\, tutti i lavori e capolavori del grande artista custoditi nel museo della capitale. Si tratta di un ingente prestito\, di oltre 60 opere\, della più completa collezione pubblica del percorso di ricerca di Giacomo Balla\, mai esposta in precedenza nella sua interezza. \nTra gli artisti più “rivoluzionari” del Novecento\, tanto da riconoscere in lui il “Leonardo da Vinci del XX secolo” – come amava definirsi – Giacomo Balla (Torino\, 1871-Roma\, 1958) sarà celebrato a Parma con una retrospettiva senza precedenti. Pittore della luce come fu già definito nel 1908\, la luce è sempre stata la sua fonte d’ispirazione\, il soggetto e insieme l’oggetto di un’indagine appassionata inseguita per tutta la vita senza soluzione di continuità. \nLa mostra\, realizzata e coorganizzata dal Comune di Parma e dalla Galleria Nazionale d’Arte Moderna e Contemporanea\, che presenterà al pubblico anche gli esiti di studi e di approfondimenti recenti sulla sorprendente collezione\, è a cura di Cesare Biasini Selvaggi e Renata Cristina Mazzantini con la collaborazione di Elena Gigli\, il contributo di Fondazione Cariparma e della Regione Emilia Romagna e la collaborazione di Solares Fondazione delle Arti. \nL’esposizione si fonda in particolare sul consistente e rappresentativo nucleo di opere provenienti dalla generosa donazione delle figlie dell’artista\, Elica e Luce Balla\, con l’illuminata integrazione di dipinti e disegni selezionati\, su indicazione della stessa Luce Balla\, da Maurizio Fagiolo dell’Arco\, grande studioso dell’artista\, con la collaborazione di Elena Gigli. \nNel biglietto è inclusa l’audioguida. \nOrari di apertura:\nmercoledì\, giovedì\, sabato e domenica dalle 10.00 alle 19.00 (ultimo ingresso alle 18.00); venerdì dalle 10.00 alle 22.00 (ultimo ingresso alle 21.00). Chiuso lunedì e martedì. Chiuso 25 dicembre e 1 gennaio.\nAperture straordinarie:\nsabato 1 novembre dalle 10.00 alle 14.00\nlunedì 8 dicembre dalle 10.00 alle 19.00\nmercoledì 24 dicembre dalle 10.00 alle 14.00\nvenerdì 26 dicembre dalle 10.00 alle 19.00\nmercoledì 31 dicembre dalle 10.00 alle 15.00\nmartedì 6 gennaio dalle 10.00 alle 19:00\nmartedì 13 gennaio dalle 10.00 alle 19:00\nChiusure straordinarie: giovedì 25 dicembre\, giovedì 1 gennaio
URL:https://tabianoterme.it/event/giacomo-balla-un-universo-di-luce-a-parma/
LOCATION:Palazzo del Governatore\, Piazza Giuseppe Garibaldi\, Parma\, Parma\, 43121\, Italy
CATEGORIES:Arte e Cultura,Bambini e famiglie,Cultura,Mostra,Museo,Visita guidata
ATTACH;FMTTYPE=image/jpeg:https://tabianoterme.it/wp-content/uploads/2025/10/Giacomo-Balla-un-universo-di-luce-1-700x400-1.jpg
END:VEVENT
BEGIN:VEVENT
DTSTART;VALUE=DATE:20251129
DTEND;VALUE=DATE:20260109
DTSTAMP:20260420T194452
CREATED:20251127T083020Z
LAST-MODIFIED:20251127T083020Z
UID:13943-1764374400-1767916799@tabianoterme.it
SUMMARY:La magia del Natale al Castello di Scipione
DESCRIPTION:La magia del Natale e delle Feste nel Castello Incantato Addobbato a festa\, l’albero scintillante di luci e la tavola imbandita\, il Castello accoglie grandi e piccoli nell’atmosfera incantata del Natale\, tra note musicali\, candele accese e giochi sotto l’albero. Possibilità prima o dopo la visita di degustare i piatti del territorio nelle trattorie e agriturismi vicini. \nDa sabato 29 novembre a martedì 6 gennaio \nSabato 29 e domenica 30 novembre 2025\nDomenica 7\, lunedì 8\, domenica 14\, 21\, 28 e mercoledì 31 dicembre 2025\nGiovedì 1\, domenica 4 e martedì 6 gennaio 2026\nalle 15h00\, 16h15 e 17h30 \nLa magica atmosfera del Natale è scesa sul millenario Castello incantato\, il più antico della provincia di Parma: l’albero addobbato troneggia nel salone giallo circondato da giocattoli d’altri tempi\, scintillano gli addobbi\, alcuni dei quali si tramandano in famiglia da 200 anni\, i saloni risplendono di mille luci\, i candelabri d’argento sono accesi e i camini decorati da folte ghirlande di pino\, frutti e bacche selvatiche. \nAnche l’elegante tavola delle feste è pronta come lo era due secoli fa e nei saloni i preziosi soffitti seicenteschi si vestono di luce\, tra profumi di spezie e di pino e tenui note musicali. Si potrà ripercorrere la storia del Castello più antico della Provincia\, costruito nel lontano anno mille da Adalberto Pallavicino\, tra i più illuminati condottieri del suo Secolo\, di cui ne cantano le lodi Torquato Tasso nella Gerusalemme Liberata e Ludovico Ariosto nell’Orlando Furioso\, e lasciarsi avvolgere dalla magia del luogo. \nPer l’occasione\, nel Salotto del Diavolo\, interamente affrescato\, la porta segreta si aprirà per mostrare l’antica via di fuga. Verranno inoltre aperti l’intero loggiato Seicentesco\, con le sue finestre che si aprono come quinte sceniche sul meraviglioso paesaggio collinare in fuga prospettica e il giardino ai piedi del Castello\, con la sua maestosa torre\, i merli e l’antica postazione delle guardie. \nUn suggestivo tour per grandi e piccoli nella calda e magica atmosfera del Natale e delle feste nel Castello Incantato\, sulle bellissime colline tra Parma e Piacenza\, a 2 km da Salsomaggiore Terme. \nPer chi vorrà trattenersi più a lungo sarà possibile pranzare presso i ristoranti e trattorie vicine e passare notti da fiaba nell’esclusiva Suite Azzurra\, che occupa l’intera torre a pianta quadrata del Castello\, su due piani\, con ampie finestre che regalano viste imperdibili sul paesaggio collinare e millenarie feritoie. \nPer informazioni: Castello di Scipione dei Marchesi Pallavicino – Tel: 0524 572381 – info@castellodiscipione.it – www.castellodiscipione.it \n  \nFonte testo: https://www.castellidelducato.it – Fonte foto: https://castelliemiliaromagna.it
URL:https://tabianoterme.it/event/la-magia-del-natale-al-castello-di-scipione/
LOCATION:castelllo di scipione
CATEGORIES:Bambini e famiglie,Concerto,Festa,Food
ATTACH;FMTTYPE=image/webp:https://tabianoterme.it/wp-content/uploads/2025/11/castello-scipione-salsomaggiore-natale-2025.webp
ORGANIZER;CN="Castello di Scipione":MAILTO:info@castellodiscipione.it
END:VEVENT
BEGIN:VEVENT
DTSTART;VALUE=DATE:20251129
DTEND;VALUE=DATE:20260112
DTSTAMP:20260420T194452
CREATED:20251127T083251Z
LAST-MODIFIED:20251127T083251Z
UID:13950-1764374400-1768175999@tabianoterme.it
SUMMARY:Fidenza: La luce del Natale
DESCRIPTION:Nel periodo più magico dell’anno Fidenza si anima con spettacoli\, visite guidate\, musica\, eventi solidali e tanti momenti di condivisione. \nEcco il programma completo \n  \nSabato 29 novembre\, dalle ore 10:00\nPiazza Garibaldi\nPista di pattinaggio su ghiaccio\nFino al 6 gennaio 2026 \nSabato 29 novembre\, ore 20:30\nTeatro G. Magnani\nRassegna Mangiamusica 2025\nCochi Ponzoni\, Claudio Sanfilippo\n“Canzoni intelligenti”\nAssociazione MangiacomeScrivi\nIngresso gratuito \nDomenica 30 novembre\, ore 16:00\nTeatro G. Magnani\nNon ci resta che ridere 2025\nSpettacolo benefico a offerta\nFidenza for children ODV \nda lunedì 1 a mercoledì 31 dicembre\nGelateria Pasticceria Al Paradise\, Via Berenini\, 70\nProgetto “Il gusto della vita”\nRaccolta fondi a favore di NeMo centro clinico esperto\nnella diagnosi e cura alle persone affette da malattie rare \nMercoledì 3 dicembre\, ore 20:00\nPizzeria da Gianni\, via Abate Zani\, 62\nPizzata Inclusiva\nCon esposizione di prodotti artigianali creati dai ragazzi e dai volontari\nFattoria la Rebecca \nda giovedì 4 a lunedì 8 dicembre\nParcheggio Shopping Parc\nGravity The Show! in EQUILIBRIUM – Lo Spettacolo più spericolato del Mondo\nUn super show innovativo di arti performative\, musica live\, cabaret\, danza acrobatica\,\nmagia\, poesia e sport\na cura di Word Event srls\nIngresso a pagamento \nVenerdì 5 dicembre\, dalle ore 8:00 alle ore 18:00\nScuola primaria paritaria Maddalena di Canossa\nBancarella della Solidarietà\na favore dei progetti nel mondo della Fondazione Canossiana \nVenerdì 5 dicembre\, ore 20:30\nGiornata Mondiale del Volontariato 2025\nTeatro G. Magnani\nIl secolo è mobile\nspettacolo multimediale\nIngresso gratuito \nSabato 6 dicembre\, dalle ore 8:30 alle 12:30\nPiazza Garibaldi\nCelebrazione “Santa Barbara”\na cura del Comando Prov.le Vigili del Fuoco di Parma\nDistaccamento di Fidenza\nEsposizione di automezzi e distribuzione gratuita di tè caldo e vin brulé\na cura del Gruppo Alpini Salsomaggiore Terme \nSabato 6 dicembre\, ore 9:30\nGiornata Mondiale del Volontariato 2025\nLa Tenda\, Via Coduro Fidenza\nIl valore che unisce. Volontariato e coesione sociale nel tempo del cambiamento\nIncontro \nSabato 6 dicembre\, ore 17:00\nPiazza Garibaldi\nUn albero diverso alto quanto l’Universo\nAccensione Albero di Natale e luminarie\nesecuzioni musicali della Banda Città di Fidenza \nSabato 6 dicembre\, ore 18:00\nCentro Giovanile Sala Civica\, Via G. Mazzini\, 3\nLa fattoria Yogica di Rebecca\nUna favola vera\nFattoria la Rebecca \nSabato 6 dicembre\, ore 20:30\nTeatro G. Magnani\nRassegna Mangiamusica 2025\nVan de Sfroos\, Mirò\, Guaitamacchi\, Boschetti\nJim Morrison – Fantasie di un poeta rock: canzoni suoni e visioni\nAssociazione MangiacomeScrivi\nIngresso gratuito \nSabato 6 dicembre\, ore 20:45\nChiesa di Santa Margherita\nConcerto di Avvento\nConcerto Coro Cantori di Santa Margherita APS e Coro Santa Maria delle Grazie di Cortemaggiore \nda sabato 6 a mercoledì 31 dicembre\nPiazza Garibaldi\nUn Chiosco di Libri…\nA Natale un libro per te: prenditi un libro!!!\nTornano i libri usati nell’edicola della Piazza \nSabato 6\, domenica 7 e lunedì 8 dicembre\nPiazza Garibaldi\, centro storico\nMagic Market\nMercatino natalizio \nDomenica 7 dicembre\, tutta la giornata\nFattoria la Rebecca\, Castione Marchesi\nApertura villaggio di Babbo Natale\nGiochi in fattoria con tantissimi premi per tutti i bambini \nDomenica 7 dicembre 2025\, ore 15:00\nSalone parrocchiale Pieve Cusignano\nSpongate e polenta\npremiazione della miglior spongata e distribuzione di bevande calde e vin brulé\nAssociazione Madre delle Grazie APS \nDomenica 7 dicembre\, ore 18:00\nCattedrale\nOrdinazione Presbiterale di Vincenzo Cristaldi e Fabrizio Di Michele\nper l’imposizione delle mani e la preghiera consacratoria di S.E. il Vescovo Mons. Ovidio Vezzoli \nDomenica 7 dicembre\, ore 18:00\nStagione di Prosa 2025-2026\nTeatro G. Magnani\nN’imPorte quoi\ndi Leandre Ribera\nIngresso a pagamento \nLunedì 8 dicembre\, ore 10:00 – 13:00 / 16:00 – 19:00\nVia Berenini 40 Fidenza\nAnolino Solidale\nImparare è un gioco di squadra\nParma Facciamo Squadra 2025 – Vendita degli anolini solidali\nDistribuzione di anolini fidentini\nCSV Emilia ODV \nLunedì 8 dicembre\, ore 11:00\nCattedrale\nSanta Messa per l’Immacolata Concezione\npresieduta da S.E. il Vescovo Mons. Ovidio Vezzoli \nLunedì 8 dicembre\, ore 15:30\nVari luoghi del centro storico\nLa grazia di Maria\nVisita guidata tra immagini e luoghi di devozione mariani\na cura di IAT-R Fidenza Casa Cremonini\nInformazioni e prenotazioni: IAT-R Fidenza Casa Cremonini 0524/83377 iat.fidenza@terrediverdi.it \nSabato 13 dicembre\, dalle ore 9:00 alle ore 18:00\nPiazza Garibaldi\nBancarella della Solidarietà\nDirezione Didattica “Ilaria Alpi”\, Plesso De Amicis\na favore dell’Associazione Mondo Nuovo e Associazione Amei per il progetto “Il sorriso di Martina” \nSabato 13\, lunedì 15\, mercoledì 17\, giovedì 18 e Venerdì 19 dicembre\nDirezione Didattica “Ilaria Alpi”\, Plesso De Amicis e Plesso Ongaro Cremonini\nBancarella della Solidarietà\na favore dell’Associazione Pubblica Assistenza di Fidenza e di due adozioni a distanza in Eritrea \nSabato 13 dicembre\, partenza ore 10:00\nPartenza ed arrivo in Piazza Duomo\nStreet Workout Christmas Edition\nPasseggiata del Benessere a cura di EMK Energy Mind Keto di Amadei Elisa \nSabato 13 dicembre\, ore 15:00\nViene Uno più grande di me\nda S. Michele alla Cattedrale\nSacra rappresentazione\nScuola paritaria Primaria e Secondaria di primo grado Il Seme \nSabato 13 dicembre\, ore 16:00\nPiazza Garibaldi e vie del centro storico\nZitti\, Zitti\, state buoni\, vien la Santa con i doni…\ncon la collaborazione di Associazione Asino che Vola e Studio Danza Fidenza \nSabato 13 dicembre\, dalle ore 16:00 alle ore 18:00\nGelateria Pasticceria al Paradise\, Via Berenini\, 70\nDegustazione di biscotti\nper decretare il biscotto dell’anno \nSabato 13 dicembre\, ore 17:00\nPortici del Municipio\nLumina in tenebris\nConcerto coro UniTre Fidenza \nSabato 13 dicembre\, ore 19:30\nCattedrale\nVeglia di accoglienza della luce della pace di Betlemme\npresieduta da S.E. il Vescovo Mons. Ovidio Vezzoli \nSabato 13 dicembre\, ore 20:30\nTeatro G. Magnani\nStagione lirico/concertistica 2025-2026\nCarmen di G. Bizet\nGruppo di Promozione Musicale “Tullio Marchetti”\nIngresso a pagamento \nda sabato 13 a mercoledì 31 dicembre\nBiblioteca Leoni\nLibri Sotto L’albero\nLa biblioteca metterà a disposizione sotto l’albero di Natale un libro in dono per ogni utente\nfino ad esaurimento scorte \nSabato 13 e domenica 14 dicembre\, tutta la giornata\nPiazza Garibaldi\, centro storico\nMagic Market\nMercatino natalizio \nDomenica 14 dicembre\, ore 17:00\nPortici del Municipio\, Via Gramsci\, Via Berenini\nLumina in tenebris\nConcerto coro FaSolLaSidel \nDomenica 14 dicembre\, ore 17:30\nTeatro G. Magnani\nCanta che ti passa\nSpettacolo benefico\nIngresso a offerta\nCroce Rossa comitato locale di Fidenza \nMartedì 16 dicembre\, ore 20:00\nCattedrale di Fidenza\nCanti di Natale\nScuola primaria paritaria Maddalena di Canossa \nMartedì 16 dicembre\, ore 20:30\nTeatro G. Magnani\nConcerto di Natale\nIstituto Comprensivo F.M. Ricci Fontanellato e Fontevivo \nGiovedì 18 dicembre\, ore 21:00\nStagione di Prosa 2025-2026\nTeatro G. Magnani\nDreamers\nAterballetto Danza\nIngresso a pagamento \nVenerdì 19 dicembre\, ore 11:00\nRidotto Teatro G. Magnani\nAuguri natalizi alla città \nVenerdì 19 dicembre\, ore 18:00 e ore 21:00\nTeatro G. Magnani\nDisney songs\nIstituto Comprensivo Fidenza scuola media P. Zani \nSabato 20 dicembre\, ore 12:00\nPiazza Garibaldi\nLotteria di Natale\nEvento solidale a cura di Associazione Protezione Civile ProCiv Gruppo Fidenza ETS – ODV \nSabato 20 dicembre\, ore 15:30\nCattedrale\nBorgo San Donnino e la sua Chiesa\nStoria della Cattedrale e racconti pellegrini\na cura di IAT-R Fidenza Casa Cremonini\nInformazioni e prenotazioni: IAT-R Fidenza Casa Cremonini 0524/83377 iat.fidenza@terrediverdi.it \nSabato 20 dicembre\, ore 18:00\nRidotto Teatro G. Magnani\nBorgo San Donnino e Fidenza dal primo 900 alla Costituente\nPresentazione\nANPI Associazione Nazionale Partigiani d’Italia \nSabato 20 dicembre\, ore 21:00\nTeatro G. Magnani\nSulle note del Natale\nAuguri a Fidenza\nBanda “Città di Fidenza” \nSabato 20 e domenica 21 dicembre\, intera giornata\nPiazza Garibaldi\, centro storico\nMagic Market\nMercatino natalizio \nSabato 20 e domenica 21 dicembre\, intera giornata\nPiazza Garibaldi\, centro storico\nFondazione Telethon Ets\nraccolta fondi con distribuzione di prodotti solidali \nDomenica 21 dicembre\, ore 17:30\nTeatro G. Magnani\nCantare è Vivere\n40° edizione\nConcerto coro Cantori di Santa Margherita APS \nDomenica 21 dicembre\, dalle ore 16:00 alle 18:00\nMuseo dei Fossili Palazzo delle Orsoline\nNatale al museo dei fossili\nGruppo Paleontofili Fidentini\nApertura al pubblico con ingresso gratuito \nMartedì 23 dicembre\, ore 18:00\nPortici del Municipio\nLumina in tenebris\nConcerto Corale Chorus Laetus \nMercoledì 24 dicembre\, ore 22:00\nCattedrale\nSanta Messa della Vigilia di Natale\npresieduta da S.E. il Vescovo Mons. Ovidio Vezzoli \nGiovedì 25 dicembre\, ore 11:00\nCattedrale\nSanta Messa del giorno di Natale\npresieduta da S.E. il Vescovo Mons. Ovidio Vezzoli \nSabato 27 dicembre\, ore 16:00\nTeatro G. Magnani\nLo splendore del Teatro Girolamo Magnani\nVisita guidata al gioiello ottocentesco del Borgo\na cura di IAT-R Fidenza Casa Cremonini\nInformazioni e prenotazioni: IAT-R Fidenza Casa Cremonini 0524/83377 iat.fidenza@terrediverdi.it \nSabato 27 dicembre\, ore 17:00\nPortici del Municipio\nLumina in tenebris\nConcerto Corale S. Donnino Città di Fidenza \nDomenica 28 dicembre\, ore 18:00\nCattedrale\nCelebrazione Eucaristica – Chiusura del Giubileo 2025\npresieduta da S.E. il Vescovo Mons. Ovidio Vezzoli \nMartedì 30 dicembre\, ore 17:00\nCentro Giovanile Via Mazzini n.3\nL’onorevole Peppone\, il compagno Don Camillo\, i giovani e il figlio di Duvivier. Un paese che vale per tre.\nMostra inaugurazione\nAmici di Giovannino Guareschi \nMartedì 30 Dicembre\, ore 21:00\nCentro Giovanile sala Mycinema\nI Cantoni e la macchina per ballare\nProiezione\nAmici di Giovannino Guareschi\nIngresso gratuito \nMercoledì 31 dicembre\, ore 17:00\nCattedrale\nTe Deum di ringraziamento per l’anno trascorso\ncelebrazione presieduta da S.E. il Vescovo Mons. Ovidio Vezzoli \n…… e poi molte altre sorprese \nGennaio 2026 \nGiovedì 1 gennaio\, ore 9:30\nCasa di riposo di Fidenza\nS. Messa presieduta da S.E. il Vescovo Mons. Ovidio Vezzoli \nDomenica 4 gennaio\, ore 16:00\nTeatro G. Magnani\nStagione lirico/concertistica 2025/2026\nIl pipistrello di J. Strauss – operetta\nGruppo Promozione Musicale “Tullio Marchetti”\nIngresso a pagamento \nMartedì 6 gennaio\, ore 16:00\nTeatro G. Magnani\nStreghe\nAccademia perduta\nAter Fondazione spettacolo per bambini dai 5 anni\nIngresso a pagamento € 5\,00 \nGiovedì 8 gennaio\, ore 21:00\nTeatro G. Magnani\nStagione di Prosa 2025/2026\nLa bisbetica domata di William Shakespeare\ncon Amanda Sandrelli\nIngresso a pagamento \nDomenica 11 gennaio\, ore 20:30\nTeatro G. Magnani\nStagione lirico/concertistica 2025/2026\nConcerto Sinfonico\nOrchestra Cupiditas\nGruppo Promozione Musicale “Tullio Marchetti”\nIngresso a pagamento
URL:https://tabianoterme.it/event/fidenza-la-luce-del-natale/
LOCATION:Fidenza\, Piazza Duomo\, 16\, Fidenza\, 43036\, Italia
CATEGORIES:Arte e Cultura,Bambini e famiglie,Camminata,Concerto,Danza,Festa,Fiera,Food,Intrattenimento
ATTACH;FMTTYPE=image/png:https://tabianoterme.it/wp-content/uploads/2025/11/natale-2025-fidenza.png
ORGANIZER;CN="Comune di Fidenza":MAILTO:iat.fidenza@terrediverdi.it
END:VEVENT
BEGIN:VEVENT
DTSTART;TZID=Europe/Rome:20251206T100000
DTEND;TZID=Europe/Rome:20260125T190000
DTSTAMP:20260420T194452
CREATED:20251215T114137Z
LAST-MODIFIED:20251215T114137Z
UID:14083-1765015200-1769367600@tabianoterme.it
SUMMARY:Presepio di Vigoleno
DESCRIPTION:Riapre le porte al pubblico il tradizionale presepio meccanico elettronico della parrocchia di Vigoleno\, un piccolo gioiello di artigianato artistico che da ormai oltre 30 anni arricchisce di calore il cuore del borgo medievale.\n\n\n\nIl presepio è visitabile da sabato 06 dicembre a domenica 25 gennaio tutti i weekend con orario 10.00-19.00. Nel periodo fra il 24 dicembre e il 06 gennaio sarà aperto tutti i giorni\, sempre con lo stesso orario\, eccetto di martedì.
URL:https://tabianoterme.it/event/presepio-di-vigoleno/
LOCATION:Mastio e Borgo di Vigoleno\, via Libertà s.n.\, Vigoleno PC\, 29010\, Italia
CATEGORIES:artigianato,Bambini e famiglie,Cultura
ATTACH;FMTTYPE=image/webp:https://tabianoterme.it/wp-content/uploads/2025/12/2025_PresepeMeccanicoVigoleno.jpg.webp
END:VEVENT
BEGIN:VEVENT
DTSTART;VALUE=DATE:20260108
DTEND;VALUE=DATE:20260202
DTSTAMP:20260420T194452
CREATED:20260108T102135Z
LAST-MODIFIED:20260108T102135Z
UID:14180-1767830400-1769990399@tabianoterme.it
SUMMARY:“Dalì. Tra arte e mito” al Palazzo Tarasconi di Parma
DESCRIPTION:Sabato 27 Settembre 2025 – Domenica 01 Febbraio 2026\nPalazzo Tarasconi\, Parma \nDal 27 settembre 2025 al 1° febbraio 2026\, le sale di Palazzo Tarasconi diventeranno teatro di un viaggio dentro ciò che sfugge eppure obbliga a guardare: una grande mostra che riunisce oltre ottanta opere di Salvador Dalí\, il visionario capace di trasformare il surrealismo in mito. \nCurata da Vincenzo Sanfo e prodotta da Navigare Srl\, l’esposizione non si limita a raccontare un artista\, ma a ricrearne l’universo. Disegni\, sculture\, incisioni\, ceramiche\, vetri\, gioielli\, libri e fotografie compongono il ritratto di un genio inquieto\, che ha piegato la logica e dato materia all’immaginazione. \nIl percorso\, di respiro antologico\, attraversa gli esordi e le amicizie decisive – con il poeta Federico García Lorca e il regista Luis Buñuel – fino agli ultimi esperimenti onirici della maturità. Opere rare\, provenienti da collezioni private di Belgio e Italia\, si intrecciano in questo viaggio: litografie dedicate alla Divina Commedia\, incisioni a puntasecca\, arazzi e persino boccette di profumo\, accanto a lavori di altri autori che\, con Dalí\, hanno alimentato il grande sogno collettivo del surrealismo europeo. \nVisitare la mostra significa varcare una soglia e attraversare se stessi: entrare in un paesaggio visivo senza confini\, dove reale e visionario si fondono. Non occorre essere esperti: basta la curiosità\, perché ogni opera di Dalí è un invito a sorprendersi\, a smarrirsi\, a lasciarsi emozionare. \nL’esposizione è aperta dal lunedì al venerdì dalle 9.30 alle 19.30\, e nel fine settimana fino alle 20.30\, con ultimo ingresso mezz’ora prima della chiusura. I biglietti\, disponibili anche su ticketone.it\, variano dai 13 euro nei giorni feriali ai 15 nei festivi\, con riduzioni a partire da 10 euro e ingressi gratuiti per i bambini fino a 5 anni. Per chi desidera evitare le attese\, è previsto un biglietto open salta-fila. \n  \nFonte testo: https://www.palazzotarasconi.it\nFonte foto: https://www.galeries-bartoux.com
URL:https://tabianoterme.it/event/dali-tra-arte-e-mito-al-palazzo-tarasconi-di-parma/
LOCATION:Palazzo Tarasconi\, via Farini\, 37\, Parma\, 43100
CATEGORIES:Arte e Cultura,Bambini e famiglie,Museo
ATTACH;FMTTYPE=image/webp:https://tabianoterme.it/wp-content/uploads/2026/01/salvador_dali_palazzo_tarasconi_2025.webp
ORGANIZER;CN="Comune di Parma":MAILTO:052140521@comune.parma.it
END:VEVENT
BEGIN:VEVENT
DTSTART;TZID=Europe/Rome:20260108T210000
DTEND;TZID=Europe/Rome:20260108T230000
DTSTAMP:20260420T194452
CREATED:20251127T090419Z
LAST-MODIFIED:20251127T090419Z
UID:14011-1767906000-1767913200@tabianoterme.it
SUMMARY:Stagione di Circo\, Danza e Prosa 2025-26 al Teatro Magnani di Fidenza
DESCRIPTION:Stagione di Circo\, Danza e Prosa 2025-26\nTeatro Girolamo Magnani di Fidenza (PR) \nÈ di nuovo tempo di teatro al Magnani di Fidenza: al via una stagione ricca di titoli e interpreti di grande richiamo\, che si realizza\, per il decimo anno consecutivo\, grazie alla collaborazione tra il Comune e ATER Fondazione. Dal 7 dicembre al 22 aprile 2026 si alterneranno 10 spettacoli\, per una programmazione che riunisce alcuni dei registi e degli attori di punta del panorama teatrale italiano. Tra i protagonisti: Amanda Sandrelli\, Pif\, Laura Marinoni\, Umberto Orsini; ampio spazio anche alla danza – due gli spettacoli in cartellone – e alle suggestioni del circo contemporaneo\, cui spetterà l’apertura della stagione. \nDi seguito il programma: \nDomenica 7 dicembre\nN’imPORTE quoi\ncirco contemporaneo \nGiovedì 18 dicembre\nDreamers\ndanza \nGiovedì 8 gennaio\nLa bisbetica domata\nprosa \nSabato 24 gennaio\nMomenti di trascurabile (IN)felicità\nprosa \nVenerdì 6 febbraio\nSogno di una notte di mezza estate\ndanza \nGiovedì 26 febbraio\nImprovvisamente l’estate scorsa\nprosa \nGiovedì 26 marzo\nAltro stato\nprosa \nMercoledì 1 aprile\nPrima del temporale\nprosa \nMercoledì 15 aprile\nLe Nostre Donne\nprosa \nMercoledì 22 aprile\nContrazioni pericolose\nprosa \n  \nINFORMAZIONI GENERALI\nInizio spettacoli ore 21 salvo differenti indicazioni. A spettacolo iniziato non sarà consentito l’accesso alla sala.\nSi invita il gentile pubblico a disattivare il cellulare prima dell’ingresso in sala. \nBIGLIETTI\nplatea e palco centrale – intero € 20\nplatea e palco centrale – ridotto € 17\npalco I fila – intero € 16\npalco I fila – ridotto € 13\npalco II fila di ogni ordine e palchi laterali – intero € 15\npalco II fila di ogni ordine e palchi laterali – ridotto € 12\ngalleria € 10\nPer chi non possiede un abbonamento o un carnet lo spettacolo Altro stato avrà un costo di € 5 posto unico \nABBONAMENTI\nabbonamento 10 spettacoli\nplatea e palco centrale – intero € 135\nplatea e palco centrale – ridotto € 117\npalco I fila – intero € 108\npalco I fila – ridotto € 90\npalco II fila di ogni ordine e palchi laterali – intero € 99\npalco II fila di ogni ordine e palchi laterali – ridotto € 81\ngalleria € 72\ncarnet 5 spettacoli\n4 spettacoli a scelta + Altro stato\nplatea e palco centrale – intero € 72\nplatea e palco centrale – ridotto € 64\npalco I fila – intero € 60\npalco I fila – ridotto € 48\npalco II fila di ogni ordine e palchi laterali – intero € 56\npalco II fila di ogni ordine e palchi laterali – ridotto € 44\ngalleria € 36\npalchi laterali: 1\, 2\, 3\, 16\, 17\, 18 \nRIDUZIONI BIGLIETTI E ABBONAMENTI\n• possessori di YoungER Card\n• over 60 anni\n• Soci e Socie COOP Alleanza 3.0 (solo sugli abbonamenti)\nStudenti delle scuole superiori\, universitari (fino ai 26 anni d’età e docenti accompagnatori (preventivamente indicati dall’istituto scolastico di provenienza) posto unico € 10\,00 – in base alla disponibilità dei posti liberi in sala. \nORARI BIGLIETTERIA\nPer tutta la durata della stagione gli orari saranno i seguenti:\n• mercoledì e sabato dalle 10 alle 13\n• venerdì dalle 17 alle 19\n• due ore prima dell’inizio di ogni spettacolo \nPER INFORMAZIONI E PRENOTAZIONI\nTeatro Girolamo Magnani\, piazza Giuseppe Verdi\, 1 – Fidenza (PR)\nTel: 0524 517508 / 345 9374728\nEmail: teatromagnani@ater.emr.it \n  \nFonte testo: Teatro Magnani
URL:https://tabianoterme.it/event/stagione-di-circo-danza-e-prosa-2025-26-al-teatro-magnani-di-fidenza/2026-01-08/
LOCATION:Teatro Magnani di Fidenza\, Piazza Verdi 1\, Fidenza
CATEGORIES:Arte e Cultura,Bambini e famiglie,Danza,Spettacolo,Teatro
ATTACH;FMTTYPE=image/webp:https://tabianoterme.it/wp-content/uploads/2025/11/Stagione-di-prosa-Teatro-Magnani-di-Fidenza-2025-26.webp
END:VEVENT
END:VCALENDAR