BEGIN:VCALENDAR
VERSION:2.0
PRODID:-//Tabiano terme - ECPv6.15.11//NONSGML v1.0//EN
CALSCALE:GREGORIAN
METHOD:PUBLISH
X-WR-CALNAME:Tabiano terme
X-ORIGINAL-URL:https://tabianoterme.it
X-WR-CALDESC:Eventi per Tabiano terme
REFRESH-INTERVAL;VALUE=DURATION:PT1H
X-Robots-Tag:noindex
X-PUBLISHED-TTL:PT1H
BEGIN:VTIMEZONE
TZID:Europe/Rome
BEGIN:DAYLIGHT
TZOFFSETFROM:+0100
TZOFFSETTO:+0200
TZNAME:CEST
DTSTART:20240331T010000
END:DAYLIGHT
BEGIN:STANDARD
TZOFFSETFROM:+0200
TZOFFSETTO:+0100
TZNAME:CET
DTSTART:20241027T010000
END:STANDARD
BEGIN:DAYLIGHT
TZOFFSETFROM:+0100
TZOFFSETTO:+0200
TZNAME:CEST
DTSTART:20250330T010000
END:DAYLIGHT
BEGIN:STANDARD
TZOFFSETFROM:+0200
TZOFFSETTO:+0100
TZNAME:CET
DTSTART:20251026T010000
END:STANDARD
BEGIN:DAYLIGHT
TZOFFSETFROM:+0100
TZOFFSETTO:+0200
TZNAME:CEST
DTSTART:20260329T010000
END:DAYLIGHT
BEGIN:STANDARD
TZOFFSETFROM:+0200
TZOFFSETTO:+0100
TZNAME:CET
DTSTART:20261025T010000
END:STANDARD
END:VTIMEZONE
BEGIN:VEVENT
DTSTART;TZID=Europe/Rome:20250419T080000
DTEND;TZID=Europe/Rome:20251031T123000
DTSTAMP:20260421T055803
CREATED:20250415T142638Z
LAST-MODIFIED:20250415T142638Z
UID:12941-1745049600-1761913800@tabianoterme.it
SUMMARY:Servizio Trasporto Urbano - Linea 2226 Tabiano
DESCRIPTION:Tabiano Bagni: servizio urbano attivo \n\nDal 19 aprile al 4 maggio e dal 31 maggio al 31 ottobre 2025\, dal lunedì alla domenica. \nPrima corsa ore 8.
URL:https://tabianoterme.it/event/servizio-trasporto-urbano-linea-2226-tabiano/
CATEGORIES:Bambini e famiglie,Outdoor
ATTACH;FMTTYPE=image/jpeg:https://tabianoterme.it/wp-content/uploads/2025/04/2226-Servizio-Urbano-di-Tabiano-2-768x593-1.jpg
END:VEVENT
BEGIN:VEVENT
DTSTART;TZID=Europe/Rome:20250905T100000
DTEND;TZID=Europe/Rome:20250914T170000
DTSTAMP:20260421T055803
CREATED:20250829T100144Z
LAST-MODIFIED:20250829T100144Z
UID:13615-1757066400-1757869200@tabianoterme.it
SUMMARY:Festival del Prosciutto di Parma XXVIII EDIZIONE
DESCRIPTION:Una grande festa per conoscere e degustare il Prosciutto di Parma e apprezzare le bellezze culturali e naturalistiche dei luoghi d’origine\n\n\n\n\nFestival del Prosciutto di Parma\, dal 5 al 7 settembre 2025\, per celebrare il Re dei Prosciutti: un calendario ricco di appuntamenti all’insegna della gastronomia\, dello spettacolo e della cultura. \nE la festa continua con “Prosciutto di Parma in festa” nei giorni del 12 – 13 – 14 settembre 2025!\nTorna in occasione della XXVIII edizione del Festival del Prosciutto di Parma l’iniziativa FINESTRE APERTE\, appuntamento principe della manifestazione che attrae ogni anno un folto pubblico di appassionati. \nI produttori apriranno le porte dei prosciuttifici per guidare i visitatori alla scoperta dei segreti del ciclo di lavorazione respirando i profumi delle cattedrali del Prosciutto di Parma.\n\n\nPer prendere parte a Finestre Aperte è obbligatoria la prenotazione: https://www.langhiranovalley.it/finestreaperte/
URL:https://tabianoterme.it/event/festival-del-prosciutto-di-parma-xxviii-edizione/
LOCATION:Langhirano
CATEGORIES:Bambini e famiglie,Enogastronomia,Food,Visita guidata
ATTACH;FMTTYPE=image/jpeg:https://tabianoterme.it/wp-content/uploads/2025/08/background-slider-programma-full.jpg
ORGANIZER;CN="Consorzio del Prosciutto di Parma":MAILTO:info@prosciuttodiparma.com
END:VEVENT
BEGIN:VEVENT
DTSTART;TZID=Europe/Rome:20250912T180000
DTEND;TZID=Europe/Rome:20250914T210000
DTSTAMP:20260421T055803
CREATED:20250902T090104Z
LAST-MODIFIED:20250902T090202Z
UID:13643-1757700000-1757883600@tabianoterme.it
SUMMARY:Sagra dell’Addolorata a Soragna
DESCRIPTION:Tre giorni di spettacoli\, musica\, divertimento e buon cibo per le vie del centro di Soragna. \nVENERDI (dalle 21:00) A TUTTA MUSICA\nApertura con Asteria Jazz Trio\nA tutta cover con BOOMBAND\nScateniamoci con DJ Satch \nSABATO (dalle 18:30) FESTIVAL INCREDIBILE\nSpettacolari esibizioni di circo contemporaneo e artisti di strada\, sotto la direzione artistica de l’ufficio Incredibile\nGran finale con il DJ Set di Mr Pine \nDOMENICA (dalle 16:30) REGNO DI NASONIA\nIncoronazione dei nuovi Re e Regina 2025\nCorteo con i costumi della storica Giostra dei Nasi\nRievocazione dei duelli di spada medievali\nParata di musici e sbandieratori\nMercatino dell’ingegno e creatività (sin dal mattino) \nPer tutti e tre i giorni:\nCucina tipica delle associazioni e commercianti del paese\nArea giochi con gonfiabili per i più piccoli \nMa il PROGRAMMA non finisce qui\, perchè ci saranno anche: la tradizionale biciclettata\, la caccia al tesoro\, l’estemporanea di pittura\, esibizioni di danza\, il raduno delle moto 2 tempi\, tornei di briscola e burraco e…tanto altro!
URL:https://tabianoterme.it/event/sagra-delladdolorata-a-soragna/
LOCATION:Soragna
CATEGORIES:Arte e Cultura,artigianato,Bambini e famiglie,Camminata,Concerto,Enogastronomia,Festa,Food,Intrattenimento,Outdoor,Rassegna,Spettacolo
ATTACH;FMTTYPE=image/jpeg:https://tabianoterme.it/wp-content/uploads/2025/09/517431361_122303079380003861_9145516947576467821_n.jpg
END:VEVENT
BEGIN:VEVENT
DTSTART;TZID=Europe/Rome:20250913T110000
DTEND;TZID=Europe/Rome:20250921T180000
DTSTAMP:20260421T055803
CREATED:20250829T104845Z
LAST-MODIFIED:20250829T104845Z
UID:13621-1757761200-1758477600@tabianoterme.it
SUMMARY:Il Salone del Camper
DESCRIPTION:Il Salone del Camper è l’appuntamento di riferimento per il turismo en plein air in Italia.\nDal 2010\, il luogo in cui scoprire le ultime novità dei veicoli ricreazionali e degli accessori dai principali produttori europei\, e lasciarsi ispirare da mete e itinerari inediti per programmare le prossime avventure on the road.\n\nTutto è pronto per la 16^ edizione del Salone del Camper\, la più importante fiera riservata ai veicoli ricreazionali e al turismo all’aria aperta. Organizzata da Fiere di Parma in collaborazione con APC (Associazione Produttori Caravan e Camper)\, punta quest’anno a superare i numeri record della passata edizione che aveva avuto oltre 330 espositori complessivi (di cui 65 esteri provenienti da 16 paesi diversi)\, una superficie espositiva totale di oltre 110.000 metri e una presenza di oltre 600 diversi modelli di veicoli ricreazionali; oltre 100.000 ingressi\, oltre 55.000 ticket emessi on line; 10 diverse aree per eventi ed attività esperienziali. \nL’inaugurazione dell’edizione 2025 è prevista per sabato 13 settembre alle ore 11\,00 in sala Pietro Barilla (Fiere di Parma).
URL:https://tabianoterme.it/event/il-salone-del-camper/
LOCATION:Fiere di Parma\, Viale delle Esposizioni 393A\, Parma\, Italia\, 43126\, Italia
CATEGORIES:Bambini e famiglie,Fiera
ATTACH;FMTTYPE=image/jpeg:https://tabianoterme.it/wp-content/uploads/2025/08/Comunicato-14.jpg
ORGANIZER;CN="Fiere di Parma":MAILTO:info@fiereparma.it
END:VEVENT
BEGIN:VEVENT
DTSTART;TZID=Europe/Rome:20250913T110000
DTEND;TZID=Europe/Rome:20251109T160000
DTSTAMP:20260421T055803
CREATED:20250829T071906Z
LAST-MODIFIED:20250829T071906Z
UID:13598-1757761200-1762704000@tabianoterme.it
SUMMARY:Mostra "I BALOCCHI DI UNA VOLTA"
DESCRIPTION:Un’ampia selezione di giocattoli d’epoca che spaziano dalla fine del XIX secolo fino al dopoguerra racconterà la storia della produzione di giocattoli in Italia\, un settore di nicchia ma di alto livello che\, sull’esempio dei più noti e già affermati mercati europei\, introdusse per la prima volta nel nostro paese l’idea di una produzione su scala industriale di oggetti destinati a divertire i bambini\, realizzati con somma maestria artigianale e materiali di qualità\, una strada di difficile percorrenza in un’economia\, quella italiana del primo Novecento\, ancora arretrata. \nGli oggetti esposti non mancheranno di emozionare profondamente il pubblico\, sorprendendo le nuove generazioni e smuovendo nei più grandi lontani ricordi d’infanzia: bambole\, macchinine\, una infinita varietà di mezzi di trasporto\, giostre\, lanterne magiche e tanti altri oggetti\, a volte dotati di meccanismi e movimenti a molla\, sono realizzati in latta\, legno e ceramica\, frutto di una profonda abilità artigianale e di una indubbia creatività che nel secondo Novecento ha dovuto cedere il passo ai nuovi mercati asiatici e ai più economici materiali sintetici. \nLa mostra rimarrà aperta ad ingresso libero fino a domenica 9 novembre\, seguendo gli orari di apertura del Museo. \nSono previste VISITE GUIDATE GRATUITE \nalle ore 10.30 nelle giornate di: \nsabato 20 e 27 settembre\nsabato 4\, 18 e 25 ottobre\nsabato 8 novembre \nInfo e prenotazioni alla mail info@museoglaucolombardi.it o al numero del Museo 0521 233727
URL:https://tabianoterme.it/event/mostra-i-balocchi-di-una-volta/
LOCATION:Museo Glauco Lombardi\, Strada G. Garibaldi\, 15 - Parma\, Parma\, Italia\, 43121
CATEGORIES:Bambini e famiglie,Mostra,Museo,Visita guidata
ATTACH;FMTTYPE=image/png:https://tabianoterme.it/wp-content/uploads/2025/08/unnamed.png
ORGANIZER;CN="Museo Glauco Lombardi":MAILTO:info@museoglaucolombardi.it.
END:VEVENT
BEGIN:VEVENT
DTSTART;TZID=Europe/Rome:20250913T143000
DTEND;TZID=Europe/Rome:20250913T180000
DTSTAMP:20260421T055803
CREATED:20250825T085240Z
LAST-MODIFIED:20250825T085441Z
UID:13555-1757773800-1757786400@tabianoterme.it
SUMMARY:L’Anello dei Calanchi: camminata ad anello tra le colline di Fidenza.
DESCRIPTION:Non si finisce mai di scoprire angoli del nostro territorio inesplorati: camminata ad anello tra le colline di Fidenza.\nQuesto insolito percorso ci permette anche di guadare il Parola un paio di volte. \nDi seguito i dettagli: \nRitrovo alle ore 14:30 al cimitero di Costamezzana\nDurata: 3H ca (soste escluse)\nLunghezza: 9\,5 km\nDifficoltà: media\nCosto: € 12\,00 a persona\, gratuito under 10\nEtà minima: 6 anni \nDurante il percorso si avrà l’occasione di sostare in una trattoria\, per gustare un delizioso aperitivo! \nOccorre portare un paio in più di calze per attraversamento Parola. In alternativa scarpette da scoglio o sandali. \nIl gruppo è accompagnato da una guida ambientale escursionistica. \nL’evento è confermato al raggiungimento del numero minimo di 10 partecipanti paganti\, massimo 20 partecipanti.\nPrenotazione obbligatoria entro le ore 12:00 di venerdì 12 settembre. \nCon riferimento alla normativa della Regione Emilia Romagna legata alla peste suina\, si raccomanda di portare con sé un paio di scarpe di ricambio da indossare alla fine del percorso e di provvedere alla disinfezione delle calzature utilizzate durante l’escursione. \nPer informazioni e prenotazioni:\nIAT-R Fidenza Casa Cremonini\nTel. 0524/83377\niat.fidenza@terrediverdi.it
URL:https://tabianoterme.it/event/lanello-dei-calanchi-camminata-ad-anello-tra-le-colline-di-fidenza/
LOCATION:Costamezzana\, 43015
CATEGORIES:Bambini e famiglie,Camminata,Outdoor,Visita guidata
ATTACH;FMTTYPE=image/webp:https://tabianoterme.it/wp-content/uploads/2025/08/Costamezzana.webp
ORGANIZER;CN="IAT Casa Cremonini Fidenza":MAILTO:iat.fidenza@terrediverdi.it
END:VEVENT
END:VCALENDAR