BEGIN:VCALENDAR
VERSION:2.0
PRODID:-//Tabiano terme - ECPv6.15.11//NONSGML v1.0//EN
CALSCALE:GREGORIAN
METHOD:PUBLISH
X-ORIGINAL-URL:https://tabianoterme.it
X-WR-CALDESC:Eventi per Tabiano terme
REFRESH-INTERVAL;VALUE=DURATION:PT1H
X-Robots-Tag:noindex
X-PUBLISHED-TTL:PT1H
BEGIN:VTIMEZONE
TZID:Europe/Rome
BEGIN:DAYLIGHT
TZOFFSETFROM:+0100
TZOFFSETTO:+0200
TZNAME:CEST
DTSTART:20240331T010000
END:DAYLIGHT
BEGIN:STANDARD
TZOFFSETFROM:+0200
TZOFFSETTO:+0100
TZNAME:CET
DTSTART:20241027T010000
END:STANDARD
BEGIN:DAYLIGHT
TZOFFSETFROM:+0100
TZOFFSETTO:+0200
TZNAME:CEST
DTSTART:20250330T010000
END:DAYLIGHT
BEGIN:STANDARD
TZOFFSETFROM:+0200
TZOFFSETTO:+0100
TZNAME:CET
DTSTART:20251026T010000
END:STANDARD
BEGIN:DAYLIGHT
TZOFFSETFROM:+0100
TZOFFSETTO:+0200
TZNAME:CEST
DTSTART:20260329T010000
END:DAYLIGHT
BEGIN:STANDARD
TZOFFSETFROM:+0200
TZOFFSETTO:+0100
TZNAME:CET
DTSTART:20261025T010000
END:STANDARD
END:VTIMEZONE
BEGIN:VEVENT
DTSTART;TZID=Europe/Rome:20250419T080000
DTEND;TZID=Europe/Rome:20251031T123000
DTSTAMP:20260421T075143
CREATED:20250415T142638Z
LAST-MODIFIED:20250415T142638Z
UID:12941-1745049600-1761913800@tabianoterme.it
SUMMARY:Servizio Trasporto Urbano - Linea 2226 Tabiano
DESCRIPTION:Tabiano Bagni: servizio urbano attivo \n\nDal 19 aprile al 4 maggio e dal 31 maggio al 31 ottobre 2025\, dal lunedì alla domenica. \nPrima corsa ore 8.
URL:https://tabianoterme.it/event/servizio-trasporto-urbano-linea-2226-tabiano/
CATEGORIES:Bambini e famiglie,Outdoor
ATTACH;FMTTYPE=image/jpeg:https://tabianoterme.it/wp-content/uploads/2025/04/2226-Servizio-Urbano-di-Tabiano-2-768x593-1.jpg
END:VEVENT
BEGIN:VEVENT
DTSTART;TZID=Europe/Rome:20250725T210000
DTEND;TZID=Europe/Rome:20250725T223000
DTSTAMP:20260421T075143
CREATED:20250703T150910Z
LAST-MODIFIED:20250703T150910Z
UID:13307-1753477200-1753482600@tabianoterme.it
SUMMARY:CINEMA SOTTO LE STELLE A TABIANO!
DESCRIPTION:📍 Pasticceria di Tabiano \n🗓️ Tutti i venerdì dal 25 luglio al 22 agosto \n🕘 Ore 21:15 \n🎟️ Ingresso gratuito! \nVenerdì 25 luglio – Prendi il volo \nVenerdì 1 agosto – BEETLEJUICE BEETLEJUICE \nVenerdì 8 agosto – Ma chi ti conosce? \nSabato 16 agosto – Trolls 3 \nVenerdì 22 agosto – IF gli amici immaginari
URL:https://tabianoterme.it/event/cinema-sotto-le-stelle-a-tabiano/2025-07-25/
LOCATION:Viale alle fonti 7\, Pasticceria Tabiano\, Viale alle fonti 7\, Tabiano Terme\, PR\, 43039\, Italia
CATEGORIES:Bambini e famiglie,Cinema,Rassegna,Spettacolo
ATTACH;FMTTYPE=image/png:https://tabianoterme.it/wp-content/uploads/2025/07/2025-c-the-Cinema-Show-Tabiano-2023.png
ORGANIZER;CN="Consorzio Abitabiano":MAILTO:info@tabianoterme.it
END:VEVENT
BEGIN:VEVENT
DTSTART;TZID=Europe/Rome:20250725T210000
DTEND;TZID=Europe/Rome:20250725T223000
DTSTAMP:20260421T075143
CREATED:20250703T154310Z
LAST-MODIFIED:20250703T154310Z
UID:13340-1753477200-1753482600@tabianoterme.it
SUMMARY:Amici per le ossa al buio!
DESCRIPTION:Hai mai preso in mano il cranio di un animale e osservato i suoi denti e la forma delle sue ossa? Cosa cambia tra i denti di un erbivoro e quello di un carnivoro? E i pesci? E le balene? Una serata in cui diventare amici delle ossa e scoprire attraverso osservazione e manipolazione come siamo diversi ma uguali insieme.
URL:https://tabianoterme.it/event/amici-per-le-ossa-al-buio/
LOCATION:MuMAB- Museo Mare Antico e Biodiversità\, Podere Millepioppi\, Salsomaggiore Terme\, PR\, 43039\, Italia
CATEGORIES:Bambini e famiglie,Museo,Outdoor,Visita guidata
ATTACH;FMTTYPE=image/jpeg:https://tabianoterme.it/wp-content/uploads/2025/07/amici-per-le-ossa-1-1024x577-1.jpg
ORGANIZER;CN="MuMAB - Museo Mare Antico e Biodiversit%C3%A0":MAILTO:mumab@millepioppi.it
END:VEVENT
END:VCALENDAR