BEGIN:VCALENDAR
VERSION:2.0
PRODID:-//Tabiano terme - ECPv6.15.11//NONSGML v1.0//EN
CALSCALE:GREGORIAN
METHOD:PUBLISH
X-WR-CALNAME:Tabiano terme
X-ORIGINAL-URL:https://tabianoterme.it
X-WR-CALDESC:Eventi per Tabiano terme
REFRESH-INTERVAL;VALUE=DURATION:PT1H
X-Robots-Tag:noindex
X-PUBLISHED-TTL:PT1H
BEGIN:VTIMEZONE
TZID:Europe/Rome
BEGIN:DAYLIGHT
TZOFFSETFROM:+0100
TZOFFSETTO:+0200
TZNAME:CEST
DTSTART:20240331T010000
END:DAYLIGHT
BEGIN:STANDARD
TZOFFSETFROM:+0200
TZOFFSETTO:+0100
TZNAME:CET
DTSTART:20241027T010000
END:STANDARD
BEGIN:DAYLIGHT
TZOFFSETFROM:+0100
TZOFFSETTO:+0200
TZNAME:CEST
DTSTART:20250330T010000
END:DAYLIGHT
BEGIN:STANDARD
TZOFFSETFROM:+0200
TZOFFSETTO:+0100
TZNAME:CET
DTSTART:20251026T010000
END:STANDARD
BEGIN:DAYLIGHT
TZOFFSETFROM:+0100
TZOFFSETTO:+0200
TZNAME:CEST
DTSTART:20260329T010000
END:DAYLIGHT
BEGIN:STANDARD
TZOFFSETFROM:+0200
TZOFFSETTO:+0100
TZNAME:CET
DTSTART:20261025T010000
END:STANDARD
END:VTIMEZONE
BEGIN:VEVENT
DTSTART;TZID=Europe/Rome:20250419T080000
DTEND;TZID=Europe/Rome:20251031T123000
DTSTAMP:20260421T172213
CREATED:20250415T142638Z
LAST-MODIFIED:20250415T142638Z
UID:12941-1745049600-1761913800@tabianoterme.it
SUMMARY:Servizio Trasporto Urbano - Linea 2226 Tabiano
DESCRIPTION:Tabiano Bagni: servizio urbano attivo \n\nDal 19 aprile al 4 maggio e dal 31 maggio al 31 ottobre 2025\, dal lunedì alla domenica. \nPrima corsa ore 8.
URL:https://tabianoterme.it/event/servizio-trasporto-urbano-linea-2226-tabiano/
CATEGORIES:Bambini e famiglie,Outdoor
ATTACH;FMTTYPE=image/jpeg:https://tabianoterme.it/wp-content/uploads/2025/04/2226-Servizio-Urbano-di-Tabiano-2-768x593-1.jpg
END:VEVENT
BEGIN:VEVENT
DTSTART;TZID=Europe/Rome:20250517T100000
DTEND;TZID=Europe/Rome:20250629T190000
DTSTAMP:20260421T172213
CREATED:20250515T144147Z
LAST-MODIFIED:20250515T144256Z
UID:13075-1747476000-1751223600@tabianoterme.it
SUMMARY:Mostra "PAESAGGIO APPENNINO. Passato e Presente"
DESCRIPTION:Questo è il titolo della mostra organizzata da CAI Sezione di Parma in occasione del 150° della fondazione della Sezione. \nSarà visitabile dal 17 maggio al 29 giugno a Palazzo Pigorini Parma. \nE’ un percorso tra arte\, letteratura e fotografia\, quello proposto dalla mostra curata da Andrea Greci. \nUn affascinante viaggio alla scoperta dell’evoluzione del paesaggio appenninico\, in particolare quello parmense\, attraverso dipinti\, fotografie storiche e contemporanee\, incisioni\, mappe\, pannelli illustrativi e documenti d’archivio. \nDa non perdere. Ingresso Gratuito
URL:https://tabianoterme.it/event/mostra-paesaggio-appennino-passato-e-presente/
LOCATION:Palazzo Pigorini\, Strada della Repubblica 29/A\, Parma\, 43121
CATEGORIES:Bambini e famiglie,Camminata,Mostra,Musica,Outdoor
ATTACH;FMTTYPE=image/jpeg:https://tabianoterme.it/wp-content/uploads/2025/05/imgnews.jpg
END:VEVENT
BEGIN:VEVENT
DTSTART;VALUE=DATE:20250628
DTEND;VALUE=DATE:20250630
DTSTAMP:20260421T172213
CREATED:20250117T152731Z
LAST-MODIFIED:20250203T104932Z
UID:12740-1751068800-1751241599@tabianoterme.it
SUMMARY:Scopri la Storia del Prosciutto di Parma
DESCRIPTION:Sei pronto a immergerti nella tradizione culinaria di Parma? Vieni a visitare il Museo del Prosciutto di Parma\, un’esperienza unica che ti porterà nel cuore della storia e della cultura del Prosciutto di Parma\, prodotto di eccellenza apprezzato in tutto il mondo. \nSituato a Langhirano\, la capitale del Prosciutto di Parma\, il museo ha sede nell’affascinante ex Foro Boario\, una struttura storica completamente restaurata\, che ti racconta l’evoluzione del prosciutto e degli altri salumi del territorio parmense. In questo spazio\, che un tempo ospitava il mercato del bestiame\, potrai scoprire come la tradizione salumiera si sia sviluppata grazie alle risorse naturali del territorio\, dalle razze suine locali all’arte della norcineria\, dal sale come conservante alle moderne tecniche di lavorazione. \nIl percorso espositivo si articola in otto sezioni tematiche che raccontano il territorio\, le razze suine\, il sale\, la norcineria\, e molto altro\, fino ad arrivare alla gastronomia e al Consorzio del Prosciutto di Parma\, che garantisce la qualità di questo straordinario prodotto. \nNon perdere l’occasione di visitare la Prosciutteria del Museo e il negozio dove potrai assaporare e acquistare i migliori prodotti tipici del territorio. \nDove:\nMuseo del Prosciutto di Parma\, Langhirano (PR)\, ex Foro Boario. \nQuando:\naperto sabato\, domenica e giorni festivi\, dalle ore 10 alle ore 18 \nE-mail: prenotazioni.prosciutto@museidelcibo.it
URL:https://tabianoterme.it/event/scopri-la-storia-del-prosciutto-di-parma/
LOCATION:Museo del Prosciutto di Parma\, Via Fabio Bocchialini\, 7\, Langhirano PR\, 43013\, Italia
CATEGORIES:Bambini e famiglie,Enogastronomia,Food,Intrattenimento
ATTACH;FMTTYPE=image/jpeg:https://tabianoterme.it/wp-content/uploads/2025/01/BLOG-4-5-1.jpg
ORGANIZER;CN="Musei del Cibo della Provincia di Parma":MAILTO:info@museidelcibo.it
END:VEVENT
BEGIN:VEVENT
DTSTART;TZID=Europe/Rome:20250628T100000
DTEND;TZID=Europe/Rome:20250629T190000
DTSTAMP:20260421T172213
CREATED:20250530T075938Z
LAST-MODIFIED:20250530T075938Z
UID:13160-1751104800-1751223600@tabianoterme.it
SUMMARY:NOTTE CELESTE 2025
DESCRIPTION:SABATO 28 GIUGNO \nConferenza “Salute e Benessere alle Terme” per scoprire le ricchezze del nostro territorio\,\nle proprietà delle acque termali\, i loro effetti benefici e le principali indicazioni terapeutiche.\nOre 10.00 – Terme Respighi di Tabiano \n  \nOpen Day alle Terme di Tabiano – Prova gratuita della cura termale. Prima del trattamento\,\nè previsto un breve colloquio con il medico termale in loco\, che valuterà l’idoneità e guiderà\nl’esperienza nel modo più sicuro e personalizzato possibile.\nDalle 11.00 alle 13.00 – Terme Respighi di Tabiano\nPrenotazione obbligatoria al numero 0524.582611 \n  \nMusica dal Vivo – Schiavo canta De André\nOre 21.00 – Piazza Verdi Tabiano \n\nApertura serale T-Spatium – Un’esperienza esclusiva all’insegna del relax e del rigenerante potere delle acque termali\nDalle 20.00 alle 23.00 – TSpatium Tabiano Terme\nPrenotazione obbligatoria al numero 0524.564130 o t-spatium@termeditabiano.it\nEvento a pagamento \nBen-Essere Celeste – Due giornate alla cura di sé con percorsi speciali e trattamenti in promozione al T-Spatium\nTutto il giorno\nInformazioni e prenotazioni al numero 0524.564130 o t-spatium@termeditabiano.it\nEvento a pagamento \n  \nDOMENICA 29 GIUGNO \nVisite guidate al Castello di Tabiano\nOre 10.00 – 11.00 – 16.00 – 17.00 (a pagamento)\nTrasporto gratuito da Tabiano Bagni per le visite guidate delle 11.00\, con partenza alle 10.00. \n  \nBen-Essere Celeste – Due giornate alla cura di sé con percorsi speciali e trattamenti in promozione al T-Spatium\nTutto il giorno\nInformazioni e prenotazioni al numero 0524.564130 o t-spatium@termeditabiano.it\nEvento a pagamento
URL:https://tabianoterme.it/event/notte-celeste-2025/
LOCATION:Tabiano Terme
CATEGORIES:Bambini e famiglie,Concerto,Incontro,Musica,Rassegna,Salute e benessere,Spettacolo,Visita guidata,Workshop
ATTACH;FMTTYPE=image/jpeg:https://tabianoterme.it/wp-content/uploads/2025/05/visit-5.jpg
END:VEVENT
BEGIN:VEVENT
DTSTART;TZID=Europe/Rome:20250628T150000
DTEND;TZID=Europe/Rome:20250628T170000
DTSTAMP:20260421T172213
CREATED:20250627T100322Z
LAST-MODIFIED:20250627T100322Z
UID:13294-1751122800-1751130000@tabianoterme.it
SUMMARY:Laboratorio ronzante – MuMAB
DESCRIPTION:Esploriamo il mondo degli impollinatori! \nChe cos’è un laboratorio ronzante? È un’esperienza educativa pensata per far conoscere da vicino gli insetti impollinatori\, protagonisti silenziosi ma essenziali della biodiversità. \nAttraverso storie\, osservazioni e piccoli esperimenti\, scopriremo insieme chi sono questi insetti\, dove vivono e perché il loro lavoro è così importante per le piante… e per noi!Al termine\, daremo spazio alla creatività con un laboratorio ispirato al libro Laboratorio ronzante: costruiremo i nostri impollinatori usando materiali semplici e tanta fantasia. \nL’attività è pensata per bambini dai 7 ai 12 anni e non richiede la presenza di un adulto.
URL:https://tabianoterme.it/event/laboratorio-ronzante-mumab/
LOCATION:MuMAB- Museo Mare Antico e Biodiversità\, Podere Millepioppi\, Salsomaggiore Terme\, PR\, 43039\, Italia
CATEGORIES:Bambini e famiglie,Camminata,Museo,Outdoor,Visita guidata
ATTACH;FMTTYPE=image/jpeg:https://tabianoterme.it/wp-content/uploads/2025/06/Progetto-senza-titolo-2025-06-09T121508.280.jpg
ORGANIZER;CN="MuMAB - Museo Mare Antico e Biodiversit%C3%A0":MAILTO:mumab@millepioppi.it
END:VEVENT
END:VCALENDAR