BEGIN:VCALENDAR
VERSION:2.0
PRODID:-//Tabiano terme - ECPv6.15.11//NONSGML v1.0//EN
CALSCALE:GREGORIAN
METHOD:PUBLISH
X-ORIGINAL-URL:https://tabianoterme.it
X-WR-CALDESC:Eventi per Tabiano terme
REFRESH-INTERVAL;VALUE=DURATION:PT1H
X-Robots-Tag:noindex
X-PUBLISHED-TTL:PT1H
BEGIN:VTIMEZONE
TZID:Europe/Rome
BEGIN:DAYLIGHT
TZOFFSETFROM:+0100
TZOFFSETTO:+0200
TZNAME:CEST
DTSTART:20240331T010000
END:DAYLIGHT
BEGIN:STANDARD
TZOFFSETFROM:+0200
TZOFFSETTO:+0100
TZNAME:CET
DTSTART:20241027T010000
END:STANDARD
BEGIN:DAYLIGHT
TZOFFSETFROM:+0100
TZOFFSETTO:+0200
TZNAME:CEST
DTSTART:20250330T010000
END:DAYLIGHT
BEGIN:STANDARD
TZOFFSETFROM:+0200
TZOFFSETTO:+0100
TZNAME:CET
DTSTART:20251026T010000
END:STANDARD
BEGIN:DAYLIGHT
TZOFFSETFROM:+0100
TZOFFSETTO:+0200
TZNAME:CEST
DTSTART:20260329T010000
END:DAYLIGHT
BEGIN:STANDARD
TZOFFSETFROM:+0200
TZOFFSETTO:+0100
TZNAME:CET
DTSTART:20261025T010000
END:STANDARD
END:VTIMEZONE
BEGIN:VEVENT
DTSTART;TZID=Europe/Rome:20250419T080000
DTEND;TZID=Europe/Rome:20251031T123000
DTSTAMP:20260421T203109
CREATED:20250415T142638Z
LAST-MODIFIED:20250415T142638Z
UID:12941-1745049600-1761913800@tabianoterme.it
SUMMARY:Servizio Trasporto Urbano - Linea 2226 Tabiano
DESCRIPTION:Tabiano Bagni: servizio urbano attivo \n\nDal 19 aprile al 4 maggio e dal 31 maggio al 31 ottobre 2025\, dal lunedì alla domenica. \nPrima corsa ore 8.
URL:https://tabianoterme.it/event/servizio-trasporto-urbano-linea-2226-tabiano/
CATEGORIES:Bambini e famiglie,Outdoor
ATTACH;FMTTYPE=image/jpeg:https://tabianoterme.it/wp-content/uploads/2025/04/2226-Servizio-Urbano-di-Tabiano-2-768x593-1.jpg
END:VEVENT
BEGIN:VEVENT
DTSTART;TZID=Europe/Rome:20250517T100000
DTEND;TZID=Europe/Rome:20250629T190000
DTSTAMP:20260421T203109
CREATED:20250515T144147Z
LAST-MODIFIED:20250515T144256Z
UID:13075-1747476000-1751223600@tabianoterme.it
SUMMARY:Mostra "PAESAGGIO APPENNINO. Passato e Presente"
DESCRIPTION:Questo è il titolo della mostra organizzata da CAI Sezione di Parma in occasione del 150° della fondazione della Sezione. \nSarà visitabile dal 17 maggio al 29 giugno a Palazzo Pigorini Parma. \nE’ un percorso tra arte\, letteratura e fotografia\, quello proposto dalla mostra curata da Andrea Greci. \nUn affascinante viaggio alla scoperta dell’evoluzione del paesaggio appenninico\, in particolare quello parmense\, attraverso dipinti\, fotografie storiche e contemporanee\, incisioni\, mappe\, pannelli illustrativi e documenti d’archivio. \nDa non perdere. Ingresso Gratuito
URL:https://tabianoterme.it/event/mostra-paesaggio-appennino-passato-e-presente/
LOCATION:Palazzo Pigorini\, Strada della Repubblica 29/A\, Parma\, 43121
CATEGORIES:Bambini e famiglie,Camminata,Mostra,Musica,Outdoor
ATTACH;FMTTYPE=image/jpeg:https://tabianoterme.it/wp-content/uploads/2025/05/imgnews.jpg
END:VEVENT
BEGIN:VEVENT
DTSTART;TZID=Europe/Rome:20250525T093000
DTEND;TZID=Europe/Rome:20250525T113000
DTSTAMP:20260421T203109
CREATED:20250507T113416Z
LAST-MODIFIED:20250507T113416Z
UID:12975-1748165400-1748172600@tabianoterme.it
SUMMARY:Disegnare il mondo - Ernesto Anderle per Terra Incognita 2025
DESCRIPTION:Il Festival Terra Incognita è giunto alla sua sesta edizione con il titolo ‘Sognare la Terra\, Immaginare Ponti’. \nMai come quest’anno Terra Incognita è fatta di incontri\, di connessioni\, di cortocircuiti\, di un bagno salutare di realtà utopica. Sempre con l’obiettivo costante di incidere una piccola tacca e gettare semi di cambiamento. Per provare a centrare questo obiettivo così impegnativo abbiamo aggiunto nuovi ingredienti e nuovi spazi alla formula che si era già dimostrata efficace negli anni scorsi. Nuovi amici ci hanno confermato la loro presenza\, e ci porteranno nuove immagini\, nuove storie e nuove emozioni. \nTra questi ci sarà Ernesto Anderle\, un artista poliedrico noto sui social per le pagine Roby il pettirosso e Vincent Van Love\, che ci parlerà del suo lavoro di illustratore. \nHa collaborato come illustratore/fumettista/animatore digitale con PrimeVideo\,  SonyMusic\, BeccoGiallo Editore\, Longanesi Editore\, Mondadori e Curci Editore. \nNasce e si forma a Milano\, seguendo un percorso artistico all’ Accademia Di Belle Arti di Brera. Da qualche anno si è  trasferito in provincia di Trento. Per BeccoGiallo ha pubblicato Vincent Van Love (2019)\, Ridammi la mano. Fabrizio De André (2019)\, Murubutu. RapConti Illustrati (2020)\, Raffaello (2020)\, Casanova (2020)\, Hedera (2021)\, Dante a tempo di Rap (2021)\, Caravaggio (2022)\, Murubutu. Storie d’amore con pioggia (2023)\, Modigliani (2023). \nEvento speciale con ingresso gratuito. Prenotazione obbligatoria.
URL:https://tabianoterme.it/event/disegnare-il-mondo-ernesto-anderle-per-terra-incognita-2025/
LOCATION:MuMAB- Museo Mare Antico e Biodiversità\, Podere Millepioppi\, Salsomaggiore Terme\, PR\, 43039\, Italia
CATEGORIES:Arte e Cultura,Bambini e famiglie,Cultura,Festival,Incontro,Museo,Rassegna,Workshop
ATTACH;FMTTYPE=image/jpeg:https://tabianoterme.it/wp-content/uploads/2025/05/anderle.jpg
ORGANIZER;CN="MuMAB - Museo Mare Antico e Biodiversit%C3%A0":MAILTO:mumab@millepioppi.it
END:VEVENT
BEGIN:VEVENT
DTSTART;TZID=Europe/Rome:20250525T093000
DTEND;TZID=Europe/Rome:20250525T113000
DTSTAMP:20260421T203109
CREATED:20250509T100829Z
LAST-MODIFIED:20250509T100829Z
UID:13033-1748165400-1748172600@tabianoterme.it
SUMMARY:Colazione in Castello: risveglio nel giardino pensile a Fontanellato
DESCRIPTION:Tra Storia\, Relax e Gusto nel suggestivo giardino pensile della Rocca Sanvitale! L’accesso a un luogo di rara bellezza e suggestione allestito con tavolini\, tovaglie e tanta cura. \nDomenica 25 maggio 2025 alle ore 9:30 torna\, per la sua seconda edizione\, un’esperienza unica che unisce gusto\, arte e storia: Colazione in Castello. \nL’evento si svolge nel suggestivo giardino pensile della Rocca Sanvitale\, dedicato a Flora\, un gioiello architettonico affacciato sul fossato colmo d’acqua\, dove il tempo sembra essersi fermato. \nI partecipanti avranno l’opportunità di iniziare la giornata con una colazione speciale\, un momento di piacere tra sapori dolci e salati selezionati per offrire un’autentica esperienza di gusto. Il costo di partecipazione è di 22 euro e include l’accesso a un luogo di rara bellezza e suggestione allestito con tavolini\, tovaglie e tanta cura. \nDopo la colazione\, il viaggio nel tempo proseguirà con una visita guidata alla Rocca Sanvitale\, con un focus speciale sull’affresco realizzato dal Parmigianino nella celebre Saletta di Diana e Atteone. Qui\, immersi nella magia della pittura rinascimentale\, i visitatori potranno ammirare la straordinaria rappresentazione della trasformazione di Atteone in cervo\, punito per aver involontariamente assistito al bagno della dea Diana e delle sue ancelle. Un capolavoro di raffinata eleganza che continua a incantare e affascinare. \nTi invitiamo ad iniziare la giornata con una colazione speciale nel suggestivo ambiente del giardino pensile del castello. Avrai poi tutto il tempo per visitare il borgo\, fare un giro nei negozi del paese e visitare anche il Santuario della Beata Vergine del Rosario di Fontanellato. \nPer informazioni e prenotazione (obbligatoria): rocca@fontanellato.org oppure Telefono: +39052.829055 \nUn’occasione imperdibile per vivere il fascino della storia\, la bellezza dell’arte e il piacere di un risveglio regale nel cuore del Ducato.
URL:https://tabianoterme.it/event/colazione-in-castello-risveglio-nel-giardino-pensile-a-fontanellato/
LOCATION:Rocca Sanvitale\, Piazza Matteotti\, 1\, Fontanellato\, 43012\, Italia
CATEGORIES:Arte e Cultura,Bambini e famiglie,Cultura,Enogastronomia,Visita guidata
ATTACH;FMTTYPE=image/png:https://tabianoterme.it/wp-content/uploads/2025/05/fontanellato-25-maggio-colazione-visita-guidata.png
ORGANIZER;CN="IAT Rocca Sanvitale":MAILTO:iat@fontanellato.org
END:VEVENT
BEGIN:VEVENT
DTSTART;TZID=Europe/Rome:20250525T100000
DTEND;TZID=Europe/Rome:20250525T180000
DTSTAMP:20260421T203109
CREATED:20250507T155557Z
LAST-MODIFIED:20250507T155557Z
UID:13012-1748167200-1748196000@tabianoterme.it
SUMMARY:Corteo Storico di Grazzano Visconti
DESCRIPTION:Nell’ultimo fine settimana di maggio di un anno di fine trecento il borgo è addobbato a festa. Il conte Giovanni Anguissola riceve la visita della bellissima Valentina signora d’Asti in viaggio verso la Francia per incontrare il suo futuro sposo\, il duca d’Orléans. Valentina con il suo seguito guiderà il corteo dei nobili piacentini\, provenienti da tutto il territorio. Le piazze del borgo saranno animate da mercanti\, spettacoli di saltimbanchi\, cantastorie e musici. Il Borgo sarà addobbato con tutti i fiori della Primavera in un turbinio di colori e di profumi. Il Corteo di Valentina dopo aver percorso le vie del Borgo giungerà alla Cortevecchia\, dove si svolgerà il Torneo d’Armi tra cavalieri cristiani e saraceni. La Quintana del Torneo a cavallo poco fuori le mura del Castello\, designerà un solo cavaliere vincitore\, che avrà l’onore di accompagnare la Signora d’Asti nel suo viaggio verso l’Oltralpe. \nDurante tutta la giornata saranno presenti accampamenti militari\, spettacoli dei musici\, allestimenti di vita medievale con laboratori d’arti ed antichi mestieri dedicati ai più piccoli. \nStand gastronomici della Pro Loco in Cortevecchia e menu a tema nei ristoranti del Borgo.
URL:https://tabianoterme.it/event/corteo-storico-di-grazzano-visconti/
LOCATION:Grazzano Visconti
CATEGORIES:Arte e Cultura,Bambini e famiglie,Festa,Outdoor,Spettacolo,Storia
ATTACH;FMTTYPE=image/jpeg:https://tabianoterme.it/wp-content/uploads/2025/05/image_preview.jpg
END:VEVENT
BEGIN:VEVENT
DTSTART;TZID=Europe/Rome:20250525T110000
DTEND;TZID=Europe/Rome:20250525T123000
DTSTAMP:20260421T203109
CREATED:20250507T110356Z
LAST-MODIFIED:20250507T110356Z
UID:12967-1748170800-1748176200@tabianoterme.it
SUMMARY:Laboratorio sull’ambiente fluviale del torrente Stirone
DESCRIPTION:Come sta lo Stirone? Scopriamolo insieme a Francesco Di Grazia \nAd un momento di formazione presso il MUMAB\, seguirà un laboratorio sul campo\, per imparare ad analizzare le acque dello Stirone e raccogliere dati scientifici da condividere con l’Osservatorio Citizen Science. \nMolto adatto a tutte le età\, ma specialmente a bambini e famiglie \nIl Festival Terra Incognita è giunto alla sua sesta edizione con il titolo ‘Sognare la Terra\, Immaginare Ponti’. \nMai come quest’anno Terra Incognita è fatta di incontri\, di connessioni\, di cortocircuiti\, di un bagno salutare di realtà utopica. Sempre con l’obiettivo costante di incidere una piccola tacca e gettare semi di cambiamento. Per provare a centrare questo obiettivo così impegnativo abbiamo aggiunto nuovi ingredienti e nuovi spazi alla formula che si era già dimostrata efficace negli anni scorsi. Nuovi amici ci hanno confermato la loro presenza\, e ci porteranno nuove immagini\, nuove storie e nuove emozioni. \nFrancesco Di Grazia\,  che coordinerà il laboratorio\, è Responsabile Tecnico-Scientifico dell’Osservatorio Citizen Science di cui è anche co-fondatore e Assegnista di ricerca presso l’Università di Siena. Le sue attività di ricerca sono focalizzate in diverse componenti degli ecosistemi d’acqua dolce: al monitoraggio della qualità delle acque\, della vegetazione riparia e dei macroinvertebrati\, su applicazioni GIS e scenari di ecosistemi fluviali e sull’analisi di servizi ecosistemici. Dal 2016 si occupa di Citizen Science seguendo diversi progetti nazionali e internazionali\, ed è interessato soprattutto al coinvolgimento attivo delle scuole in queste attività.
URL:https://tabianoterme.it/event/laboratorio-sullambiente-fluviale-del-torrente-stirone/
LOCATION:MuMAB- Museo Mare Antico e Biodiversità\, Podere Millepioppi\, Salsomaggiore Terme\, PR\, 43039\, Italia
CATEGORIES:Bambini e famiglie,Camminata,Festival,Museo,Outdoor,Visita guidata
ATTACH;FMTTYPE=image/png:https://tabianoterme.it/wp-content/uploads/2025/05/Schermata-2025-05-07-alle-12.38.04-1024x609-1.png
ORGANIZER;CN="MuMAB - Museo Mare Antico e Biodiversit%C3%A0":MAILTO:mumab@millepioppi.it
END:VEVENT
BEGIN:VEVENT
DTSTART;TZID=Europe/Rome:20250525T153000
DTEND;TZID=Europe/Rome:20250525T170000
DTSTAMP:20260421T203109
CREATED:20250312T120635Z
LAST-MODIFIED:20250312T120635Z
UID:12825-1748187000-1748192400@tabianoterme.it
SUMMARY:Fattorie aperte – Alla scoperta del Museo del Pomodoro con Parmigiana Jones – Intervista un contadino
DESCRIPTION:Per tutta la giornata dalle 10 alle 18 in occasione di “Fattorie Aperte” ingresso gratuito e “Percorso Kids” per bambini e ragazzi fino a 14 anni Alla scoperta del Museo con la guida di Parmigiana Jones\, l’avventuroso leprotto esploratore mascotte dei Musei del Cibo. I ragazzi\, armati di smartphone e inquadrando i QR-Code nascosti nel museo\, potranno seguire le tracce di Parmigiana Jones in un percorso coinvolgente e giocoso. Nel pomeriggio alle ore 15\,30: “Intervista un contadino”. Dopo una breve presentazione del contadino e del suo lavoro\, bambini e genitori in gruppo preparano delle domande e potranno intervistare un agricoltore del territorio per scoprire come sono fatte le sue giornate\, la sua attività\, come vive e produce quello che noi portiamo sulla tavola.\nIn collaborazione con Coldiretti Parma.\nConsigliato per bambini dagli 8 agli 11 anni\nDurata 1h 30’\nPartecipazione gratuita. Prenotazione obbligatoria. \nInfo: IAT Parma\, 0521.218889\, attivo tutti i giorni 9\,00-19\,00\nPrenotazioni: tramite APP Parma Welcome scaricabile gratuitamente
URL:https://tabianoterme.it/event/fattorie-aperte-alla-scoperta-del-museo-del-pomodoro-con-parmigiana-jones-intervista-un-contadino/
LOCATION:Museo del Pomodoro\, Str. Giarola\, 11\, Collecchio PR\, 43044\, Italia
CATEGORIES:Bambini e famiglie,Food,Museo
ATTACH;FMTTYPE=image/jpeg:https://tabianoterme.it/wp-content/uploads/2025/03/42.01a_Musei_del_Cibo_IngressoDSC0935-1024x681-1.jpg
ORGANIZER;CN="Musei del Cibo della Provincia di Parma":MAILTO:info@museidelcibo.it
END:VEVENT
END:VCALENDAR