BEGIN:VCALENDAR
VERSION:2.0
PRODID:-//Tabiano terme - ECPv6.15.11//NONSGML v1.0//EN
CALSCALE:GREGORIAN
METHOD:PUBLISH
X-WR-CALNAME:Tabiano terme
X-ORIGINAL-URL:https://tabianoterme.it
X-WR-CALDESC:Eventi per Tabiano terme
REFRESH-INTERVAL;VALUE=DURATION:PT1H
X-Robots-Tag:noindex
X-PUBLISHED-TTL:PT1H
BEGIN:VTIMEZONE
TZID:Europe/Rome
BEGIN:DAYLIGHT
TZOFFSETFROM:+0100
TZOFFSETTO:+0200
TZNAME:CEST
DTSTART:20240331T010000
END:DAYLIGHT
BEGIN:STANDARD
TZOFFSETFROM:+0200
TZOFFSETTO:+0100
TZNAME:CET
DTSTART:20241027T010000
END:STANDARD
BEGIN:DAYLIGHT
TZOFFSETFROM:+0100
TZOFFSETTO:+0200
TZNAME:CEST
DTSTART:20250330T010000
END:DAYLIGHT
BEGIN:STANDARD
TZOFFSETFROM:+0200
TZOFFSETTO:+0100
TZNAME:CET
DTSTART:20251026T010000
END:STANDARD
BEGIN:DAYLIGHT
TZOFFSETFROM:+0100
TZOFFSETTO:+0200
TZNAME:CEST
DTSTART:20260329T010000
END:DAYLIGHT
BEGIN:STANDARD
TZOFFSETFROM:+0200
TZOFFSETTO:+0100
TZNAME:CET
DTSTART:20261025T010000
END:STANDARD
END:VTIMEZONE
BEGIN:VEVENT
DTSTART;TZID=Europe/Rome:20250419T080000
DTEND;TZID=Europe/Rome:20251031T123000
DTSTAMP:20260421T222852
CREATED:20250415T142638Z
LAST-MODIFIED:20250415T142638Z
UID:12941-1745049600-1761913800@tabianoterme.it
SUMMARY:Servizio Trasporto Urbano - Linea 2226 Tabiano
DESCRIPTION:Tabiano Bagni: servizio urbano attivo \n\nDal 19 aprile al 4 maggio e dal 31 maggio al 31 ottobre 2025\, dal lunedì alla domenica. \nPrima corsa ore 8.
URL:https://tabianoterme.it/event/servizio-trasporto-urbano-linea-2226-tabiano/
CATEGORIES:Bambini e famiglie,Outdoor
ATTACH;FMTTYPE=image/jpeg:https://tabianoterme.it/wp-content/uploads/2025/04/2226-Servizio-Urbano-di-Tabiano-2-768x593-1.jpg
END:VEVENT
BEGIN:VEVENT
DTSTART;TZID=Europe/Rome:20250517T100000
DTEND;TZID=Europe/Rome:20250629T190000
DTSTAMP:20260421T222852
CREATED:20250515T144147Z
LAST-MODIFIED:20250515T144256Z
UID:13075-1747476000-1751223600@tabianoterme.it
SUMMARY:Mostra "PAESAGGIO APPENNINO. Passato e Presente"
DESCRIPTION:Questo è il titolo della mostra organizzata da CAI Sezione di Parma in occasione del 150° della fondazione della Sezione. \nSarà visitabile dal 17 maggio al 29 giugno a Palazzo Pigorini Parma. \nE’ un percorso tra arte\, letteratura e fotografia\, quello proposto dalla mostra curata da Andrea Greci. \nUn affascinante viaggio alla scoperta dell’evoluzione del paesaggio appenninico\, in particolare quello parmense\, attraverso dipinti\, fotografie storiche e contemporanee\, incisioni\, mappe\, pannelli illustrativi e documenti d’archivio. \nDa non perdere. Ingresso Gratuito
URL:https://tabianoterme.it/event/mostra-paesaggio-appennino-passato-e-presente/
LOCATION:Palazzo Pigorini\, Strada della Repubblica 29/A\, Parma\, 43121
CATEGORIES:Bambini e famiglie,Camminata,Mostra,Musica,Outdoor
ATTACH;FMTTYPE=image/jpeg:https://tabianoterme.it/wp-content/uploads/2025/05/imgnews.jpg
END:VEVENT
BEGIN:VEVENT
DTSTART;TZID=Europe/Rome:20250524T093000
DTEND;TZID=Europe/Rome:20250524T120000
DTSTAMP:20260421T222852
CREATED:20250522T124652Z
LAST-MODIFIED:20250522T124652Z
UID:13110-1748079000-1748088000@tabianoterme.it
SUMMARY:Il castello\, le rose e l'alito del drago
DESCRIPTION:Ritorna una straordinaria esperienza escursionistica. \nUna bella camminata ad anello che tra lembi di bosco e ampi tratti campestri panoramici\, tra sentieri e piccole strade ghiaiate e asfaltate\, porterà a scoprire le belle colline dei dintorni di Tabiano. Dal paese delle terme risalendo al suo Castello che domina i paesaggi circostanti in un trionfo di verde e fioriture (con tante rose canine) fino a scoprire anche una piccola curiosità geologica osservabile e “sperimentabile” proprio nei pressi del castello\, l’alito del drago appunto…\nPartenza: Tabiano bagni\, ore 09\,30 (agli iscritti verrà dato il punto di ritrovo preciso per navigatore)\nGrado di difficoltà: escursione facile. (250 m dislivello massimo per 7-8 km di carrarecce\, sentieri\, piccole asfaltate)\nTermine previsto escursione attorno alle ore 12\nNecessarie scarpe da trekking a suola scolpita\, kw\, zaino\, acqua\, bastoncini e repellente insetti consigliati\, scarpe di ricambio raccomandate.\nNumero massimo partecipanti: 20\nQuota partecipazione: 13 euro\, 10 euro bambini sotto i 13 anni \nPrenotazione obbligatoria: Guida antonio.rinaldi.76@gmail.com cel. 328.8116651 \n\nTutti i percorsi potranno essere modificati in funzione delle condizioni ambientali per la sicurezza del gruppo. La Guida si riserva di non accettare persone non adeguatamente attrezzate. \nLa Guida è coperta da assicurazione RCT come di legge; non è prevista copertura infortuni per i partecipanti. Chi ritiene può provvedere autonomamente con una polizza multisport. \n 
URL:https://tabianoterme.it/event/il-castello-le-rose-e-lalito-del-drago-2/
LOCATION:Castello di Tabiano\, Via Castello\, Salsomaggiore Terme\, 43039
CATEGORIES:Bambini e famiglie,Camminata,Outdoor,Visita guidata
ATTACH;FMTTYPE=image/jpeg:https://tabianoterme.it/wp-content/uploads/2025/05/ic_large_w900h600q100_tabiano-e-drago.jpeg
ORGANIZER;CN="terre emerse":MAILTO:antonio.rinaldi.76@gmail.com
END:VEVENT
BEGIN:VEVENT
DTSTART;TZID=Europe/Rome:20250524T103000
DTEND;TZID=Europe/Rome:20250524T120000
DTSTAMP:20260421T222852
CREATED:20250507T152030Z
LAST-MODIFIED:20250507T152030Z
UID:12997-1748082600-1748088000@tabianoterme.it
SUMMARY:Di nero vestita - Moda\, bijoux e accessori in nero tra Otto e Novecento al Museo Glauco Lombardi di Parma
DESCRIPTION:L’affascinante mondo della moda tra Otto e Novecento\, le mille declinazioni del colore nero nella moda\, negli accessori e nelle convenzioni sociali tra la seconda metà del XIX secolo e l’inizio del XX sono i temi di questa esposizione che presenta abiti e accessori giunti al Museo grazie a una serie di donazioni diverse e complementari\, che rendono possibile seguire l’evoluzione di un mondo in fermento attraverso le sue piccole grandi innovazioni di stile\, come il french jet\, eclettico materiale tutto da riscoprire. \nVolete saperne di più? Gli oggetti in mostra si legano a tante storie che vi vengono raccontate durante la visita guidata in un viaggio nel tempo davvero affascinante! (gratuita per i possessori dell’abbonamento annuale al Museo). \nPrenotazione gradita alla mail info@museoglaucolombardi.it. \nLa mostra prevede strumenti di supporto per tutti e in particolare per le persone con disabilità visiva\, ovvero la possibilità di ascoltare i pannelli esplicativi attraverso tracce audio raggiungibili con QR Code e un pannello tattile nel quale toccare con mano i tanti materiali esposti.
URL:https://tabianoterme.it/event/di-nero-vestita-moda-bijoux-e-accessori-in-nero-tra-otto-e-novecento-al-museo-glauco-lombardi-di-parma/
CATEGORIES:Arte e Cultura,artigianato,Bambini e famiglie,Museo,Storia
ATTACH;FMTTYPE=image/png:https://tabianoterme.it/wp-content/uploads/2025/05/mostra2.png
ORGANIZER;CN="Museo Glauco Lombardi":MAILTO:info@museoglaucolombardi.it.
END:VEVENT
END:VCALENDAR