BEGIN:VCALENDAR
VERSION:2.0
PRODID:-//Tabiano terme - ECPv6.15.11//NONSGML v1.0//EN
CALSCALE:GREGORIAN
METHOD:PUBLISH
X-WR-CALNAME:Tabiano terme
X-ORIGINAL-URL:https://tabianoterme.it
X-WR-CALDESC:Eventi per Tabiano terme
REFRESH-INTERVAL;VALUE=DURATION:PT1H
X-Robots-Tag:noindex
X-PUBLISHED-TTL:PT1H
BEGIN:VTIMEZONE
TZID:Europe/Rome
BEGIN:DAYLIGHT
TZOFFSETFROM:+0100
TZOFFSETTO:+0200
TZNAME:CEST
DTSTART:20240331T010000
END:DAYLIGHT
BEGIN:STANDARD
TZOFFSETFROM:+0200
TZOFFSETTO:+0100
TZNAME:CET
DTSTART:20241027T010000
END:STANDARD
BEGIN:DAYLIGHT
TZOFFSETFROM:+0100
TZOFFSETTO:+0200
TZNAME:CEST
DTSTART:20250330T010000
END:DAYLIGHT
BEGIN:STANDARD
TZOFFSETFROM:+0200
TZOFFSETTO:+0100
TZNAME:CET
DTSTART:20251026T010000
END:STANDARD
BEGIN:DAYLIGHT
TZOFFSETFROM:+0100
TZOFFSETTO:+0200
TZNAME:CEST
DTSTART:20260329T010000
END:DAYLIGHT
BEGIN:STANDARD
TZOFFSETFROM:+0200
TZOFFSETTO:+0100
TZNAME:CET
DTSTART:20261025T010000
END:STANDARD
END:VTIMEZONE
BEGIN:VEVENT
DTSTART;VALUE=DATE:20250301
DTEND;VALUE=DATE:20250303
DTSTAMP:20260421T231218
CREATED:20250117T153003Z
LAST-MODIFIED:20250203T104346Z
UID:12733-1740787200-1740959999@tabianoterme.it
SUMMARY:Fai un Viaggio nel Cuore della Tradizione Agroalimentare Parmense al Museo del Pomodoro
DESCRIPTION:Il Museo del Pomodoro\, situato nella storica Corte di Giarola a Collecchio\, racconta la storia del pomodoro\, uno dei simboli gastronomici di Parma. Questa corte\, un tempo centro di trasformazione agro-alimentare\, ospita oggi un percorso espositivo che ripercorre l’evoluzione del pomodoro\, dalla sua introduzione in Europa nel Cinquecento alla sua diffusione come prodotto di eccellenza\, con un particolare focus sulla trasformazione industriale che ha preso piede nella provincia di Parma dalla seconda metà dell’Ottocento. \nL’allestimento del museo si articola in sette sezioni\, che esplorano vari aspetti della filiera produttiva: dalle origini del pomodoro\, al suo utilizzo in cucina\, fino allo sviluppo delle tecnologie di trasformazione e imballaggio. Vengono inoltre raccontati i pionieri dell’industria conserviera parmigiana e il grande impatto che il pomodoro ha avuto nella cultura gastronomica mondiale. \nIl museo si trova all’interno di un’antica corte medievale che un tempo ospitava un mulino e una fabbrica di conserve\, ora trasformata in un centro di conoscenza del patrimonio agro-alimentare del territorio. Parte del circuito dei Musei del Cibo della Provincia di Parma\, è una tappa obbligata per scoprire la storia di un prodotto che ha conquistato il mondo. \nSede: Corte di Giarola\, Collecchio\nOrari: Sabato\, Domenica e Giorni Festivi\, dalle ore 10:00 alle 18:00 \nE-mail: prenotazioni.pomodoro@museidelcibo.it
URL:https://tabianoterme.it/event/fai-un-viaggio-nel-cuore-della-tradizione-agroalimentare-parmense-al-museo-del-pomodoro/
LOCATION:Museo del Pomodoro\, Str. Giarola\, 11\, Collecchio PR\, 43044\, Italia
CATEGORIES:Bambini e famiglie,Enogastronomia,Food
ATTACH;FMTTYPE=image/jpeg:https://tabianoterme.it/wp-content/uploads/2025/01/BLOG-4-3-1.jpg
ORGANIZER;CN="Musei del Cibo della Provincia di Parma":MAILTO:info@museidelcibo.it
END:VEVENT
BEGIN:VEVENT
DTSTART;VALUE=DATE:20250302
DTEND;VALUE=DATE:20250303
DTSTAMP:20260421T231218
CREATED:20250110T211921Z
LAST-MODIFIED:20250110T212247Z
UID:12662-1740873600-1740959999@tabianoterme.it
SUMMARY:Scopri il fascino e il valore della biodiversità al MuMAB!
DESCRIPTION:Il MuMAB – Museo Mare Antico e Biodiversità ti invita a vivere un’esperienza unica nel cuore del Parco Regionale dello Stirone e Piacenziano a Salsomaggiore Terme. Il museo ha sede in un bene confiscato alla criminalità\, ora simbolo di rinascita culturale e ambientale\, grazie al progetto di rinaturazione del Podere Millepioppi. \nAmmira i fossili del mare padano antico\, tra cui la straordinaria Plesiobalaenoptera quarantellii\, scoperta proprio nel letto del Torrente Stirone e unica al mondo. \nScopri come il passato\, il presente e il futuro sono legati da un filo invisibile che collega l’evoluzione geologica e la biodiversità della nostra terra. \nImmergiti nell’atmosfera suggestiva e partecipa agli eventi stagionali organizzati al museo. Dai laboratori per bambini alle attività didattiche per adulti\, ce n’è per tutti! \nDove: Podere Millepioppi\, Località San Nicomede\, 29\, Salsomaggiore Terme (PR) \nOrari di apertura:\nMercoledì e Venerdì: 15:00 – 19:00\nSabato e Domenica: 9:00 – 13:00 | 15:00 – 19:00 \nVisite guidate: Ogni visita è accompagnata da guide esperte. Prenotazione consigliata. \nTel e WhatsApp: +39 0524 583595\nEmail: mumab@millepioppi.it
URL:https://tabianoterme.it/event/scopri-il-fascino-e-il-valore-della-biodiversita-al-mumab/
LOCATION:MuMAB- Museo Mare Antico e Biodiversità\, Podere Millepioppi\, Salsomaggiore Terme\, PR\, 43039\, Italia
CATEGORIES:Bambini e famiglie,Museo,Visita guidata
ATTACH;FMTTYPE=image/jpeg:https://tabianoterme.it/wp-content/uploads/2025/01/F56455_mumab_museo_del_mare_antico_e_della_biodiversita_salsomaggiore_terme_pr1499_thumb.jpg
ORGANIZER;CN="MuMAB - Museo Mare Antico e Biodiversit%C3%A0":MAILTO:mumab@millepioppi.it
END:VEVENT
END:VCALENDAR