BEGIN:VCALENDAR
VERSION:2.0
PRODID:-//Tabiano terme - ECPv6.15.11//NONSGML v1.0//EN
CALSCALE:GREGORIAN
METHOD:PUBLISH
X-ORIGINAL-URL:https://tabianoterme.it
X-WR-CALDESC:Eventi per Tabiano terme
REFRESH-INTERVAL;VALUE=DURATION:PT1H
X-Robots-Tag:noindex
X-PUBLISHED-TTL:PT1H
BEGIN:VTIMEZONE
TZID:Europe/Rome
BEGIN:DAYLIGHT
TZOFFSETFROM:+0100
TZOFFSETTO:+0200
TZNAME:CEST
DTSTART:20230326T010000
END:DAYLIGHT
BEGIN:STANDARD
TZOFFSETFROM:+0200
TZOFFSETTO:+0100
TZNAME:CET
DTSTART:20231029T010000
END:STANDARD
BEGIN:DAYLIGHT
TZOFFSETFROM:+0100
TZOFFSETTO:+0200
TZNAME:CEST
DTSTART:20240331T010000
END:DAYLIGHT
BEGIN:STANDARD
TZOFFSETFROM:+0200
TZOFFSETTO:+0100
TZNAME:CET
DTSTART:20241027T010000
END:STANDARD
BEGIN:DAYLIGHT
TZOFFSETFROM:+0100
TZOFFSETTO:+0200
TZNAME:CEST
DTSTART:20250330T010000
END:DAYLIGHT
BEGIN:STANDARD
TZOFFSETFROM:+0200
TZOFFSETTO:+0100
TZNAME:CET
DTSTART:20251026T010000
END:STANDARD
END:VTIMEZONE
BEGIN:VEVENT
DTSTART;TZID=Europe/Rome:20240906T163000
DTEND;TZID=Europe/Rome:20240907T200000
DTSTAMP:20260423T014223
CREATED:20240904T071043Z
LAST-MODIFIED:20240904T071130Z
UID:12334-1725640200-1725739200@tabianoterme.it
SUMMARY:World Humor Awards - Caricatù
DESCRIPTION:Caricaturisti in piazza a Tabiano! \nDue pomeriggi di caricature con gli artisti dei World Humor Awards sui veicoli storici de “IL SORPASSO”  \nVenerdì 6 settembre –  ore 16:30 – 18:30\nVia alle Fonti\, davanti alla Pasticceria Tabiano \nSabato 7 settembre – ore 17:00 – 19:00\nPiazza Verdi\, con il concerto della banda di Salsomaggiore
URL:https://tabianoterme.it/event/world-humor-awards-caricatu/
LOCATION:Piazza Verdi\, Piazza Verdi\, Tabiano Terme\, 43039
CATEGORIES:Bambini e famiglie,Intrattenimento,Musica
ATTACH;FMTTYPE=image/jpeg:https://tabianoterme.it/wp-content/uploads/2024/09/caricatu2-1.jpg
END:VEVENT
BEGIN:VEVENT
DTSTART;TZID=Europe/Rome:20240906T170000
DTEND;TZID=Europe/Rome:20240908T233000
DTSTAMP:20260423T014223
CREATED:20240814T095644Z
LAST-MODIFIED:20240814T095644Z
UID:12270-1725642000-1725838200@tabianoterme.it
SUMMARY:SALSOMAGGIORE STREET FOOD FESTIVAL
DESCRIPTION:Torna a Salsomaggiore qualcosa di buonissimo…\n\n\nTre giorni di eventi\, cibo di strada\, cooking show\, giochi di luci\, intrattenimenti musicali\, concerti\, dj set\, spazio bimbi\, artisti di strada e tanto altro.\nTutto questo nel cuore della città termale\, nel Centro Storico di Salsomaggiore Terme.\nMerende e aperitivi per tutti i pomeriggi; pranzi e cene nella suggestiva location\, nel cuore della cultura e nel verde.\n–  15 spettacolari truck food proporranno il miglior Street Food in circolazione da tutta Italia.\n–  animazione per i più piccini\n–  musica con i DJ di New Era Staff e Over!\n–  musica dal vivo con tante band!\n–  raduni di auto d’epoca \n–  aperitivi!\n–  mega festa con lo staff e la musica del TARO TARO STORY!!!\n–  artisti di strada che vi lasceranno a bocca aperta!
URL:https://tabianoterme.it/event/salsomaggiore-street-food-festival/
LOCATION:Viale Romagnosi\, Salsomaggiore Terme\, Viale Romagnosi\, Salsomaggiore Terme\, Italia\, 43039\, Italia
CATEGORIES:Bambini e famiglie,Concerto,Enogastronomia,Festival,Food,Intrattenimento
ATTACH;FMTTYPE=image/jpeg:https://tabianoterme.it/wp-content/uploads/2024/08/454307848_1064330095263525_396159431439213518_n.jpg
ORGANIZER;CN="Parma Street Food Festival":MAILTO:parma.street.food@gmail.com
END:VEVENT
BEGIN:VEVENT
DTSTART;TZID=Europe/Rome:20240907T150000
DTEND;TZID=Europe/Rome:20240907T190000
DTSTAMP:20260423T014223
CREATED:20240902T072928Z
LAST-MODIFIED:20240902T072928Z
UID:12300-1725721200-1725735600@tabianoterme.it
SUMMARY:Una giornata di eventi al MuMAB in occasione del Compleanno!
DESCRIPTION:Alle ore 15\, “Paleontologia che passione!”\nInaugurazione della nuova vetrina \nIl compleanno del museo sarà anche l’occasione perfetta per inaugurare l’esposizione temporanea Paleontologia che passione!\nNon prima di aver fatto un breve giro del museo in compagnia del nostre paleontologo Gianluca Rainieri \nAttività gratuita per tutti\, su prenotazione \n  \nAlle ore 16:15\, “Cos’hai trovato in vacanza?”\nConchiglie\, pietre\, penne\, insetti e ancora altro \nIn questo laboratorio speciale i nostri esperti Gianluca e Renato ci aiuteranno a decifrare i ritrovamenti più bizzarri.\nNon importa che siate andati in vacanza al mare\, in montagna o in qualche posto esotico\, basta che abbiate trovato qualcosa che ha catturato la vostra attenzione e che vogliate saperne di più… molto di più! \nGianluca Rainieri\, paleontologo\, e Renato Carini\, naturalista\, ci insegneranno come osservare ed identificare i nostri ritrovamenti vacanzieri in occasione di questa giornata speciale. \nAttività gratuita per famiglie con bambini dai 6 anni ai 12 anni\, su prenotazione \n  \nAlle ore 17:30\, “ArcheoLab – Laboratorio di scavo” \nIn occasione del compleanno del museo vestiremo i panni di veri e propri archeologi con questo laboratorio di scavo simulato nella nuova aula didattica “Renata Fonte”\nA guidarci in questa avventura\, due professioniste esperte che ci mostreranno i segreti dell’archeologia! \nAttività gratuita per bambini dai 6 ai 12 anni\, su prenotazione \n  \nAlle ore 17:30\, “Non solo fossili – Una passeggiata serale con la Direttrice del museo” \nIn occasione del compleanno del museo la nostra Direttrice Enrica Montanini ci accompagna in direzione Laurano\, verso la rinnovata area di birdwatching!\nLa sua grande conoscenza del Parco ci farà scoprire tante cose nuove\, in particolare la zona umida di Laurano che custodisce una natura inaspettata. \nAttività gratuita per tutti\, su prenotazione
URL:https://tabianoterme.it/event/una-giornata-di-eventi-al-mumab-in-occasione-del-compleanno/
LOCATION:MuMAB- Museo Mare Antico e Biodiversità\, Podere Millepioppi\, Salsomaggiore Terme\, PR\, 43039\, Italia
CATEGORIES:Bambini e famiglie,Camminata,Museo,Outdoor,Visita guidata
ATTACH;FMTTYPE=image/png:https://tabianoterme.it/wp-content/uploads/2024/09/mumab-salsomaggiore-7-settembre-2024.jpg.png
ORGANIZER;CN="MuMAB - Museo Mare Antico e Biodiversit%C3%A0":MAILTO:mumab@millepioppi.it
END:VEVENT
END:VCALENDAR