BEGIN:VCALENDAR
VERSION:2.0
PRODID:-//Tabiano terme - ECPv6.15.11//NONSGML v1.0//EN
CALSCALE:GREGORIAN
METHOD:PUBLISH
X-WR-CALNAME:Tabiano terme
X-ORIGINAL-URL:https://tabianoterme.it
X-WR-CALDESC:Eventi per Tabiano terme
REFRESH-INTERVAL;VALUE=DURATION:PT1H
X-Robots-Tag:noindex
X-PUBLISHED-TTL:PT1H
BEGIN:VTIMEZONE
TZID:Europe/Rome
BEGIN:DAYLIGHT
TZOFFSETFROM:+0100
TZOFFSETTO:+0200
TZNAME:CEST
DTSTART:20220327T010000
END:DAYLIGHT
BEGIN:STANDARD
TZOFFSETFROM:+0200
TZOFFSETTO:+0100
TZNAME:CET
DTSTART:20221030T010000
END:STANDARD
BEGIN:DAYLIGHT
TZOFFSETFROM:+0100
TZOFFSETTO:+0200
TZNAME:CEST
DTSTART:20230326T010000
END:DAYLIGHT
BEGIN:STANDARD
TZOFFSETFROM:+0200
TZOFFSETTO:+0100
TZNAME:CET
DTSTART:20231029T010000
END:STANDARD
BEGIN:DAYLIGHT
TZOFFSETFROM:+0100
TZOFFSETTO:+0200
TZNAME:CEST
DTSTART:20240331T010000
END:DAYLIGHT
BEGIN:STANDARD
TZOFFSETFROM:+0200
TZOFFSETTO:+0100
TZNAME:CET
DTSTART:20241027T010000
END:STANDARD
END:VTIMEZONE
BEGIN:VEVENT
DTSTART;TZID=Europe/Rome:20230809T210000
DTEND;TZID=Europe/Rome:20230809T230000
DTSTAMP:20260425T224939
CREATED:20230709T150942Z
LAST-MODIFIED:20230709T150942Z
UID:11153-1691614800-1691622000@tabianoterme.it
SUMMARY:Gli alberi parlanti
DESCRIPTION:Settima data della rassegna estiva es-SERE al MuMAB\, gli appuntamenti serali del MuMAB – Museo Mare Antico e Biodiversità! \nCamminata notturna durante la quale troveremo messaggi lasciati dagli alberi che narrano la loro storia. \nDa 0 a 99 anni \nCOSA PORTARE: \n\ntorcia frontale\nrepellente per insetti\nse porti con te un bimbo piccolo raccomandiamo passeggino da trekking o marsupio
URL:https://tabianoterme.it/event/gli-alberi-parlanti/
LOCATION:MuMAB- Museo Mare Antico e Biodiversità\, Podere Millepioppi\, Salsomaggiore Terme\, PR\, 43039\, Italia
CATEGORIES:Bambini e famiglie,Camminata,Outdoor
ATTACH;FMTTYPE=image/jpeg:https://tabianoterme.it/wp-content/uploads/2023/07/alberi-notte-stelle.jpg
ORGANIZER;CN="MuMAB - Museo Mare Antico e Biodiversit%C3%A0":MAILTO:mumab@millepioppi.it
END:VEVENT
END:VCALENDAR