BEGIN:VCALENDAR
VERSION:2.0
PRODID:-//Tabiano terme - ECPv6.15.11//NONSGML v1.0//EN
CALSCALE:GREGORIAN
METHOD:PUBLISH
X-WR-CALNAME:Tabiano terme
X-ORIGINAL-URL:https://tabianoterme.it
X-WR-CALDESC:Eventi per Tabiano terme
REFRESH-INTERVAL;VALUE=DURATION:PT1H
X-Robots-Tag:noindex
X-PUBLISHED-TTL:PT1H
BEGIN:VTIMEZONE
TZID:Europe/Rome
BEGIN:DAYLIGHT
TZOFFSETFROM:+0100
TZOFFSETTO:+0200
TZNAME:CEST
DTSTART:20220327T010000
END:DAYLIGHT
BEGIN:STANDARD
TZOFFSETFROM:+0200
TZOFFSETTO:+0100
TZNAME:CET
DTSTART:20221030T010000
END:STANDARD
BEGIN:DAYLIGHT
TZOFFSETFROM:+0100
TZOFFSETTO:+0200
TZNAME:CEST
DTSTART:20230326T010000
END:DAYLIGHT
BEGIN:STANDARD
TZOFFSETFROM:+0200
TZOFFSETTO:+0100
TZNAME:CET
DTSTART:20231029T010000
END:STANDARD
BEGIN:DAYLIGHT
TZOFFSETFROM:+0100
TZOFFSETTO:+0200
TZNAME:CEST
DTSTART:20240331T010000
END:DAYLIGHT
BEGIN:STANDARD
TZOFFSETFROM:+0200
TZOFFSETTO:+0100
TZNAME:CET
DTSTART:20241027T010000
END:STANDARD
END:VTIMEZONE
BEGIN:VEVENT
DTSTART;VALUE=DATE:20230422
DTEND;VALUE=DATE:20230424
DTSTAMP:20260426T023712
CREATED:20230418T092635Z
LAST-MODIFIED:20230418T092635Z
UID:10945-1682121600-1682294399@tabianoterme.it
SUMMARY:Il giardino degli impollinatori al MuMAB
DESCRIPTION:sabato 22 e domenica 23 aprile 2023 ore 16:30 \nChi sono gli insetti impollinatori e perché sono fondamentali per il nostro ecosistema? \nIl ronzio delle api in un pomeriggio estivo\, oppure il volo colorato delle farfalle\, sono familiari a tutti e una gioia per gli occhi. Tutta questa bellezza si basa su una società complessa che impareremo a conoscere per proteggerla dalle tante minacce che stanno mettendo in difficoltà moltissime specie di Insetti impollinatori. \nFaremo conoscenza con le tante specie di Insetti che svolgono l’impollinazione\, non solo api ma anche farfalle\, falene\, coleotteri\, ecc. e comprenderemo il ruolo fondamentale degli impollinatori nell’agricoltura.I bambini partecipano senza la presenza dei genitori. \nLa durata del laboratorio è di circa 1 ora e mezza.
URL:https://tabianoterme.it/event/il-giardino-degli-impollinatori-al-mumab/
LOCATION:MuMAB- Museo Mare Antico e Biodiversità\, Podere Millepioppi\, Salsomaggiore Terme\, PR\, 43039\, Italia
CATEGORIES:Bambini e famiglie
ATTACH;FMTTYPE=image/jpeg:https://tabianoterme.it/wp-content/uploads/2023/04/IMG_20210926_074407-1024x768-1.jpg
ORGANIZER;CN="MuMAB - Museo Mare Antico e Biodiversit%C3%A0":MAILTO:mumab@millepioppi.it
END:VEVENT
END:VCALENDAR