BEGIN:VCALENDAR
VERSION:2.0
PRODID:-//Tabiano terme - ECPv6.15.11//NONSGML v1.0//EN
CALSCALE:GREGORIAN
METHOD:PUBLISH
X-WR-CALNAME:Tabiano terme
X-ORIGINAL-URL:https://tabianoterme.it
X-WR-CALDESC:Eventi per Tabiano terme
REFRESH-INTERVAL;VALUE=DURATION:PT1H
X-Robots-Tag:noindex
X-PUBLISHED-TTL:PT1H
BEGIN:VTIMEZONE
TZID:Europe/Rome
BEGIN:DAYLIGHT
TZOFFSETFROM:+0100
TZOFFSETTO:+0200
TZNAME:CEST
DTSTART:20240331T010000
END:DAYLIGHT
BEGIN:STANDARD
TZOFFSETFROM:+0200
TZOFFSETTO:+0100
TZNAME:CET
DTSTART:20241027T010000
END:STANDARD
BEGIN:DAYLIGHT
TZOFFSETFROM:+0100
TZOFFSETTO:+0200
TZNAME:CEST
DTSTART:20250330T010000
END:DAYLIGHT
BEGIN:STANDARD
TZOFFSETFROM:+0200
TZOFFSETTO:+0100
TZNAME:CET
DTSTART:20251026T010000
END:STANDARD
BEGIN:DAYLIGHT
TZOFFSETFROM:+0100
TZOFFSETTO:+0200
TZNAME:CEST
DTSTART:20260329T010000
END:DAYLIGHT
BEGIN:STANDARD
TZOFFSETFROM:+0200
TZOFFSETTO:+0100
TZNAME:CET
DTSTART:20261025T010000
END:STANDARD
END:VTIMEZONE
BEGIN:VEVENT
DTSTART;VALUE=DATE:20250405
DTEND;VALUE=DATE:20250407
DTSTAMP:20260421T193604
CREATED:20250117T153221Z
LAST-MODIFIED:20250203T104657Z
UID:12723-1743811200-1743983999@tabianoterme.it
SUMMARY:Scopri il Museo del Parmigiano Reggiano a Soragna
DESCRIPTION:Visita il Museo del Parmigiano Reggiano\, situato nel suggestivo Castello Meli-Lupi a Soragna\, a pochi passi dal centro del paese e dalla rinomata Strada del Culatello. Immerso in una terra ricca di storia\, bellezze naturali e sapori inimitabili\, il museo celebra il re dei formaggi\, il Parmigiano Reggiano\, con un percorso espositivo che ti porterà alla scoperta delle antiche tecniche di produzione\, della stagionatura e del ruolo fondamentale del Consorzio che tutela questo prezioso prodotto. \nIl museo è ospitato in un antico caseificio ottocentesco\, con una struttura circolare che conserva l’autenticità della tradizione. Al suo interno potrai ammirare oltre 120 oggetti storici\, strumenti e fotografie che raccontano l’evoluzione della produzione del Parmigiano Reggiano. Potrai anche scoprire la storia affascinante della grattugia e delle imitazioni del formaggio nel mondo. \nNon perdere l’opportunità di visitare anche il Museum Shop\, dove potrai acquistare prodotti tipici e gustare il vero Parmigiano Reggiano\, un’esperienza unica per i veri intenditori. \nDove: Museo del Parmigiano Reggiano\, Soragna (PR)\nQuando: Dal 1 marzo all’8 dicembre  – Sabato\, domenica e festivi: 10.00 – 18.00\nE-mail: prenotazioni.parmigiano@museidelcibo.it
URL:https://tabianoterme.it/event/scopri-il-museo-del-parmigiano-reggiano-a-soragna/
LOCATION:Museo del Parmigiano Reggiano\, Soragna (PR)\, Corte Castellazzi\, Via Volta\, 5\, Soragna PR\, 43019\, Italia
CATEGORIES:Bambini e famiglie,Enogastronomia,Museo
ATTACH;FMTTYPE=image/jpeg:https://tabianoterme.it/wp-content/uploads/2025/01/BLOG-4.jpg
ORGANIZER;CN="Musei del Cibo della Provincia di Parma":MAILTO:info@museidelcibo.it
END:VEVENT
BEGIN:VEVENT
DTSTART;TZID=Europe/Rome:20250405T103000
DTEND;TZID=Europe/Rome:20250504T170000
DTSTAMP:20260421T193604
CREATED:20250411T104635Z
LAST-MODIFIED:20250411T104929Z
UID:12927-1743849000-1746378000@tabianoterme.it
SUMMARY:Mostra Ricordi di Famiglia al Castello di Scipione
DESCRIPTION:Esposizione di foto d’epoca\, antichi documenti e preziosi oggetti di famiglia \nSabato: ore 15.00; 16.00; 17.00 \nDomenica e festivi: ore 10.30 e 11.30; 15.00; 16.00; 17.00 \nPer informazioni: Castello di Scipione dei Marchesi Pallavicino – Borgo di Scipione Castello\nSalsomaggiore Terme (PR) – Tel. 0524 572381 – info@castellodiscipione.it \nUna straordinaria esposizione di preziosi oggetti\, antichi documenti e fotografie appartenuti alla famiglia della Marchesa Maria Luisa Pallavicino. Un’esposizione itinerante che racconta il rituale dell’ora del tè nel\nsalotto azzurro\, tra preziosi argenti del secolo scorso\, porcellane del Settecento e Ottocento di Meissen e Sèvres ed eleganti ventagli di famiglia; momenti di intimità quotidiana\, nella camera gialla aperta per\nl’occasione\, dove tra le sete damascate\, si può scorgere ad esempio il necessaire da toilette dell’Ottocento con stemma. Fotografie di famiglia dell’Ottocento e dei primi del Novecento che rievocano i costumi di\nun’epoca e stanze adorne di arredi. Numerosi i ricordi degli anni di gioventù della Marchesa Maria Luisa Pallavicino\, dal sontuoso abito da ballo delle Sorelle Fontana\, indossato per il ricevimento di matrimonio\ndella Principessa Maria Pia di Savoia\, alle fotografie che la ritraggono negli anni di gioventù. La tavola imperiale imbandita alla “russa” con antico servizio di famiglia. Antichi documenti e preziosi oggetti\, come\nil leggio del Seicento appartenuto al Cardinale Sforza Pallavicino\, raccontano le vicende storiche di una famiglia con più di mille anni di storia documentata.\nBiglietto senza sovraprezzo\, mostra inclusa nella visita guidata al Castello
URL:https://tabianoterme.it/event/mostra-ricordi-di-famiglia-al-castello-di-scipione/
LOCATION:Castello di Scipione\, Via Scipione Castello\, 61\, Salsomaggiore Terme\, Parma\, 43039\, Italia
CATEGORIES:Arte e Cultura,Bambini e famiglie,Cultura,Storia,Visita guidata
ATTACH;FMTTYPE=image/jpeg:https://tabianoterme.it/wp-content/uploads/2025/04/Castello-di-Scipione-scaled.jpg
ORGANIZER;CN="Castello di Scipione":MAILTO:info@castellodiscipione.it
END:VEVENT
BEGIN:VEVENT
DTSTART;TZID=Europe/Rome:20250412T110000
DTEND;TZID=Europe/Rome:20250503T190000
DTSTAMP:20260421T193604
CREATED:20250327T090615Z
LAST-MODIFIED:20250411T105227Z
UID:12842-1744455600-1746298800@tabianoterme.it
SUMMARY:San Vitale 2025
DESCRIPTION:San Vitale si avvicina!\nUn fittissimo calendario di eventi vi aspetta dal 12 Aprile fino al 3 Maggio.\n12 aprile\, 11.00\, Corte Civica Tommasini\nPresentazione del libro “Le città di Igiea” di Emilio Faroldi\n13 aprile\, 16.30\, Corte Civica Tommasini\n“Intelligenza artificiale o fantascienza? Le nuove forme della tecnologia”\, incontro con il giornalista Silvio Marvisi.\n13-21 aprile\, parcheggio via dei Partigiani Salsesi (area Bocciofila)\nLuna Park\n19 aprile\, 9.00-19.00\, viale Berenini e viale Romagnosi\nRassegna espositiva con creativi\, artigianato\, hobbisti e associazioni di volontariato (organizzato da Pro Loco Salsomaggiore)\n19 aprile\, 21.00\, Tenda di Parco Corazza\nMusica dal vivo con la “Band S62” (organizzato da Pro Loco Salsomaggiore)\n19 aprile\nPartenza ore 14.15 da Bar Andrè a Salsomaggiore e ore 14.30 in Piazza Verdi a Tabiano\nGita a Piacenza (Gita di Pasqua) Organizzato da Consorzio AbiTabiano\n20 aprile\, 9.00-19.00\, piazza Verdi a Tabiano\n“Artigiani tra le colline” (a cura di Ortocolto)\n20 aprile\, 9.00-19.00\, viale Berenini e viale Romagnosi\nRassegna espositiva con creativi\, artigianato\, hobbisti (organizzato da Pro Loco Salsomaggiore)\n20 aprile\, 9.00-19.00\, viale Berenini e viale Romagnosi\nRassegna espositiva con creativi\, artigianato\, hobbisti (organizzato da Pro Loco Salsomaggiore)\n21 aprile\, 9.00-19.00\, viale Berenini e viale Romagnosi\nRassegna espositiva con creativi\, artigianato\, hobbisti (organizzato da Pro Loco Salsomaggiore)\n21 aprile\, 00-19.00\, vie del centro\nArtisti di strada: Luna di caffè: spettacolo di clown/giocoleria (Circolo Tadam Piacenza)\, Federico Berti\, il Cantastorie\n22 aprile\, ore 15.00\, Piazza Verdi a Tabiano\nCamminata sulle colline (organizzato da Consorzio AbiTabiano – Prenotazioni 339 4987087)\n23 aprile\, 10.00-12\, Tenda di Parco Corazza\nLaboratori Creativi (organizzato da Proloco Salsomaggiore e Why Not)\n24 aprile\, 20.30\, Tenda di Parco Corazza\n“Gran Galà dell’Operetta” (organizzato da Pro Loco Salsomaggiore)\n24 aprile\, 21.00\, Palazzetto dello Sport\n“San Vitale in Fest”\, serata per giovani\, con super ospite (ingresso a pagamento)\n25 aprile\, ore 9.30\nFesta della Liberazione. Manifestazione istituzionale con la presenza del Complesso Bandistico Città di Salsomaggiore\n25 aprile\, 17.00-23.00\, Tenda di Parco Corazza\n“Gran Concerto del 25 aprile”\, musica rock con giovani band salsesi (organizzato da Anpi)\n26 aprile\, 9.00-19.00\, viale Berenini e viale Romagnosi\nRassegna espositiva con creativi\, artigianato\, hobbisti e associazioni di volontariato (organizzato da Pro Loco Salsomaggiore)\n26 aprile\, 10.30-12.30 e 16.00-18.00\, largo Roma e parco Corazza\n“L’impegno di tanti per la tutela di tutti”. Esercitazioni e simulazioni (a cura di ProCiv\, Protezione civile Favalesi\, Pubblica Assistenza)\n26 aprile\, 14.30-18.30\, Tenda di Parco Corazza\n“Giocando per San Vitale” (organizzato da Pro Loco Salsomaggiore\, 365 volte donna\, Salsoludix\, Ragliando s’impara\, Circolo Scacchistico)\n26 aprile\, 15.30-17.30\, parco Mazzini\nCaccia al Tesoro riservata solo ai bambini a partire dagli 8 anni\, al termine è prevista una merenda per i partecipanti (a cura di Agesci- Salsomaggiore 2)\n26 aprile\, 17.00-19.30\, Corte Civica Tommasini\n“Storie di donne e di vini del territorio” (organizzato da Pro Loco Salsomaggiore e 365 volte donna\, in collaborazione con: AIS\, Associazione donne del vino\, Consorzio del Parmigiano Reggiano\, Forno Pongolini)\n26 aprile\, 21.00\, Tenda di Parco Corazza\n“Tributo ai Nomadi” (organizzato da Pro Loco Salsomaggiore)\n26 aprile\, 20.00\, Palazzetto dello Sport\n“San Vitale in Fest” – Voglio tornare negli anni ‘90 (ingresso gratuito con possibilità di cena)\n26-28 aprile\n“Il San Vitale dei bambini”. Laboratorio di creatività e appartenenza (organizzato da Ascom Salsomaggiore)\n27 aprile\, 9.00-18.00\, via Milano\n“Mercatino del riuso” (organizzato da Pro Loco Salsomaggiore)\n27 aprile\, 9.00-13.00\, Serre comunali\n“Il Cuore in serra”\, esami ecg gratuiti per la cittadinanza (organizzato da Pro Loco Salsomaggiore in collab. con Cral Azienda Ausl-Distretto di Fidenza)\n27 aprile\, 10.00-19.00\, Gazebo di viale Romagnosi\n“San Vitale in musica”: Banda e Armonie\, Complesso Bandistico Città di Salsomaggiore\, Major Seven (organizzato dalla Banda di Salsomaggiore e Armonie Aps)\n27 aprile\,10.00-19.00\, Corte Civica Tommasini\n“2° Torneo Provincial di burraco” (organizzato da Burraco Asd)\n27 aprile\, 10.00-19.00\, viale Romagnosi\n“Esposizione d’arte” (organizzato da Arte&Cultura)\n27 aprile\, 14.30-18.30\, Tenda di Parco Corazza\n“Giocando per San Vitale” (organizzato da Pro Loco Salsomaggiore\, 365 volte donna\, Salsoludix\, Ragliando s’impara\, Circolo Scacchistico)\n27 aprile\, 15.00-18.00\, piazza della Brugnola\n“13° concorso del bargnolino artigianale Città di Salsomaggiore Terme” (a cura del Circolo ricreativo SalsoInsieme in collaborazione con Proloco Salsomaggiore)\n27 aprile\, 15.30\, Tenda di Parco Corazza\n“Spettacolo burattini di Esther Grigoli” (organizzato da Pro Loco Salsomaggiore)\n27 aprile-fine maggio\n“San Vitale dei Salsesi”\, esposizione dei cartelloni realizzati dalle scuole e dalle classi di catechismo\nNegozi del centro storico\, teca di Viale Berenini e chiesa di San Vitale (organizzato da 365 volte donna)\n28 aprile\, 15.00\, ritrovo palazzina Warowland\nVisita guidata alla città fino al Palazzo dei Congressi. Prenotazioni al numero 392 9160719. Attività a pagamento a cura di Verdeacque\n28 aprile\, 16.30\, cortile del Palazzo dei Congressi\n“Famiglie in Circo-lo”\, spettacolo per bambini 0-6 anni (a cura di Circolarmente)\n28 aprile\, ore 16.00\, Cripta della Chiesa di San Vitale\n“La chiesa di San Vitale a Salsomaggiore Terme”\, presentazione del libro di Roberto Mancuso (organizzato da 365 volte donna\, Amici di Salsomaggiore e Parrocchia San Vitale)\n28 aprile\, 10.00-19.00\, Chiesa di San Vitale\nMostra fotografica “San Vitale: una chiesa\, una storia” (organizzato da Circolo fotografico Zoom e 365 volte donna)\n28 aprile\, ore 16\, parco Corazza\n“Libri con le ruote”\, letture animate per bambini da 3-7 anni (a cura di Coworking Salso)\n28 aprile\, 17.30\, Tenda di Parco Corazza\nSpettacolo per bambini (organizzato da Pro Loco Salsomaggiore)\n28 aprile\, 17.30\, Gazebo di viale Romagnosi\nConcerto di musica jazz con il gruppo Smile\n28 aprile – 4 maggio\n42° Torneo Internazionale Juniores di Tennis Bayer Salsomaggiore Terme\n29 aprile\, 21.00\, Sala Cariatidi del Palazzo dei Congressi\n“Azzardopoli”\, spettacolo teatrale sul tema della ludopatia (organizzato dalla Consulta giovanile e Zona Franca)\n29 aprile\, 20.30\, Tenda di Parco Corazza\nCommedia dialettale proposta da Artemisia Teater\, “Alfio\, Delfo e l’Alberta…dùu campanòun e ‘na serta” (organizzato dal Circolo ricreativo Salsoinsieme e Pro Loco)\n29 aprile\, 21.00\, Palazzo dei Congressi – Sala Cariatidi\n“Azzardopoli” spettacolo teatrale sul tema della ludopatia (a cura di Consulta Giovanile e Zona Franca)\n30 aprile\, 21.00 Palazzo dei Congressi – Sala Cariatidi\n“Tutti in Coro. 2° rassegna corale San Vitale” (organizzato da Amici di Salsomaggiore\, 365 volte donna\, Pro Loco Salsomaggiore\, Armonie Aps)\n2-3 maggio\, largo Roma\n“Milano-Portofino”\, mostra auto storiche con concorso\, arrivo alle 15.00 del 2 e partenza alle 9.30 del 3\n2-4 maggio – Torneo Basket Salso al Palazzetto (organizzato da ASD Basket Salso)\n3 maggio\, 16.30\, piazza Verdi a Tabiano\nConcerto del Complesso Bandistico Città di Salsomaggiore Terme (organizzato da Consorzio AbiTabiano)\n3 maggio\,15.00-19.00\, vie del centro\nRitorna\, dopo il successo del Carnevale\, The Ipanema Show
URL:https://tabianoterme.it/event/san-vitale-2025/
LOCATION:Salsomaggiore e Tabiano Terme\, Parchi\, Salsomaggiore e Tabiano Terme\, Parma\, 43039\, Italia
CATEGORIES:Arte e Cultura,artigianato,Bambini e famiglie,Camminata,Concerto,Danza,Enogastronomia,Festa,Festival,Fiera,Intrattenimento,Mercatino,Mostra,Musica,Outdoor,Salute e benessere,Spettacolo,Sport,Visita guidata
ATTACH;FMTTYPE=image/jpeg:https://tabianoterme.it/wp-content/uploads/2025/03/Progetto-senza-titolo-2025-03-25T105052.809-1536x1016-1.jpg
END:VEVENT
BEGIN:VEVENT
DTSTART;TZID=Europe/Rome:20250419T080000
DTEND;TZID=Europe/Rome:20251031T123000
DTSTAMP:20260421T193604
CREATED:20250415T142638Z
LAST-MODIFIED:20250415T142638Z
UID:12941-1745049600-1761913800@tabianoterme.it
SUMMARY:Servizio Trasporto Urbano - Linea 2226 Tabiano
DESCRIPTION:Tabiano Bagni: servizio urbano attivo \n\nDal 19 aprile al 4 maggio e dal 31 maggio al 31 ottobre 2025\, dal lunedì alla domenica. \nPrima corsa ore 8.
URL:https://tabianoterme.it/event/servizio-trasporto-urbano-linea-2226-tabiano/
CATEGORIES:Bambini e famiglie,Outdoor
ATTACH;FMTTYPE=image/jpeg:https://tabianoterme.it/wp-content/uploads/2025/04/2226-Servizio-Urbano-di-Tabiano-2-768x593-1.jpg
END:VEVENT
BEGIN:VEVENT
DTSTART;TZID=Europe/Rome:20250419T143000
DTEND;TZID=Europe/Rome:20250419T183000
DTSTAMP:20260421T193604
CREATED:20250411T091428Z
LAST-MODIFIED:20250411T091557Z
UID:12916-1745073000-1745087400@tabianoterme.it
SUMMARY:Gita in Pullman a Piacenza
DESCRIPTION:Gita pomeridiana in pullman a Piacenza\nPartenza da Tabiano alle ore 14.30\, prenotazione obbligatoria entro il giorno precedente : 0524 565742 – info@tabianoterme.it\nTariffa scontata per gli ospiti degli alberghi di Tabiano \nTrasporto pullman GT e guida turistica con il gruppo durante tutto il pomeriggio di sabato \nOrganizzazione a cura di Consorzio AbiTabiano
URL:https://tabianoterme.it/event/gita-in-pullman-a-piacenza/
LOCATION:Tabiano Terme
CATEGORIES:Arte e Cultura,Bambini e famiglie,Cultura,Outdoor,Storia,Visita guidata
ATTACH;FMTTYPE=image/jpeg:https://tabianoterme.it/wp-content/uploads/2025/04/licensed-image-1.jpg
ORGANIZER;CN="Consorzio Abitabiano":MAILTO:info@tabianoterme.it
END:VEVENT
BEGIN:VEVENT
DTSTART;TZID=Europe/Rome:20250420T100000
DTEND;TZID=Europe/Rome:20250420T190000
DTSTAMP:20260421T193604
CREATED:20250411T091937Z
LAST-MODIFIED:20250411T091937Z
UID:12918-1745143200-1745175600@tabianoterme.it
SUMMARY:Mercanti sulle colline
DESCRIPTION:Artigiani in festa \nMercatino a cura di Ortocolto \nDalle ore 10.00 alle ore 19.00 in Piazza Verdi \nMercato di artigianato e creativi\, intrattenimento per tutta la famiglia e punti ristoro con tipicità locali.
URL:https://tabianoterme.it/event/mercanti-sulle-colline/
LOCATION:Tabiano Terme
CATEGORIES:Arte e Cultura,artigianato,Bambini e famiglie,Enogastronomia,Fiera,Food,Intrattenimento,Mercatino,Outdoor
ATTACH;FMTTYPE=image/jpeg:https://tabianoterme.it/wp-content/uploads/2025/04/download-1.jpg
END:VEVENT
BEGIN:VEVENT
DTSTART;TZID=Europe/Rome:20250421T103000
DTEND;TZID=Europe/Rome:20250421T170000
DTSTAMP:20260421T193604
CREATED:20250411T103913Z
LAST-MODIFIED:20250411T103913Z
UID:12923-1745231400-1745254800@tabianoterme.it
SUMMARY:Pasquetta al Castello di Scipione. Alla ricerca delle uova magiche
DESCRIPTION:Una magica avventura in costume dove bambini e bambine nei panni di cavalieri e dame partono alla scoperta del mistero delle uova del Castello con simpatici personaggi. \nOvetti di cioccolato per tutti i bambini \nEvento confermato anche in caso di maltempo \nPrenotazione obbligatoria tel 0524572381 info@castellodiscipione.it \nDalle ore 10.30 visite guidate storiche con apertura del giardino con punto ristoro con i piatti del territorio.
URL:https://tabianoterme.it/event/pasquetta-al-castello-di-scipione-alla-ricerca-delle-uova-magiche/
LOCATION:Castello di Scipione\, Via Scipione Castello\, 61\, Salsomaggiore Terme\, Parma\, 43039\, Italia
CATEGORIES:Arte e Cultura,Bambini e famiglie,Intrattenimento,Outdoor,Storia,Visita guidata
ATTACH;FMTTYPE=image/jpeg:https://tabianoterme.it/wp-content/uploads/2025/04/LowAllaRicercaUovaMagiche-scaled.jpeg
ORGANIZER;CN="Castello di Scipione":MAILTO:info@castellodiscipione.it
END:VEVENT
BEGIN:VEVENT
DTSTART;TZID=Europe/Rome:20250421T110000
DTEND;TZID=Europe/Rome:20250421T170000
DTSTAMP:20260421T193604
CREATED:20250327T091018Z
LAST-MODIFIED:20250327T091018Z
UID:12846-1745233200-1745254800@tabianoterme.it
SUMMARY:Grandi spettacoli di falconeria al castello di Tabiano
DESCRIPTION:Al Castello di Tabiano\, iniziano gli appuntamenti del 2025 per ammirare da vicino aquile\, falchi\, gufi e barbagianni\, seguirne le prove di volo e\, con la guida di un esperto Maestro Falconiere\, conoscere i segreti di quest’arte antichissima e nobile\, praticata da Re e Imperatori. \nPrima degli spettacoli di falconeria è possibile partecipare alle visite guidate in Castello. \nAmmirare da vicino aquile\, falchi\, gufi e barbagianni e seguirne le prove di volo\, in un grande spettacolo di falconeria.  Lunedì 21 aprile e giovedì 01 maggio\, al Castello di Tabiano\, un esperto Maestro Falconiere guiderà gli ospiti alla scoperta dei segreti della falconeria\, un’arte antichissima e nobile\, praticata da Re e Imperatori e attualmente ancora in alcune parti del globo. Gli spettacoli di falconeria saranno alle ore 11.00 e alle ore 17.00 e prima e dopo è possibile partecipare alle visite guidate in Castello. \n“Abbiamo deciso di organizzare questo spettacolo per ripercorrere una tradizione di grande importanza del Castello -spiega Giacomo Corazza Martini\, proprietario del castello e autore di diversi volumi sulla storia di Tabiano -. Infatti\, la caccia con il falcone era l’attività preferita dell’Imperatore Federico II di Svevia\, alleato del Marchese Uberto Pallavicino il Grande\, signore di Tabiano nel XIII secolo”. \nLe visite guidate inizieranno alle ore 10.00 – 11.00 – 16.00 e 17.00 per la durata di circa un’ora con un percorso che attraversa le sale decorate con affreschi\, specchi\, stemmi\, le ampie cantine a volta\, il parco di piante secolari\, le  terrazze panoramiche\, lo scalone d’onore e l’antica biblioteca.
URL:https://tabianoterme.it/event/grandi-spettacoli-di-falconeria-al-castello-di-tabiano/2025-04-21/
LOCATION:Castello di Tabiano\, Via Castello\, Salsomaggiore Terme\, 43039
CATEGORIES:Arte e Cultura,Bambini e famiglie,Outdoor,Spettacolo
ATTACH;FMTTYPE=image/jpeg:https://tabianoterme.it/wp-content/uploads/2025/03/Progetto-senza-titolo-2025-03-04T113825.994.jpg
END:VEVENT
BEGIN:VEVENT
DTSTART;TZID=Europe/Rome:20250422T150000
DTEND;TZID=Europe/Rome:20250422T170000
DTSTAMP:20260421T193604
CREATED:20250411T093514Z
LAST-MODIFIED:20250411T093514Z
UID:12920-1745334000-1745341200@tabianoterme.it
SUMMARY:Camminata sulle colline tra benessere e storia
DESCRIPTION:Accompagnati dalle guide escursionistiche di Gruppo Esploratori Val d’Arda andremo alla scoperta delle colline tabianesi. \nPartenza ore 15.00 da Piazza Verdi\, prenotazione obbligatoria entro le ore 12 del 21 aprile. Tel 0524 565742 – info@tabianoterme.it \nCamminata con guida ambientale escursionistica\, livello di difficoltà turistico. Adatto a tutti con scarpe da ginnastica. \nOrganizzazione a cura del Consorzio AbiTabiano. \n  \n  \n 
URL:https://tabianoterme.it/event/camminata-sulle-colline-tra-benessere-e-storia/
LOCATION:Tabiano Terme
CATEGORIES:Bambini e famiglie,Camminata,Outdoor,Visita guidata
ATTACH;FMTTYPE=image/jpeg:https://tabianoterme.it/wp-content/uploads/2024/10/Vigneti015.jpg
ORGANIZER;CN="Consorzio Abitabiano":MAILTO:info@tabianoterme.it
END:VEVENT
BEGIN:VEVENT
DTSTART;TZID=Europe/Rome:20250426T150000
DTEND;TZID=Europe/Rome:20250426T170000
DTSTAMP:20260421T193604
CREATED:20250418T102923Z
LAST-MODIFIED:20250418T102923Z
UID:12950-1745679600-1745686800@tabianoterme.it
SUMMARY:Obiettivo sostenibilità - Laboratorio per bambini al MuMAB
DESCRIPTION:Gioco sull’ Agenda 2030 \nHai mai sentito parlare dell’Agenda 2030? Con questa caccia al tesoro scoprirai di cosa si tratta\, quali sono i goal da raggiungere e impareremo che solo collaborando potremo trovare soluzioni comuni alle grandi sfide del pianeta! \nAdatto a bambini dai 6 ai 12 anni\, con la presenza di un adulto
URL:https://tabianoterme.it/event/obiettivo-sostenibilita-laboratorio-per-bambini-al-mumab/
LOCATION:MuMAB- Museo Mare Antico e Biodiversità\, Podere Millepioppi\, Salsomaggiore Terme\, PR\, 43039\, Italia
CATEGORIES:Bambini e famiglie,Outdoor
ATTACH;FMTTYPE=image/png:https://tabianoterme.it/wp-content/uploads/2025/04/26-aprile-1024x577-1.png
END:VEVENT
BEGIN:VEVENT
DTSTART;VALUE=DATE:20250427
DTEND;VALUE=DATE:20250428
DTSTAMP:20260421T193604
CREATED:20250110T161659Z
LAST-MODIFIED:20250110T161659Z
UID:12642-1745712000-1745798399@tabianoterme.it
SUMMARY:Scopri il Castello di Contignaco
DESCRIPTION:Il Castello di Contignaco\, arroccato sulle colline di Salsomaggiore Terme\, è un luogo dove storia\, natura ed enogastronomia si incontrano. Costruito nell’XI secolo per proteggere le saline\, questo affascinante maniero ha ospitato persino il poeta Dante Alighieri\, secondo la leggenda. \nOggi il castello offre visite guidate alla scoperta delle sue antiche sale\, del mastio e del suggestivo cortile interno. È anche un tempio per gli amanti del buon vino\, con degustazioni di etichette pregiate prodotte nei vigneti circostanti\, accompagnate da eccellenze locali come il Parmigiano Reggiano. \nPerfetto per famiglie\, coppie e appassionati di storia\, il Castello di Contignaco regala un’esperienza unica e indimenticabile. Venite a scoprire il fascino senza tempo di questo gioiello medievale! \nQuando: Sabato\, domenica\, lunedì e festivi (visite guidate alle 11:00\, 15:30\, 17:30). \nPrenotazione obbligatoria:\n📧 castello.contignaco@gmail.com\n📞 +39 320 6126425 \nCosa puoi fare: \nVisite guidate: Un viaggio nel tempo tra storia\, leggende\, e architettura medievale.\nDegustazioni: Scopri i vini artigianali prodotti nella cantina del Castello\, accompagnati dai racconti dei proprietari.\nEventi speciali: Aperitivi\, mostre fotografiche\, cacce al tesoro a tema dantesco\, concerti e altro.\nEsplora la natura: Ammira l’antica quercia monumentale all’ingresso e la vista spettacolare sulla valle del torrente Ghiara.
URL:https://tabianoterme.it/event/scopri-il-castello-di-contignaco/2025-04-27/
LOCATION:Castello di Contignaco\, Via Contignaco Castello\, 125\, Salsomaggiore Terme\, 43039\, Italia
CATEGORIES:Arte e Cultura,Bambini e famiglie,Cultura
ATTACH;FMTTYPE=image/jpeg:https://tabianoterme.it/wp-content/uploads/2025/01/contignaco.jpg
ORGANIZER;CN="Castello di Contignaco":MAILTO:castello.contignaco@gmail.com
END:VEVENT
BEGIN:VEVENT
DTSTART;TZID=Europe/Rome:20250428T150000
DTEND;TZID=Europe/Rome:20250428T170000
DTSTAMP:20260421T193604
CREATED:20250418T102534Z
LAST-MODIFIED:20250418T102534Z
UID:12946-1745852400-1745859600@tabianoterme.it
SUMMARY:Visita guidata alla città di Salsomaggiore Terme
DESCRIPTION:Visita del centro storico e del Palazzo dei Congressi di Salsomaggiore Terme \nRitrovo presso Palazzina Warowland circa 10 minuti prima della partenza. \nIl costo è di € 8\,00 a persona (i bambini fino a 10 anni usufruiscono della gratuità) e la durata è di un’ora e mezza circa. \nL’iscrizione è obbligatoria e da effettuarsi tramite i seguenti contatti: Cell. 392 9160719 / e-mail: info@verdeacque.it \n  \n 
URL:https://tabianoterme.it/event/visita-guidata-alla-citta-di-salsomaggiore-terme/
LOCATION:Palazzina Warowland\, Piazza Berzieri\, Salsomaggiore\, Parma\, 43039
CATEGORIES:Arte e Cultura,Bambini e famiglie,Camminata,Cultura,Storia,Visita guidata
ATTACH;FMTTYPE=image/png:https://tabianoterme.it/wp-content/uploads/2024/11/Tour-Palazzo-dei-Congressi-13-aprile-2023.png
ORGANIZER;CN="Verd&Acque":MAILTO:info@verdeacque.it
END:VEVENT
END:VCALENDAR