BEGIN:VCALENDAR
VERSION:2.0
PRODID:-//Tabiano terme - ECPv6.15.11//NONSGML v1.0//EN
CALSCALE:GREGORIAN
METHOD:PUBLISH
X-ORIGINAL-URL:https://tabianoterme.it
X-WR-CALDESC:Eventi per Tabiano terme
REFRESH-INTERVAL;VALUE=DURATION:PT1H
X-Robots-Tag:noindex
X-PUBLISHED-TTL:PT1H
BEGIN:VTIMEZONE
TZID:Europe/Rome
BEGIN:DAYLIGHT
TZOFFSETFROM:+0100
TZOFFSETTO:+0200
TZNAME:CEST
DTSTART:20230326T010000
END:DAYLIGHT
BEGIN:STANDARD
TZOFFSETFROM:+0200
TZOFFSETTO:+0100
TZNAME:CET
DTSTART:20231029T010000
END:STANDARD
BEGIN:DAYLIGHT
TZOFFSETFROM:+0100
TZOFFSETTO:+0200
TZNAME:CEST
DTSTART:20240331T010000
END:DAYLIGHT
BEGIN:STANDARD
TZOFFSETFROM:+0200
TZOFFSETTO:+0100
TZNAME:CET
DTSTART:20241027T010000
END:STANDARD
BEGIN:DAYLIGHT
TZOFFSETFROM:+0100
TZOFFSETTO:+0200
TZNAME:CEST
DTSTART:20250330T010000
END:DAYLIGHT
BEGIN:STANDARD
TZOFFSETFROM:+0200
TZOFFSETTO:+0100
TZNAME:CET
DTSTART:20251026T010000
END:STANDARD
END:VTIMEZONE
BEGIN:VEVENT
DTSTART;TZID=Europe/Rome:20241030T150000
DTEND;TZID=Europe/Rome:20241229T180000
DTSTAMP:20260422T122633
CREATED:20241030T094108Z
LAST-MODIFIED:20241030T094108Z
UID:12419-1730300400-1735495200@tabianoterme.it
SUMMARY:MuMAB - Museo Mare Antico e Biodiversità
DESCRIPTION:Ogni mercoledì e tutti i week-end\, il Museo del Mare Antico e della Biodiversità apre le sue porte ai visitatori di ogni età con una proposta di laboratori ed esperienze per vivere a stretto contatto con la natura\, la biodiversità e le specie animali e vegetali. \nMercoledì e Venerdì\nOre 15:00 Semplicemente MuMAB\nOre 16:30 MuMAB Experience \nSabato e Domenica\nOre 9:00 MuMAB a Cielo Aperto\nOre 11:15 Semplicemente MuMAB\nOre 15:00 Semplicemente MuMAB\nOre 16:30 MuMAB Experience \ninfo: 0524 583595  –   mumab@millepioppi.it\nPrenotazioni\, news e biglietteria: www.millepioppi.it
URL:https://tabianoterme.it/event/mumab-museo-mare-antico-e-biodiversita/2024-10-30/
LOCATION:MuMAB- Museo Mare Antico e Biodiversità\, Podere Millepioppi\, Salsomaggiore Terme\, PR\, 43039\, Italia
CATEGORIES:Bambini e famiglie,Museo,Outdoor,Visita guidata
ATTACH;FMTTYPE=image/jpeg:https://tabianoterme.it/wp-content/uploads/2024/10/mumab-24_1-x-sito.jpg
ORGANIZER;CN="MuMAB - Museo Mare Antico e Biodiversit%C3%A0":MAILTO:mumab@millepioppi.it
END:VEVENT
BEGIN:VEVENT
DTSTART;TZID=Europe/Rome:20241101T100000
DTEND;TZID=Europe/Rome:20241101T160000
DTSTAMP:20260422T122633
CREATED:20241029T113424Z
LAST-MODIFIED:20241029T113424Z
UID:12411-1730455200-1730476800@tabianoterme.it
SUMMARY:Bolly Potter e la Bolla Filosofale al Castello di Tabiano
DESCRIPTION:Venerdì 1 novembre 2024 al Castello di Tabiano arriva il Bollaio Matto ad incantare il pubblico con la più semplice delle magie: un po’ d’acqua e di sapone trascinano nel mondo incantato di Bolly Potter. \n“Un viaggio nel mondo della magia con Bolly\, membro della Casa Grifondoro e discendente della famiglia Potter che fra pozioni e incantesimi proverà a salvare il mondo un’altra volta…” \nAlle ore 11:00 e alle ore 16:00 con il Bollaio Matto si viaggia con la fantasia tra giochi di luci\, musica\, racconti e splendide bolle di sapone. \nSPETTACOLO ADATTI AD APPRENDISTI MAGHI DAGLI 0 AI 174 ANNI \nVenerdì 1 novembre sarà inoltre possibile visitare il Castello di Tabiano lasciandosi guidare attraverso le sue sale nelle visite in programma alle ore 10:00\, 11:00\, 15:00 e 16:00. \nProgramma visite guidate:\nh 10.00\, h 11.00\, h 15.00\, h 16.00\nProgramma spettacoli:\nh 11.00 e h 16.00 \nINFORMAZIONI\nmail: info@castelloditabiano.com\ncell: +39 348 8955378\nPrenotazione e acquisto biglietti: www.castelloditabiano.com
URL:https://tabianoterme.it/event/bolly-potter-e-la-bolla-filosofale-al-castello-di-tabiano/
LOCATION:Castello di Tabiano\, Via Castello\, Salsomaggiore Terme\, 43039
CATEGORIES:Bambini e famiglie,Intrattenimento,Spettacolo
ATTACH;FMTTYPE=image/png:https://tabianoterme.it/wp-content/uploads/2024/10/Castello-di-Tabiano-Bolly-Potter-Halloween-2024.png
END:VEVENT
BEGIN:VEVENT
DTSTART;VALUE=DATE:20241103
DTEND;VALUE=DATE:20241104
DTSTAMP:20260422T122633
CREATED:20241016T104125Z
LAST-MODIFIED:20241029T113157Z
UID:12376-1730592000-1730678399@tabianoterme.it
SUMMARY:5° Festa dell’Autunno
DESCRIPTION:La ProLoco di Salsomaggiore vi invita alla 5° Festa dell’Autunno a Salsomaggiore Terme! \nDalle ore 9.00 alle 19.00 in Via Milano \nMercatino del riuso\nCaldarroste\, Vin Brulè\, Waffles e Crepes\nAperitivo d’autunno servito dai locali delle vie\nAnimazioni per bambini “C’era una volta… il gioco” e laboratorio presentati da 365 Volte Donna \nPer info e aggiornamenti: 389 2884606
URL:https://tabianoterme.it/event/5-festa-dellautunno/
LOCATION:Salsomaggiore Terme\, Parma\, 43039\, Italia
CATEGORIES:artigianato,Bambini e famiglie,Camminata,Enogastronomia,Festa,Food,Intrattenimento,Mercatino
ATTACH;FMTTYPE=image/jpeg:https://tabianoterme.it/wp-content/uploads/2024/10/Autunno-Proloco-1.jpg
ORGANIZER;CN="Proloco Salsomaggiore":MAILTO:prolocosalsomaggiore@libero.it
END:VEVENT
BEGIN:VEVENT
DTSTART;TZID=Europe/Rome:20241110T080000
DTEND;TZID=Europe/Rome:20241110T170000
DTSTAMP:20260422T122633
CREATED:20241017T081313Z
LAST-MODIFIED:20241017T081313Z
UID:12380-1731225600-1731258000@tabianoterme.it
SUMMARY:Festa del Ringaziamento
DESCRIPTION:Giornata di ringraziamento per i frutti della terra\nSi celebra anche a Tabiano la Giornata Nazionale del Ringraziamento. Titolo: «la speranza per il domani: verso un’agricoltura più sostenibile».\nSi inizia alle ore 8 con il raduno dei mezzi agricoli e l’allestimento dei banchi con i prodotti agricoli in vendita in Via Fidenza.\nSi prosegue con la Celebrazione della Santa Messa delle ore 10.\nA seguire Benedizione dei mezzi.\nAd allietare la stupenda mattinata il Complesso Bandistico della Città di Salsomaggiore\nSplendida occasione per pranzare quindi grazie alla ampia proposta di Food Truck e straordinario Vin brulè per sfidare le temperature autunnali.
URL:https://tabianoterme.it/event/festa-del-ringaziamento/
LOCATION:Tabiano Terme
CATEGORIES:Bambini e famiglie,Food,Intrattenimento,Musica
ATTACH;FMTTYPE=image/jpeg:https://tabianoterme.it/wp-content/uploads/2024/10/Ringraziamento.jpg
END:VEVENT
BEGIN:VEVENT
DTSTART;TZID=Europe/Rome:20241115T193000
DTEND;TZID=Europe/Rome:20241117T170000
DTSTAMP:20260422T122633
CREATED:20241106T111523Z
LAST-MODIFIED:20241106T111940Z
UID:12439-1731699000-1731862800@tabianoterme.it
SUMMARY:November Porc: a Zibello “Piaceri e delizie alla Corte di Re Culatello”
DESCRIPTION:November Porc…Speriamo ci sia la nebbia! \nLa staffetta più golosa d’Italia continua\, Conservando la sua natura accattivante e divertente che\, nel tempo\, l’ha fatta diventare uno dei più apprezzati eventi mondiali dedicati al maiale e ai suoi prodotti\, e\, al tempo stesso\, rinnovandosi con un mercato sempre ricco di nuove eccellenze agroalimentari. La proposta di sapori e profumi prelibati darà colore e allegria ai fine settimana di novembre: dopo Sissa e Polesine Parmense\, si prosegue a Zibello (15\,16\,17 novembre) e concludersi a Roccabianca (22\, 23\, 24 novembre). Ma NOVEMBER PORC è anche un’importante occasione di valorizzazione e promozione del territorio della Bassa Parmense\, perché non esistono altri eventi simili\, espressione di una zona in cui vi è una concentrazione di grandi eccellenze: Culatello di Zibello DOP\, Spalla Cotta di San Secondo e Spalla cruda di Palasone\, a cui si affiancano il Parmigiano Reggiano e il Fortana del Taro IGT\, tanto per ricordarne alcuni. Le scorse edizioni hanno raggiunto i 256 mila visitatori\, a dimostrazione che la rassegna porta flussi turistici di grandi dimensioni\, “numeri” che sono stati guadagnati anno dopo anno\, con la crescita della proposta\, la serietà degli espositori e la professionalità di centinaia di volontari. Gli ultimi anni inoltre hanno registrato una grande attenzione anche da parte di visitatori stranieri (Svizzera\, Inghilterra\, USA\, Germania\, Francia\, Spagna\, Romania\, Olanda\, Belgio\, Austria e Giappone). \nVenerdì 15 novembre 2024\nDalle 19.30 – apertura del PalaPorc dove si potrà cenare sotto la tensostruttura riscaldata con sfiziose proposte gastronomiche e ballare fino a tarda notte con la “serata disco”. Divertimento assicurato! \nSabato 16 novembre 2024\nDalle 9.00 – apre il mercato dei prodotti tipici nobilitato dalla presenza delle migliori eccellenze agroalimentari d’Italia in Piazza Garibaldi e Contrada Palavicino e apertura del mercato dell’ingegno e artigianale in piazza Cavour e in Via Caduti per la patria.\nDalle 12.00 – possibilità di pranzare al PalaPorc nella piazza centrale del paese\nAlle 15.00 – inaugurazione ufficiale della terza tappa\ndalle 20.00 – inizieranno i festeggiamenti per i giovani e i “meno giovani”: nel grande stand gastronomico si potrà cenare con piatti tipici della zona\, insieme allo squisito McPorc\, con la compagnia di Radio Bruno.\nore 22.30 – concerto al Palaporc dove si ballerà fino a tarda notta! \nDomenica 17 novembre 2024\nDalle 9.00 – riapertura dei mercati.\nDalle 12.00 – possibilità di pranzare sotto il Palaporc con prodotti tipici\nAlle 12.30 circa – si darà inizio alla realizzazione del salame “strolghino” da record: norcini anziani e giovani prepareranno il “mostro di lunghezza”\, già vincitore del Guinness dei Primati nel 2003. Una volta terminato\, l’enorme “serpentone” sarà distribuito fritto gratuitamente.\nDalle ore 16 alle ore 17- presso la chiesa parrocchiale San Giovanni Battista il maestro Luca Pollastri terrà un concerto suonando lo storico organo a canne Sarassi risalente al 1700 e recentemente restaurato. (Ingresso libero)
URL:https://tabianoterme.it/event/november-porc-a-zibello-piaceri-e-delizie-alla-corte-di-re-culatello/
LOCATION:Zibello\, via Matteotti\, 58\, Zibello\, 43010
CATEGORIES:Bambini e famiglie,Enogastronomia,Food,Intrattenimento,Mercatino,Outdoor
ATTACH;FMTTYPE=image/jpeg:https://tabianoterme.it/wp-content/uploads/2024/11/87.07b-Culatello-e-Torta-Fritta-Foto-Rebeschini.jpg
ORGANIZER;CN="Strada del Culatello":MAILTO:info@stradadelculatello.it
END:VEVENT
END:VCALENDAR