BEGIN:VCALENDAR
VERSION:2.0
PRODID:-//Tabiano terme - ECPv6.15.11//NONSGML v1.0//EN
CALSCALE:GREGORIAN
METHOD:PUBLISH
X-ORIGINAL-URL:https://tabianoterme.it
X-WR-CALDESC:Eventi per Tabiano terme
REFRESH-INTERVAL;VALUE=DURATION:PT1H
X-Robots-Tag:noindex
X-PUBLISHED-TTL:PT1H
BEGIN:VTIMEZONE
TZID:Europe/Rome
BEGIN:DAYLIGHT
TZOFFSETFROM:+0100
TZOFFSETTO:+0200
TZNAME:CEST
DTSTART:20230326T010000
END:DAYLIGHT
BEGIN:STANDARD
TZOFFSETFROM:+0200
TZOFFSETTO:+0100
TZNAME:CET
DTSTART:20231029T010000
END:STANDARD
BEGIN:DAYLIGHT
TZOFFSETFROM:+0100
TZOFFSETTO:+0200
TZNAME:CEST
DTSTART:20240331T010000
END:DAYLIGHT
BEGIN:STANDARD
TZOFFSETFROM:+0200
TZOFFSETTO:+0100
TZNAME:CET
DTSTART:20241027T010000
END:STANDARD
BEGIN:DAYLIGHT
TZOFFSETFROM:+0100
TZOFFSETTO:+0200
TZNAME:CEST
DTSTART:20250330T010000
END:DAYLIGHT
BEGIN:STANDARD
TZOFFSETFROM:+0200
TZOFFSETTO:+0100
TZNAME:CET
DTSTART:20251026T010000
END:STANDARD
END:VTIMEZONE
BEGIN:VEVENT
DTSTART;TZID=Europe/Rome:20241002T143000
DTEND;TZID=Europe/Rome:20241002T183000
DTSTAMP:20260423T013659
CREATED:20240807T100049Z
LAST-MODIFIED:20240807T100049Z
UID:12244-1727879400-1727893800@tabianoterme.it
SUMMARY:La Corriera del Turista 2024
DESCRIPTION:Ritornano come ogni estate le affascinanti GITE POMERIDIANE alla scoperta delle bellezze che ci circondano. \nAppuntamento ogni Mercoledì dal 14 agosto al 23 ottobre 2024! \nPartenza da Tabiano Terme: Piazza Verdi ore 14.45 \nPrenotazione obbligatoria entro le ore 10.00 del giorno precedente la gita.\nCosto del biglietto € 5\,00 a persona\, comprensivo di guida e pullman GT.\nBambini fino a 10 anni\, gratis. \nPer informazioni e prenotazioni tel: 0524 565742 \nLe destinazioni: \n14 agosto\nREGGIA DI COLORNO \n21 agosto\nROCCA MELI LUPI a SORAGNA \n28 agosto\nLa città del Violino e del Torrone: CREMONA \n04 settembre\nROCCA di SALA BAGANZA \n11 settembre\nLe città d’Arte dell’Emilia: PIACENZA \n18 settembre\nBorgo Medievale di VIGOLENO \n25 settembre\nROCCA di FONTANELLATO \n02 ottobre\nVisita all’Abbazia cistercense di CHIARAVALLE dell COLOMBA a\nseguire passeggiata per il Borgo Medievale di CASTELL’ARQUATO \n09 ottobre\nROCCA dei ROSSI a SAN SECONDO Parmense \n16 ottobre\nANTICA CORTE PALLAVICINA \n23 ottobre\nLe città d’Arte dell’Emilia: PARMA
URL:https://tabianoterme.it/event/la-corriera-del-turista-2024/2024-10-02/
LOCATION:Piazza Verdi\, Piazza Verdi\, Tabiano Terme\, 43039
CATEGORIES:Arte e Cultura,Bambini e famiglie,Cultura,Outdoor,Storia,Visita guidata
ATTACH;FMTTYPE=image/jpeg:https://tabianoterme.it/wp-content/uploads/2024/08/LA-CORRIERA-DEL-TURISTA-2024-1536x1016-1.jpg
ORGANIZER;CN="IAT Salsomaggiore e Tabiano Terme":MAILTO:info@portalesalsomaggiore.it
END:VEVENT
BEGIN:VEVENT
DTSTART;TZID=Europe/Rome:20241005T143000
DTEND;TZID=Europe/Rome:20241005T170000
DTSTAMP:20260423T013659
CREATED:20241001T091626Z
LAST-MODIFIED:20241001T091626Z
UID:12367-1728138600-1728147600@tabianoterme.it
SUMMARY:Biowatching a quattro zampe
DESCRIPTION:Breve itinerario alla scoperta della biodiversità e alla conoscenza del comportamento dei cani in natura. L’obiettivo dell’incontro è capire il cane per farsi capire e per godere insieme di momenti di relax all’aperto senza arrecare disturbo alla fauna selvatica.\nDislivelli complessivi: pianeggiante\nGrado di difficoltà: facile – Tempo di percorrenza: 1\,5 ore di camminata\nRitrovo: sabato 05 ottobre 2024 alle ore 14.30 presso la sede del parco al Podere Millepioppi in località San Nicomede a Salsomaggiore Terme (PR)\, davanti al MuMAB. Termine escursione: ore 17.00 ca.\nAttrezzatura richiesta: scarpe da trekking e cane al guinzaglio\nOrganizzatore e Guida: Franca Zanichelli (GAE) di NATOUR BIOWATCHING\nCosto di partecipazione: 10 € a persona\nPrenotazione: info@natour-biowatching.com\nSi richiede ai partecipanti la competenza di gestire compiutamente il proprio cane.
URL:https://tabianoterme.it/event/biowatching-a-quattro-zampe/
LOCATION:MuMAB- Museo Mare Antico e Biodiversità\, Podere Millepioppi\, Salsomaggiore Terme\, PR\, 43039\, Italia
CATEGORIES:Bambini e famiglie,Camminata,Museo,Outdoor,Visita guidata
ATTACH;FMTTYPE=image/jpeg:https://tabianoterme.it/wp-content/uploads/2024/10/imgnews.jpg
END:VEVENT
BEGIN:VEVENT
DTSTART;TZID=Europe/Rome:20241009T143000
DTEND;TZID=Europe/Rome:20241009T183000
DTSTAMP:20260423T013659
CREATED:20240807T100049Z
LAST-MODIFIED:20240807T100049Z
UID:12245-1728484200-1728498600@tabianoterme.it
SUMMARY:La Corriera del Turista 2024
DESCRIPTION:Ritornano come ogni estate le affascinanti GITE POMERIDIANE alla scoperta delle bellezze che ci circondano. \nAppuntamento ogni Mercoledì dal 14 agosto al 23 ottobre 2024! \nPartenza da Tabiano Terme: Piazza Verdi ore 14.45 \nPrenotazione obbligatoria entro le ore 10.00 del giorno precedente la gita.\nCosto del biglietto € 5\,00 a persona\, comprensivo di guida e pullman GT.\nBambini fino a 10 anni\, gratis. \nPer informazioni e prenotazioni tel: 0524 565742 \nLe destinazioni: \n14 agosto\nREGGIA DI COLORNO \n21 agosto\nROCCA MELI LUPI a SORAGNA \n28 agosto\nLa città del Violino e del Torrone: CREMONA \n04 settembre\nROCCA di SALA BAGANZA \n11 settembre\nLe città d’Arte dell’Emilia: PIACENZA \n18 settembre\nBorgo Medievale di VIGOLENO \n25 settembre\nROCCA di FONTANELLATO \n02 ottobre\nVisita all’Abbazia cistercense di CHIARAVALLE dell COLOMBA a\nseguire passeggiata per il Borgo Medievale di CASTELL’ARQUATO \n09 ottobre\nROCCA dei ROSSI a SAN SECONDO Parmense \n16 ottobre\nANTICA CORTE PALLAVICINA \n23 ottobre\nLe città d’Arte dell’Emilia: PARMA
URL:https://tabianoterme.it/event/la-corriera-del-turista-2024/2024-10-09/
LOCATION:Piazza Verdi\, Piazza Verdi\, Tabiano Terme\, 43039
CATEGORIES:Arte e Cultura,Bambini e famiglie,Cultura,Outdoor,Storia,Visita guidata
ATTACH;FMTTYPE=image/jpeg:https://tabianoterme.it/wp-content/uploads/2024/08/LA-CORRIERA-DEL-TURISTA-2024-1536x1016-1.jpg
ORGANIZER;CN="IAT Salsomaggiore e Tabiano Terme":MAILTO:info@portalesalsomaggiore.it
END:VEVENT
BEGIN:VEVENT
DTSTART;TZID=Europe/Rome:20241013T153000
DTEND;TZID=Europe/Rome:20241013T170000
DTSTAMP:20260423T013659
CREATED:20240828T103946Z
LAST-MODIFIED:20240828T104045Z
UID:12295-1728833400-1728838800@tabianoterme.it
SUMMARY:Visita guidata straordinaria alla piccola reggia di Castelnuovo Fogliani
DESCRIPTION:Il Castello di Castelnuovo Fogliani dal 2015 fa parte ufficialmente del circuito dei Castelli del Ducato di Parma e Piacenza: è situato su un lieve pendio a mezzo chilometro dalla via Emilia. Un tempo era un presidio importante sul territorio circostante\, funzione ben testimoniata dalla torre ancora oggi ben visibile. La torre\, alta e slanciata\, si innesta sul corpo di fabbrica più antico e\, oltre a rappresentarne il mastio\, controllava efficacemente l’ingresso sottostante. A base quadrata ed interamente in laterizio\, presenta un fitto reticolo di buche pontaie\, poche aperture (alcune murate) e tracce di varie manomissioni. Qui vissero i duchi Fogliani Sforza d’Aragona. \nA guidare i visitatori alla scoperta dell’architettura e dell’arte del maniero piacentino sarà lo storico dell’arte Alessandro Malinverni\, conservatore del Museo Gazzola di Piacenza. Gli orari di visita sono 15:30 e 17:00. \nIngresso gratuito. Prenotazione obbligatoria: info@castellidelducato.it \nLa durata del tour guidato sarà di circa 80 minuti e comprenderà la visita della chiesa di San Biagio\, le principali sale affrescate della residenza\, progettata dall’architetto Luigi Vanvitelli\, e del giardino all’italiana.
URL:https://tabianoterme.it/event/isita-guidata-straordinaria-alla-piccola-reggia-di-castelnuovo-fogliani/2024-10-13/
LOCATION:Castello di Castelnuovo Fogliani\, Viale Rimembranze\, 87\, Castelnuovo Fogliani\, 29010\, Italia
CATEGORIES:Arte e Cultura,Bambini e famiglie,Storia,Visita guidata
ATTACH;FMTTYPE=image/jpeg:https://tabianoterme.it/wp-content/uploads/2024/08/castello-castelnuovo-fogliani-castelli-ducato-pc.jpg
ORGANIZER;CN="IAT R Castell'Arquato":MAILTO:iatcastellarquato@gmail.com
END:VEVENT
BEGIN:VEVENT
DTSTART;TZID=Europe/Rome:20241016T143000
DTEND;TZID=Europe/Rome:20241016T183000
DTSTAMP:20260423T013659
CREATED:20240807T100049Z
LAST-MODIFIED:20240807T100049Z
UID:12246-1729089000-1729103400@tabianoterme.it
SUMMARY:La Corriera del Turista 2024
DESCRIPTION:Ritornano come ogni estate le affascinanti GITE POMERIDIANE alla scoperta delle bellezze che ci circondano. \nAppuntamento ogni Mercoledì dal 14 agosto al 23 ottobre 2024! \nPartenza da Tabiano Terme: Piazza Verdi ore 14.45 \nPrenotazione obbligatoria entro le ore 10.00 del giorno precedente la gita.\nCosto del biglietto € 5\,00 a persona\, comprensivo di guida e pullman GT.\nBambini fino a 10 anni\, gratis. \nPer informazioni e prenotazioni tel: 0524 565742 \nLe destinazioni: \n14 agosto\nREGGIA DI COLORNO \n21 agosto\nROCCA MELI LUPI a SORAGNA \n28 agosto\nLa città del Violino e del Torrone: CREMONA \n04 settembre\nROCCA di SALA BAGANZA \n11 settembre\nLe città d’Arte dell’Emilia: PIACENZA \n18 settembre\nBorgo Medievale di VIGOLENO \n25 settembre\nROCCA di FONTANELLATO \n02 ottobre\nVisita all’Abbazia cistercense di CHIARAVALLE dell COLOMBA a\nseguire passeggiata per il Borgo Medievale di CASTELL’ARQUATO \n09 ottobre\nROCCA dei ROSSI a SAN SECONDO Parmense \n16 ottobre\nANTICA CORTE PALLAVICINA \n23 ottobre\nLe città d’Arte dell’Emilia: PARMA
URL:https://tabianoterme.it/event/la-corriera-del-turista-2024/2024-10-16/
LOCATION:Piazza Verdi\, Piazza Verdi\, Tabiano Terme\, 43039
CATEGORIES:Arte e Cultura,Bambini e famiglie,Cultura,Outdoor,Storia,Visita guidata
ATTACH;FMTTYPE=image/jpeg:https://tabianoterme.it/wp-content/uploads/2024/08/LA-CORRIERA-DEL-TURISTA-2024-1536x1016-1.jpg
ORGANIZER;CN="IAT Salsomaggiore e Tabiano Terme":MAILTO:info@portalesalsomaggiore.it
END:VEVENT
BEGIN:VEVENT
DTSTART;TZID=Europe/Rome:20241017T180000
DTEND;TZID=Europe/Rome:20241017T213000
DTSTAMP:20260423T013659
CREATED:20240828T102050Z
LAST-MODIFIED:20240828T102050Z
UID:12284-1729188000-1729200600@tabianoterme.it
SUMMARY:Superluna del cacciatore
DESCRIPTION:Perchè Superluna del cacciatore? Perché grazie alla sua luminosità i cacciatori nativi americani potevano cacciare facilmente nelle ore notturne facendo scorta di prede per la stagione invernale. \nSemplice camminata ad anello nei colori autunnali delle prime colline fidentine. \nDi seguito i dettagli: \nOrario e luogo di partenza: ore 18:00\, Bar Colombaia\, Viale Fidenza\, Tabiano\nDurata: 2\,5H circa\nLunghezza: 5\,7 km – 100 mt dislivello\nDifficoltà: Facile\nEtà minima: 6 anni \nRicordiamo di portare una torcia\, possibilmente frontale e per chi lo desidera\, uno snack o merenda al sacco per la sosta. Il gruppo è accompagnato da una guida ambientale escursionistica. Costo: € 10\,00 a persona \nPrenotazione obbligatoria entro le ore 12:00 del giorno precedente \nTel. 0524/83377 oppure iat.fidenza@terrediverdi.it
URL:https://tabianoterme.it/event/superluna-del-cacciatore/
LOCATION:Bar Colombaia\, Viale Fidenza\, Tabiano Terme\, Italia\, 43039\, Italia
CATEGORIES:Bambini e famiglie,Camminata,Outdoor,Visita guidata
ATTACH;FMTTYPE=image/jpeg:https://tabianoterme.it/wp-content/uploads/2024/08/luna_superluna_eclissi_lapresse_2018.jpg
ORGANIZER;CN="IAT Casa Cremonini Fidenza":MAILTO:iat.fidenza@terrediverdi.it
END:VEVENT
BEGIN:VEVENT
DTSTART;TZID=Europe/Rome:20241020T170000
DTEND;TZID=Europe/Rome:20241020T180000
DTSTAMP:20260423T013659
CREATED:20241017T082235Z
LAST-MODIFIED:20241017T082235Z
UID:12384-1729443600-1729447200@tabianoterme.it
SUMMARY:I Lupi sono cattivi… solo nelle favole
DESCRIPTION:I Lupi sono cattivi… solo nelle favole\ndi Oberdan Cesanelli e Stefano Leva \nLa Compagnia Lagrù Ragazzi di Sant’Elpidio a Mare presenta uno spettacolo coinvolgente e divertente che sfida gli stereotipi delle fiabe classiche. “I lupi sono cattivi… solo nelle favole” mette in scena un processo al lupo\, il tradizionale antagonista di tante storie per bambini. \nIn questo innovativo spettacolo\, il lupo viene catturato e processato prima di essere giustiziato. Il palco si trasforma in un’aula di tribunale\, completa di avvocato difensore\, pubblico ministero e un giudice un po’ distratto. I testimoni? Nientemeno che i protagonisti delle famose fiabe! \nTra colpi di scena esilaranti e imprevisti inaspettati\, lo spettacolo ripercorre le vicende del lupo attraverso varie testimonianze. Il pubblico stesso avrà il compito cruciale di decidere il destino di questo “pericoloso criminale”. \nUn’esperienza teatrale interattiva che invita grandi e piccini a riflettere sui pregiudizi e sulle apparenze\, ponendo la domanda: il lupo è veramente colpevole o innocente? Non perdete questa opportunità di divertimento e riflessione per tutta la famiglia! \nBiglietto adulto: 10\,00 €\nBiglietto bambino (fino a 12 anni): 5\,00 €\nPer ogni adulto pagante\, un bambino entra gratis! Età consigliata dai 4 anni \nInfo e prenotazioni: 3515337070 | prenotazioniteatrodelcerchio@gmail.com
URL:https://tabianoterme.it/event/i-lupi-sono-cattivi-solo-nelle-favole/
LOCATION:Teatro del Cerchio\, Via Belli 6/a\, Parma\, Italia\, 43126\, Italia
CATEGORIES:Bambini e famiglie,Teatro
ATTACH;FMTTYPE=image/jpeg:https://tabianoterme.it/wp-content/uploads/2024/10/i-lupi-sono-cattivi-.-solo-nelle-favole-2023-800x445-1.jpg
ORGANIZER;CN="Teatro del cerchio":MAILTO:prenotazioniteatrodelcerchio@gmail.com
END:VEVENT
BEGIN:VEVENT
DTSTART;TZID=Europe/Rome:20241023T143000
DTEND;TZID=Europe/Rome:20241023T183000
DTSTAMP:20260423T013659
CREATED:20240807T100049Z
LAST-MODIFIED:20240807T100049Z
UID:12247-1729693800-1729708200@tabianoterme.it
SUMMARY:La Corriera del Turista 2024
DESCRIPTION:Ritornano come ogni estate le affascinanti GITE POMERIDIANE alla scoperta delle bellezze che ci circondano. \nAppuntamento ogni Mercoledì dal 14 agosto al 23 ottobre 2024! \nPartenza da Tabiano Terme: Piazza Verdi ore 14.45 \nPrenotazione obbligatoria entro le ore 10.00 del giorno precedente la gita.\nCosto del biglietto € 5\,00 a persona\, comprensivo di guida e pullman GT.\nBambini fino a 10 anni\, gratis. \nPer informazioni e prenotazioni tel: 0524 565742 \nLe destinazioni: \n14 agosto\nREGGIA DI COLORNO \n21 agosto\nROCCA MELI LUPI a SORAGNA \n28 agosto\nLa città del Violino e del Torrone: CREMONA \n04 settembre\nROCCA di SALA BAGANZA \n11 settembre\nLe città d’Arte dell’Emilia: PIACENZA \n18 settembre\nBorgo Medievale di VIGOLENO \n25 settembre\nROCCA di FONTANELLATO \n02 ottobre\nVisita all’Abbazia cistercense di CHIARAVALLE dell COLOMBA a\nseguire passeggiata per il Borgo Medievale di CASTELL’ARQUATO \n09 ottobre\nROCCA dei ROSSI a SAN SECONDO Parmense \n16 ottobre\nANTICA CORTE PALLAVICINA \n23 ottobre\nLe città d’Arte dell’Emilia: PARMA
URL:https://tabianoterme.it/event/la-corriera-del-turista-2024/2024-10-23/
LOCATION:Piazza Verdi\, Piazza Verdi\, Tabiano Terme\, 43039
CATEGORIES:Arte e Cultura,Bambini e famiglie,Cultura,Outdoor,Storia,Visita guidata
ATTACH;FMTTYPE=image/jpeg:https://tabianoterme.it/wp-content/uploads/2024/08/LA-CORRIERA-DEL-TURISTA-2024-1536x1016-1.jpg
ORGANIZER;CN="IAT Salsomaggiore e Tabiano Terme":MAILTO:info@portalesalsomaggiore.it
END:VEVENT
BEGIN:VEVENT
DTSTART;TZID=Europe/Rome:20241030T150000
DTEND;TZID=Europe/Rome:20241229T180000
DTSTAMP:20260423T013659
CREATED:20241030T094108Z
LAST-MODIFIED:20241030T094108Z
UID:12419-1730300400-1735495200@tabianoterme.it
SUMMARY:MuMAB - Museo Mare Antico e Biodiversità
DESCRIPTION:Ogni mercoledì e tutti i week-end\, il Museo del Mare Antico e della Biodiversità apre le sue porte ai visitatori di ogni età con una proposta di laboratori ed esperienze per vivere a stretto contatto con la natura\, la biodiversità e le specie animali e vegetali. \nMercoledì e Venerdì\nOre 15:00 Semplicemente MuMAB\nOre 16:30 MuMAB Experience \nSabato e Domenica\nOre 9:00 MuMAB a Cielo Aperto\nOre 11:15 Semplicemente MuMAB\nOre 15:00 Semplicemente MuMAB\nOre 16:30 MuMAB Experience \ninfo: 0524 583595  –   mumab@millepioppi.it\nPrenotazioni\, news e biglietteria: www.millepioppi.it
URL:https://tabianoterme.it/event/mumab-museo-mare-antico-e-biodiversita/2024-10-30/
LOCATION:MuMAB- Museo Mare Antico e Biodiversità\, Podere Millepioppi\, Salsomaggiore Terme\, PR\, 43039\, Italia
CATEGORIES:Bambini e famiglie,Museo,Outdoor,Visita guidata
ATTACH;FMTTYPE=image/jpeg:https://tabianoterme.it/wp-content/uploads/2024/10/mumab-24_1-x-sito.jpg
ORGANIZER;CN="MuMAB - Museo Mare Antico e Biodiversit%C3%A0":MAILTO:mumab@millepioppi.it
END:VEVENT
END:VCALENDAR