BEGIN:VCALENDAR
VERSION:2.0
PRODID:-//Tabiano terme - ECPv6.15.11//NONSGML v1.0//EN
CALSCALE:GREGORIAN
METHOD:PUBLISH
X-WR-CALNAME:Tabiano terme
X-ORIGINAL-URL:https://tabianoterme.it
X-WR-CALDESC:Eventi per Tabiano terme
REFRESH-INTERVAL;VALUE=DURATION:PT1H
X-Robots-Tag:noindex
X-PUBLISHED-TTL:PT1H
BEGIN:VTIMEZONE
TZID:Europe/Rome
BEGIN:DAYLIGHT
TZOFFSETFROM:+0100
TZOFFSETTO:+0200
TZNAME:CEST
DTSTART:20220327T010000
END:DAYLIGHT
BEGIN:STANDARD
TZOFFSETFROM:+0200
TZOFFSETTO:+0100
TZNAME:CET
DTSTART:20221030T010000
END:STANDARD
BEGIN:DAYLIGHT
TZOFFSETFROM:+0100
TZOFFSETTO:+0200
TZNAME:CEST
DTSTART:20230326T010000
END:DAYLIGHT
BEGIN:STANDARD
TZOFFSETFROM:+0200
TZOFFSETTO:+0100
TZNAME:CET
DTSTART:20231029T010000
END:STANDARD
BEGIN:DAYLIGHT
TZOFFSETFROM:+0100
TZOFFSETTO:+0200
TZNAME:CEST
DTSTART:20240331T010000
END:DAYLIGHT
BEGIN:STANDARD
TZOFFSETFROM:+0200
TZOFFSETTO:+0100
TZNAME:CET
DTSTART:20241027T010000
END:STANDARD
BEGIN:DAYLIGHT
TZOFFSETFROM:+0100
TZOFFSETTO:+0200
TZNAME:CEST
DTSTART:20250330T010000
END:DAYLIGHT
BEGIN:STANDARD
TZOFFSETFROM:+0200
TZOFFSETTO:+0100
TZNAME:CET
DTSTART:20251026T010000
END:STANDARD
END:VTIMEZONE
BEGIN:VEVENT
DTSTART;TZID=Europe/Rome:20231209T080000
DTEND;TZID=Europe/Rome:20240114T170000
DTSTAMP:20260425T012936
CREATED:20231205T143830Z
LAST-MODIFIED:20240109T092328Z
UID:11364-1702108800-1705251600@tabianoterme.it
SUMMARY:Racconti di Natale 2023
DESCRIPTION:Dal 9 dicembre al 14 gennaio ritorna “Racconti di Natale”\, la tradizionale rassegna di appuntamenti organizzata dalle Biblioteche del Comune di Parma. Un ricco programma di incontri\, letture\, spettacoli e laboratori per festeggiare il Natale tra gli scaffali delle biblioteche. \nTorna “Racconti di Natale”\, la tradizionale rassegna di eventi natalizi organizzata dalle Biblioteche di Parma.\nAnche quest’anno\, un fitto calendario di letture\, spettacoli\, laboratori e incontri con autori animerà le fredde giornate invernali con un’offerta culturale ricca e variegata. \nLa rassegna si svolgerà dal 9 dicembre 2023 al 14 gennaio 2024 nelle Biblioteche del Comune di Parma\, che di recente hanno inaugurato la nuova Biblioteca Malerba nel quartiere Montanara e si apprestano a festeggiare la Biblioteca Guanda in occasione del suo cinquantesimo compleanno. \nLe iniziative sono gratuite e si rivolgono a un pubblico di tutte le età. \nLa Biblioteca di Alice inaugurerà la rassegna il 9 dicembre con il laboratorio di lettura e arti visive “Sillabario Kids”\, a cura della Compagnia Rodisio\, e ospiterà il 10 dicembre la lettura natalizia “L’arrivo di Santa Lucia” a cura degli illustratori Noemi Vola e Andrea Antinori. Il 15 dicembre il gruppo LeAV Leggendaria – Amici della Biblioteca di San Leonardo narrerà la storia “Chichibio e la gru di Natale”\, il 16 dicembre l’Associazione Googol racconterà “Elmer e l’arcobaleno” avvalendosi del teatro di carta giapponese Kamishibai e il 23 dicembre Equilibri offrirà ai piccolissimi l’attività di ascolto e di esperienza sensoriale “Briciole e baci. Piccola storia di amicizia”. Il 28 dicembre sarà il turno di Marco Bertarini e dei suoi “Racconti soffiati che sciolgono il ghiaccio”\, per poi lasciare spazio il 2 gennaio a Franco Tanzi del Teatro dell’Orsa con il laboratorio di costruzione di “Marionette in libertà” e\, il 7 gennaio\, a Francesca Merusi di Spazio 84 con il laboratorio di giocodanza “Lo schiaccianoci. Spaziamocela… tra i libri”. \nAnche la Biblioteca Civica Junior proporrà la sua offerta già dal 9 dicembre con la lettura natalizia alla pari “Mamma Natale ovvero l’importanza di nascere donna”\, a cura del gruppo Il filo di Arianna – Comitato alla pari di Sissa Trecasali. Il 16 dicembre Marco Bertarini si esibirà nello spettacolo “Ti fiabo il Natale” e il 30 dicembre Kirakira edizioni leggerà la storia natalizia “Il coniglietto di velluto”. “La vera storia della befana” di Elena Musti intratterrà i bambini il 5 gennaio\, mentre la lettura “La scarpetta d’oro” a cura di Ag.A.P.E. li incuriosirà il 12 gennaio. \nBen due sono i laboratori con materiali di riuso ospitati dalla Biblioteca Pavese: “Lanterne magiche” il 12 dicembre e “Un addobbo in biblioteca” il 17 dicembre\, entrambi a cura di Franco Tanzi del Teatro dell’Orsa. La rassegna proseguirà il 21 dicembre con il laboratorio di disegno e stampa “Il libro intrecciafiabe” a cura di Monica Monachesi e Giuseppe Braghiroli – Officina fantastica\, l’11 gennaio con la lettura “Neve e desideri” di Marco Bertatini e infine il 14 gennaio con il laboratorio di argilla “Insettario” a cura di Blusole. \nIl 12 dicembre Kirakira edizioni proporrà alla Biblioteca Malerba la lettura animata e laboratorio “L’aiutante di Babbo Natale”. Il 15 dicembre spazio agli adulti\, grazie alla presentazione del graphic novel “La luce e lo spazio. Un’intervista a Franco Battiato” con gli autori Francesco Pelosi e Chiara Raimondi. La nuova biblioteca nel quartiere Montanara ospiterà poi il 21 dicembre la lettura animata “Il Natale degli animali” a cura di Libri e formiche\, il 30 dicembre la lettura scientifica e laboratorio “Il cielo tra le mani” a cura dell’Associazione Googol e l’11 gennaio l’attività di ascolto e di esperienza sensoriale per piccolissimi “Briciole e baci. Piccola storia d’amicizia” a cura di Equilibri. \nI festeggiamenti per i 50 anni della Biblioteca Guanda prenderanno il via il 15 dicembre con la lettura e laboratorio di poesia per bambini “La terra respira”\, a cura dell’autrice Guia Risari. Gli adulti potranno celebrare questo importante anniversario con una dimostrazione pratica del “Gruppo di patchwork in biblioteca” e con l’incontro “Con-versi-amo la poesia. Poesia al femminile per i 50 anni della Guanda”\, in cui Luca Ariano dialogherà con le poetesse esordienti Eleonora Conti\, Valentina Furlotti e Silvia Patrizio. Spazio anche alle culture del mondo della Biblioteca Internazionale Ilaria Alpi\, grazie alla lettura natalizia “Il mio Giappone “ di Kirakira edizioni il 27 dicembre e alla lettura bilingue francese-italiano con laboratorio creativo “Livres sous le sapin en attendant les rois mages” il 3 gennaio. Concludono l’offerta la narrazione e laboratorio materico “Libri Parlanti” a cura del Teatro dell’Orsa\, programmata per il 4 gennaio\, e la lettura animata a cura di Elena Musti “Storie nelle calze” il 10 gennaio. \nAnche quest’anno Racconti di Natale si conferma quindi un’occasione per vivere il Natale in modo speciale\, circondati da amici\, famigliari e pagine dei libri delle biblioteche. \nScopri il programma completo qui \nPer informazioni:\nwww.biblioteche.comune.parma.it\ncivica@comune.parma.it / 0521.031010
URL:https://tabianoterme.it/event/racconti-di-natale-2023/
LOCATION:Parma\, Parma\, PR\, 43040\, Italia
CATEGORIES:Bambini e famiglie,Cultura
ATTACH;FMTTYPE=image/png:https://tabianoterme.it/wp-content/uploads/2023/12/racconti-di-natale2.png
END:VEVENT
BEGIN:VEVENT
DTSTART;TZID=Europe/Rome:20240114T150000
DTEND;TZID=Europe/Rome:20240114T160000
DTSTAMP:20260425T012936
CREATED:20240109T085924Z
LAST-MODIFIED:20240111T135735Z
UID:11387-1705244400-1705248000@tabianoterme.it
SUMMARY:Inverno: gli alberi di Bruno Munari al MuMAB!
DESCRIPTION:Domenica 14 gennaio 2024 alle ore 15.00 \nUna passeggiata nel Podere dedicata solo ai bambini e all’osservazione di alcune specie arboree. Con taccuino\, matita e strumenti di disegno i bambini si fermeranno a studiare alcuni alberi sul percorso\, osservandone il cambiamento stagionale e disegnando sul loro taccuino l’albero secondo il metodo di Munari. \nL’attività è pensata per bambini dai 5 ai 12 anni\, senza l’accompagnamento di un adulto. \nIngresso:\nbambini dai 5 ai 12 anni 8€ – fratelli 6€ \nPrenotazione:\nobbligatoria massimo 12 partecipanti\nQUI
URL:https://tabianoterme.it/event/inverno-gli-alberi-di-bruno-munari-al-mumab/
LOCATION:MuMAB- Museo Mare Antico e Biodiversità\, Podere Millepioppi\, Salsomaggiore Terme\, PR\, 43039\, Italia
CATEGORIES:Bambini e famiglie,Cultura,Museo
ATTACH;FMTTYPE=image/jpeg:https://tabianoterme.it/wp-content/uploads/2024/01/alberi-munari.jpeg
ORGANIZER;CN="MuMAB - Museo Mare Antico e Biodiversit%C3%A0":MAILTO:mumab@millepioppi.it
END:VEVENT
BEGIN:VEVENT
DTSTART;TZID=Europe/Rome:20240128T160000
DTEND;TZID=Europe/Rome:20240303T160000
DTSTAMP:20260425T012936
CREATED:20240111T135343Z
LAST-MODIFIED:20240111T135343Z
UID:11442-1706457600-1709481600@tabianoterme.it
SUMMARY:Sciroppo di teatro al Teatro Magnani 2024
DESCRIPTION:Ritorna Sciroppo di teatro\, il progetto di welfare culturale di ATER Fondazione\, giunto alla terza edizione.\nI bambini dai 3 agli 11 anni potranno richiedere il voucher che gli consentirà di assistere ai tre spettacoli di Teatro per ragazzi in programma da fine gennaio. \nDa quest’anno per i voucher di Sciroppo di Teatro\, che danno diritto all’ingresso a 3 euro\, occorre rivolgersi esclusivamente ai pediatri aderenti al progetto. \nDomenica 28 gennaio 2024 I ore 16.00\nPiccolo Sushi\nPiccolo Sushi è un inno alla rinascita\, alla caparbietà di seguire i propri desideri e le proprie pulsioni\, qualsiasi forma e sostanza esse abbiano. Uno spettacolo che indaga con delicatezza il tema della propria realizzazione e dell’identità\, che può aiutare bambini e adolescenti bruchi a mettersi in gioco e a rialzarsi.\nEtà: dai 6 anni \nDomenica 18 febbraio 2024 I ore 16.00 \nOuverture des saponettes \nUn concerto per bolle di sapone\nPiccole\, grandi bolle rimbalzano in giro per il palco\, escono fuori da strumenti musicali\, creano scenografie e\, se vogliono\, contengono persone. Uno spettacolo senza parole che sembra più un concerto\, non di musica classica ma di bolle e di allegria. Michele Cafaggi come direttore d’orchestra (ma anche come direttore del circo che diventa il palco) coinvolge il pubblico di tutte le età con le sue abilità.\nEtà: dai 3 anni \nDomenica 3 marzo 2024 I ore 16:00\nStravaganze in sol minore\nIl virtuosismo magico di Toti Scialoja (1914-1998)\, maestro non solo di immagini\, ma anche di parole\, è alla base di questa nuova creazione per bambini e bambine\, ragazzi e ragazze firmata dalla Fondazione Nazionale della Danza/Aterballetto.\nParole\, danza\, canto e immagini: questi sono i linguaggi racchiusi in questa storia\, i cui protagonisti sono un mix tra esseri zoomorfi e antropomorfi.\nEtà: dai 5 anni \nBiglietteria\nTel: 0524 517508 / 345 9374728\nEmail: teatromagnani@ater.emr.it
URL:https://tabianoterme.it/event/sciroppo-di-teatro-al-teatro-magnani-2024/
LOCATION:Teatro Girolamo Magnani\, Piazza Giuseppe Verdi\, Fidenza\, 43039\, Italia
CATEGORIES:Bambini e famiglie,Spettacolo,Teatro
ATTACH;FMTTYPE=image/jpeg:https://tabianoterme.it/wp-content/uploads/2024/01/sciroppo-di-teatro.jpg
ORGANIZER;CN="Comune di Fidenza":MAILTO:iat.fidenza@terrediverdi.it
END:VEVENT
END:VCALENDAR