BEGIN:VCALENDAR
VERSION:2.0
PRODID:-//Tabiano terme - ECPv6.15.11//NONSGML v1.0//EN
CALSCALE:GREGORIAN
METHOD:PUBLISH
X-ORIGINAL-URL:https://tabianoterme.it
X-WR-CALDESC:Eventi per Tabiano terme
REFRESH-INTERVAL;VALUE=DURATION:PT1H
X-Robots-Tag:noindex
X-PUBLISHED-TTL:PT1H
BEGIN:VTIMEZONE
TZID:Europe/Rome
BEGIN:DAYLIGHT
TZOFFSETFROM:+0100
TZOFFSETTO:+0200
TZNAME:CEST
DTSTART:20220327T010000
END:DAYLIGHT
BEGIN:STANDARD
TZOFFSETFROM:+0200
TZOFFSETTO:+0100
TZNAME:CET
DTSTART:20221030T010000
END:STANDARD
BEGIN:DAYLIGHT
TZOFFSETFROM:+0100
TZOFFSETTO:+0200
TZNAME:CEST
DTSTART:20230326T010000
END:DAYLIGHT
BEGIN:STANDARD
TZOFFSETFROM:+0200
TZOFFSETTO:+0100
TZNAME:CET
DTSTART:20231029T010000
END:STANDARD
BEGIN:DAYLIGHT
TZOFFSETFROM:+0100
TZOFFSETTO:+0200
TZNAME:CEST
DTSTART:20240331T010000
END:DAYLIGHT
BEGIN:STANDARD
TZOFFSETFROM:+0200
TZOFFSETTO:+0100
TZNAME:CET
DTSTART:20241027T010000
END:STANDARD
END:VTIMEZONE
BEGIN:VEVENT
DTSTART;VALUE=DATE:20231031
DTEND;VALUE=DATE:20231101
DTSTAMP:20260425T055510
CREATED:20230925T150414Z
LAST-MODIFIED:20230925T150414Z
UID:11286-1698710400-1698796799@tabianoterme.it
SUMMARY:Halloween per i più piccoli al Castello di Tabiano
DESCRIPTION:Halloween\, una festa che appassiona molto bambini e adulti… e martedì 31 ottobre 2023 al Castello di Tabiano (PR) sarà possibile creare e giocare in sicurezza mentre gli adulti fare la visita al Castello! \nSviluppando creatività e manualità creando delle personalissime lanterne di Halloween\, con acrilico\, ritagli\, glitter e tanto divertimento. \nI laboratori saranno in due fasce orarie\, con inizio ore 15:00 e il secondo alle ore 17:00\, il laboratorio avrà durata di circa un’ora\, durante il laboratorio sarà possibile farsi truccare da una professionista esperta in trucco horror! \nI grandi nel frattempo potranno seguire la visita guidata al Castello con durata di circa un’ora\, con partenza sempre alle ore 15:00 e alle 17:00. \nIl laboratorio è indirizzato ai bambini tra i 6 e i 12 anni\, con un adulto accompagnatore per i bambini fino agli 8 anni per aiutarlo nella realizzazione della lanterna. È prevista una piccola merenda per i bambini durante il laboratorio. \nCosti: \nINGRESSI SINGOLI \nVisita guidata: 10 a persona (adulto) \nLaboratorio 1 bambino: 17 euro \nPACCHETTI FAMIGLIA \nVisita guidata per 1 adulto + laboratorio 1 bambino: 25 euro \nVisita guidata per 2 adulti + laboratorio 1 bambino: 35 euro \nSupplemento di 15 euro per ogni bambino in più. \nPER PRENOTARE: \ne-mail: info@castelloditabiano.com \ntel: +39 348 895 53 78
URL:https://tabianoterme.it/event/halloween-per-i-piu-piccoli-al-castello-di-tabiano/
LOCATION:Castello di Tabiano\, Via Castello\, Salsomaggiore Terme\, 43039
CATEGORIES:Bambini e famiglie
ATTACH;FMTTYPE=image/jpeg:https://tabianoterme.it/wp-content/uploads/2023/09/IMG_0151-scaled.jpeg
ORGANIZER;CN="Castello di Tabiano":MAILTO:info@castelloditabiano.com
END:VEVENT
END:VCALENDAR