BEGIN:VCALENDAR
VERSION:2.0
PRODID:-//Tabiano terme - ECPv6.15.11//NONSGML v1.0//EN
CALSCALE:GREGORIAN
METHOD:PUBLISH
X-WR-CALNAME:Tabiano terme
X-ORIGINAL-URL:https://tabianoterme.it
X-WR-CALDESC:Eventi per Tabiano terme
REFRESH-INTERVAL;VALUE=DURATION:PT1H
X-Robots-Tag:noindex
X-PUBLISHED-TTL:PT1H
BEGIN:VTIMEZONE
TZID:Europe/Rome
BEGIN:DAYLIGHT
TZOFFSETFROM:+0100
TZOFFSETTO:+0200
TZNAME:CEST
DTSTART:20220327T010000
END:DAYLIGHT
BEGIN:STANDARD
TZOFFSETFROM:+0200
TZOFFSETTO:+0100
TZNAME:CET
DTSTART:20221030T010000
END:STANDARD
BEGIN:DAYLIGHT
TZOFFSETFROM:+0100
TZOFFSETTO:+0200
TZNAME:CEST
DTSTART:20230326T010000
END:DAYLIGHT
BEGIN:STANDARD
TZOFFSETFROM:+0200
TZOFFSETTO:+0100
TZNAME:CET
DTSTART:20231029T010000
END:STANDARD
BEGIN:DAYLIGHT
TZOFFSETFROM:+0100
TZOFFSETTO:+0200
TZNAME:CEST
DTSTART:20240331T010000
END:DAYLIGHT
BEGIN:STANDARD
TZOFFSETFROM:+0200
TZOFFSETTO:+0100
TZNAME:CET
DTSTART:20241027T010000
END:STANDARD
END:VTIMEZONE
BEGIN:VEVENT
DTSTART;TZID=Europe/Rome:20230802T210000
DTEND;TZID=Europe/Rome:20230802T230000
DTSTAMP:20260425T145244
CREATED:20230709T150445Z
LAST-MODIFIED:20230709T151049Z
UID:11149-1691010000-1691017200@tabianoterme.it
SUMMARY:Cammina con gusto!
DESCRIPTION:Sesta data della rassegna estiva es-SERE al MuMAB\, gli appuntamenti serali del MuMAB – Museo Mare Antico e Biodiversità! \nUna passeggiata notturna dal MuMab a Ponte Ghiara per scoprire la natura del Parco e gustare un gelato in compagnia. \nDa 0 a 99 anni \nCOSA PORTARE: \n\ntorcia frontale\nrepellente per insetti\nse porti con te un bimbo piccolo raccomandiamo passeggino da trekking o marsupio
URL:https://tabianoterme.it/event/cammina-con-gusto/
LOCATION:MuMAB- Museo Mare Antico e Biodiversità\, Podere Millepioppi\, Salsomaggiore Terme\, PR\, 43039\, Italia
CATEGORIES:Bambini e famiglie,Camminata,Outdoor
ATTACH;FMTTYPE=image/jpeg:https://tabianoterme.it/wp-content/uploads/2023/07/children-eating-ice-cream-outdoors-blanket-together-1024x683-1.jpg
ORGANIZER;CN="MuMAB - Museo Mare Antico e Biodiversit%C3%A0":MAILTO:mumab@millepioppi.it
END:VEVENT
BEGIN:VEVENT
DTSTART;TZID=Europe/Rome:20230809T210000
DTEND;TZID=Europe/Rome:20230809T230000
DTSTAMP:20260425T145244
CREATED:20230709T150942Z
LAST-MODIFIED:20230709T150942Z
UID:11153-1691614800-1691622000@tabianoterme.it
SUMMARY:Gli alberi parlanti
DESCRIPTION:Settima data della rassegna estiva es-SERE al MuMAB\, gli appuntamenti serali del MuMAB – Museo Mare Antico e Biodiversità! \nCamminata notturna durante la quale troveremo messaggi lasciati dagli alberi che narrano la loro storia. \nDa 0 a 99 anni \nCOSA PORTARE: \n\ntorcia frontale\nrepellente per insetti\nse porti con te un bimbo piccolo raccomandiamo passeggino da trekking o marsupio
URL:https://tabianoterme.it/event/gli-alberi-parlanti/
LOCATION:MuMAB- Museo Mare Antico e Biodiversità\, Podere Millepioppi\, Salsomaggiore Terme\, PR\, 43039\, Italia
CATEGORIES:Bambini e famiglie,Camminata,Outdoor
ATTACH;FMTTYPE=image/jpeg:https://tabianoterme.it/wp-content/uploads/2023/07/alberi-notte-stelle.jpg
ORGANIZER;CN="MuMAB - Museo Mare Antico e Biodiversit%C3%A0":MAILTO:mumab@millepioppi.it
END:VEVENT
BEGIN:VEVENT
DTSTART;TZID=Europe/Rome:20230815T210000
DTEND;TZID=Europe/Rome:20230815T210000
DTSTAMP:20260425T145244
CREATED:20230807T151246Z
LAST-MODIFIED:20230807T152254Z
UID:11236-1692133200-1692133200@tabianoterme.it
SUMMARY:Ferragosto a Tabiano con l'orchestra di Rosella e Marco
DESCRIPTION:Ferragosto a Tabiano con l’orchestra di Rosella e Marco.\nAppuntamento in Piazza Verdi alle 21 con una delle orchestre più rinomate dell’Emilia Romagna \nIngresso gratuito
URL:https://tabianoterme.it/event/rosella-e-marco/
LOCATION:Piazza Verdi\, Piazza Verdi\, Tabiano Terme\, 43039
CATEGORIES:Bambini e famiglie,Spettacolo
ATTACH;FMTTYPE=image/jpeg:https://tabianoterme.it/wp-content/uploads/2023/08/88a513a9-8db7-4324-86d4-cc129e965ab3-e1691421158415.jpg
ORGANIZER;CN="Consorzio Abitabiano":MAILTO:info@tabianoterme.it
END:VEVENT
BEGIN:VEVENT
DTSTART;TZID=Europe/Rome:20230816T210000
DTEND;TZID=Europe/Rome:20230816T230000
DTSTAMP:20260425T145244
CREATED:20230709T153638Z
LAST-MODIFIED:20230709T153638Z
UID:11158-1692219600-1692226800@tabianoterme.it
SUMMARY:Sotto un mare di stelle
DESCRIPTION:Ottava data della rassegna estiva es-SERE al MuMAB\, gli appuntamenti serali del MuMAB – Museo Mare Antico e Biodiversità! \nUna camminata sui sentieri del Parco dello Stirone e del Piacenziano per raggiungere insieme il miglior punto di vista per osservare il cielo stellato a caccia di una stella cadente per un desiderio. In compagnia\, su sentieri di semplice percorrenza\, si potrà ammirare la bellezza del parco nella notte. \nArrivati alla zona scelta per le osservazioni Daniele Ronconi\, appassionato astrofilo\, ci accompagnerà in un meraviglioso viaggio tra le stelle. \nL’itinerario a piedi è pianeggiante e parte dalla sede del MuMAB\, attraversa il podere e sul sentiero ci conduce alla località Laurano. \nFamiglie con bambini dai 6 anni \nCOSA PORTARE: \n\ntorcia frontale\nrepellente per insetti\nse porti con te un bimbo piccolo raccomandiamo passeggino da trekking o marsupio
URL:https://tabianoterme.it/event/sotto-un-mare-di-stelle/
LOCATION:MuMAB- Museo Mare Antico e Biodiversità\, Podere Millepioppi\, Salsomaggiore Terme\, PR\, 43039\, Italia
CATEGORIES:Bambini e famiglie,Camminata,Outdoor
ATTACH;FMTTYPE=image/png:https://tabianoterme.it/wp-content/uploads/2023/07/cielo-pieno-di-stelle-e-sagome-di-alberi-sottostanti.png
ORGANIZER;CN="MuMAB - Museo Mare Antico e Biodiversit%C3%A0":MAILTO:mumab@millepioppi.it
END:VEVENT
BEGIN:VEVENT
DTSTART;TZID=Europe/Rome:20230816T210000
DTEND;TZID=Europe/Rome:20230816T230000
DTSTAMP:20260425T145244
CREATED:20230807T145116Z
LAST-MODIFIED:20230807T145116Z
UID:11226-1692219600-1692226800@tabianoterme.it
SUMMARY:TerzoFuochista
DESCRIPTION:Acrobazie e magie in piazza: Terzofuochista \nIl tratto di distinzione di Sascia Jorik rispetto gli spettacoli di fuoco ordinari\, è la sua presenza\, l’accurata scelta delle musiche\, la gagliardia di chi non sta recitando una parte: nel fuoco lui è perfettamente integrato\, e si esibisce con una naturalezza tutta sua\, sgombra da “barocchismi” o da “tribalismi”. \nLa sua missione artistica è trasmettere il piacere e lo stupore che lui stesso prova davanti agli effetti di FUOCO. Si emoziona quando la meraviglia assale il pubblico\, è questo secondo lui lo scopo degli spettacoli di fuoco. \n  \nIngresso gratuito
URL:https://tabianoterme.it/event/terzofuochista/
LOCATION:Piazza Verdi\, Piazza Verdi\, Tabiano Terme\, 43039
CATEGORIES:Bambini e famiglie
ATTACH;FMTTYPE=image/png:https://tabianoterme.it/wp-content/uploads/2023/08/terzofuochista.png
ORGANIZER;CN="Consorzio Abitabiano":MAILTO:info@tabianoterme.it
END:VEVENT
BEGIN:VEVENT
DTSTART;TZID=Europe/Rome:20230823T210000
DTEND;TZID=Europe/Rome:20230823T230000
DTSTAMP:20260425T145244
CREATED:20230709T154656Z
LAST-MODIFIED:20230709T154737Z
UID:11162-1692824400-1692831600@tabianoterme.it
SUMMARY:Una serata con Mary Anning
DESCRIPTION:Nona data della rassegna estiva es-SERE al MuMAB\, gli appuntamenti serali del MuMAB – Museo Mare Antico e Biodiversità! \nSpesso scoperte scientifiche importanti vengono fatte casualmente da “persone curiose”. \nQuesta è la storia di una cacciatrice di fossili e del suo strano “coccodrillo” \nFamiglie con bambini dai 6 anni
URL:https://tabianoterme.it/event/una-serata-con-mary-anning/
LOCATION:MuMAB- Museo Mare Antico e Biodiversità\, Podere Millepioppi\, Salsomaggiore Terme\, PR\, 43039\, Italia
CATEGORIES:Bambini e famiglie,Museo,Visita guidata
ATTACH;FMTTYPE=image/png:https://tabianoterme.it/wp-content/uploads/2023/07/mary-anning-1-1.png
ORGANIZER;CN="MuMAB - Museo Mare Antico e Biodiversit%C3%A0":MAILTO:mumab@millepioppi.it
END:VEVENT
BEGIN:VEVENT
DTSTART;TZID=Europe/Rome:20230830T210000
DTEND;TZID=Europe/Rome:20230830T230000
DTSTAMP:20260425T145244
CREATED:20230709T160132Z
LAST-MODIFIED:20230709T160132Z
UID:11167-1693429200-1693436400@tabianoterme.it
SUMMARY:Alla scoperta del bosco segreto
DESCRIPTION:Decima data della rassegna estiva es-SERE al MuMAB\, gli appuntamenti serali del MuMAB – Museo Mare Antico e Biodiversità! \nEscursione notturna sulle tracce degli animali del Parco dello Stirone. \nCOSA PORTARE: \n\ntorcia frontale\nrepellente per insetti\nse porti con te un bimbo piccolo raccomandiamo passeggino da trekking o marsupio\n\nFamiglie con bambini dai 4 anni
URL:https://tabianoterme.it/event/alla-scoperta-del-bosco-segreto/
LOCATION:MuMAB- Museo Mare Antico e Biodiversità\, Podere Millepioppi\, Salsomaggiore Terme\, PR\, 43039\, Italia
CATEGORIES:Bambini e famiglie,Camminata,Outdoor
ATTACH;FMTTYPE=image/jpeg:https://tabianoterme.it/wp-content/uploads/2023/07/IMG_20220824_212359-1.jpg
ORGANIZER;CN="MuMAB - Museo Mare Antico e Biodiversit%C3%A0":MAILTO:mumab@millepioppi.it
END:VEVENT
BEGIN:VEVENT
DTSTART;TZID=Europe/Rome:20230830T210000
DTEND;TZID=Europe/Rome:20230830T230000
DTSTAMP:20260425T145244
CREATED:20230807T145609Z
LAST-MODIFIED:20230818T153719Z
UID:11233-1693429200-1693436400@tabianoterme.it
SUMMARY:Tato Svitato
DESCRIPTION:Acrobazie e magie in piazza: Tato Svitato \nLe bizzarrie di Tato seguono la sola logica dell’apparire in continua TRASFORMAZIONE\, si colorano di un’umanità che coinvolge\, stupisce e incanta il pubblico. Le sue acrobazie si trasformano in un’esperienza collettiva che trascende di gran lunga il semplice intrattenimento. \n  \nIngresso gratuito
URL:https://tabianoterme.it/event/tato-svitato-2/
LOCATION:Piazza Verdi\, Piazza Verdi\, Tabiano Terme\, 43039
CATEGORIES:Bambini e famiglie,Intrattenimento,Spettacolo
ATTACH;FMTTYPE=image/jpeg:https://tabianoterme.it/wp-content/uploads/2023/08/IMG_5382-e1691420436606.jpg
ORGANIZER;CN="Consorzio Abitabiano":MAILTO:info@tabianoterme.it
END:VEVENT
END:VCALENDAR