BEGIN:VCALENDAR
VERSION:2.0
PRODID:-//Tabiano terme - ECPv6.15.11//NONSGML v1.0//EN
CALSCALE:GREGORIAN
METHOD:PUBLISH
X-WR-CALNAME:Tabiano terme
X-ORIGINAL-URL:https://tabianoterme.it
X-WR-CALDESC:Eventi per Tabiano terme
REFRESH-INTERVAL;VALUE=DURATION:PT1H
X-Robots-Tag:noindex
X-PUBLISHED-TTL:PT1H
BEGIN:VTIMEZONE
TZID:Europe/Rome
BEGIN:DAYLIGHT
TZOFFSETFROM:+0100
TZOFFSETTO:+0200
TZNAME:CEST
DTSTART:20220327T010000
END:DAYLIGHT
BEGIN:STANDARD
TZOFFSETFROM:+0200
TZOFFSETTO:+0100
TZNAME:CET
DTSTART:20221030T010000
END:STANDARD
BEGIN:DAYLIGHT
TZOFFSETFROM:+0100
TZOFFSETTO:+0200
TZNAME:CEST
DTSTART:20230326T010000
END:DAYLIGHT
BEGIN:STANDARD
TZOFFSETFROM:+0200
TZOFFSETTO:+0100
TZNAME:CET
DTSTART:20231029T010000
END:STANDARD
BEGIN:DAYLIGHT
TZOFFSETFROM:+0100
TZOFFSETTO:+0200
TZNAME:CEST
DTSTART:20240331T010000
END:DAYLIGHT
BEGIN:STANDARD
TZOFFSETFROM:+0200
TZOFFSETTO:+0100
TZNAME:CET
DTSTART:20241027T010000
END:STANDARD
END:VTIMEZONE
BEGIN:VEVENT
DTSTART;VALUE=DATE:20230428
DTEND;VALUE=DATE:20230610
DTSTAMP:20260425T145219
CREATED:20230501T150231Z
LAST-MODIFIED:20230501T150231Z
UID:10990-1682640000-1686355199@tabianoterme.it
SUMMARY:Libri con le Ruote - primavera 2023
DESCRIPTION:Torna l’appuntamento con “Libri con le ruote”\n7 appuntamenti nei Parchi di Salsomaggiore e Tabiano Terme per avvicinare i più piccoli alla lettura \nIl progetto è realizzato da Salsocoworking su un’idea di ParmaKids in collaborazione con la biblioteca G.D. Romagnosi e l’Associazione Culturale Ortocolto\, gode inoltre del Patrocinio del Comune di Salsomaggiore Terme. \nLa prenotazione è consigliata al link https://bit.ly/LibriConLeRuote23 per organizzare al meglio la merenda offerta da Coop Alleanza 3.0. L’edizione primaverile di “Libri con le ruote” è sostenuta da Pasticceria Tosi\, Eurogronda\, L’Incontro Ristorante Pizzeria\, Airone Spazio Salute\, Sport University\, Theras Foundation e il Consorzio AbiTabiano. \nL’appuntamento è gratuito\, durante il pomeriggio si possono sfogliare i libri e imparare come prendere in prestito un libro della biblioteca cittadina\, se non si ha la tessera è possibile farla direttamente durante l’appuntamento. \nTAPPE\, tutte rigorosamente alle 16:30\nVenerdì 28 aprile – Giardino Serre Comunali Parco Mazzini\nVenerdì 5 maggio – Parco Porcellini\, Tabiano Terme\nVenerdì 12 maggio – Parco delle Querce\, Salso Massimo\nVenerdì 19 maggio – Parco Lorenzo Grossi/Via A Costa\nVenerdì 26 maggio – Parco Corazza\nVenerdì 2 giugno – Parco Porcellini\, Tabiano Terme\nVenerdì 9 giugno – Parco Mazzini \nL’obiettivo è semplice\, sensibilizzare i bambini e le loro famiglie alla lettura e alla frequentazione della biblioteca comunale. I volontari di Salso Coworking in collaborazione con la Biblioteca G.D. Romagnosi di Salsomaggiore Terme selezionano i libri da portare nei parchi cittadini dove si svolgono le letture ad alta voce in collaborazione con Silvio Mezzadri dell’Associazione Ortocolto divenuto la voce della biblio bicicletta. \nL’iniziativa ha preso vita nel 2021 a Salsomaggiore Terme grazie alla collaborazione dell’APS Salso Coworking con l’associazione Parmakids finanziata inizialmente da Fondazione Cariparma attraverso il Bando “Leggere Crea Indipendenza 2021”.
URL:https://tabianoterme.it/event/libri-con-le-ruote-primavera-2023/
LOCATION:Salsomaggiore Terme\, Parma\, 43039\, Italia
CATEGORIES:Bambini e famiglie
ATTACH;FMTTYPE=image/jpeg:https://tabianoterme.it/wp-content/uploads/2023/05/Libri-conle-Ruote-2023.jpg
ORGANIZER;CN="Coworking Salsomaggiore Terme":MAILTO:info@salsocoworking.it
END:VEVENT
BEGIN:VEVENT
DTSTART;VALUE=DATE:20230610
DTEND;VALUE=DATE:20230612
DTSTAMP:20260425T145219
CREATED:20230606T135804Z
LAST-MODIFIED:20230606T135804Z
UID:11054-1686355200-1686527999@tabianoterme.it
SUMMARY:La valigia del viaggiatore al MuMAB
DESCRIPTION:Dopo un lungo viaggio sono finalmente arrivati gli Uccelli migratori! \nSabato 10 e domenica 11 giugno 2023 alle ore 16.30 \nPer quale motivo questi viaggiatori piumati compiono viaggi così lunghi e pericolosi? Quali sono i migratori simbolo del Parco? Come possiamo osservarli senza dare loro fastidio? Scopriamolo insieme! \nUn laboratorio e un’escursione nel parco ad osservare i gruccioni per bambini e famiglie \nLa durata del laboratorio è di circa 2 ore \nPrenotazione obbligatoria – www.millepioppi.it\nCosti: adulti 6 €\, ragazzi dai 13 ai 18 anni 10 €\, bambini dai 5 ai 12 anni 9 €\, fino a 4 anni e over 65 5 €
URL:https://tabianoterme.it/event/la-valigia-del-viaggiatore-al-mumab/
LOCATION:MuMAB- Museo Mare Antico e Biodiversità\, Podere Millepioppi\, Salsomaggiore Terme\, PR\, 43039\, Italia
CATEGORIES:Bambini e famiglie
ATTACH;FMTTYPE=image/jpeg:https://tabianoterme.it/wp-content/uploads/2023/06/FEC178C8-C4F7-4CFA-A6C0-39F418EDFBE9.jpeg
ORGANIZER;CN="MuMAB - Museo Mare Antico e Biodiversit%C3%A0":MAILTO:mumab@millepioppi.it
END:VEVENT
BEGIN:VEVENT
DTSTART;TZID=Europe/Rome:20230618T163000
DTEND;TZID=Europe/Rome:20230618T163000
DTSTAMP:20260425T145219
CREATED:20230606T140347Z
LAST-MODIFIED:20230606T143253Z
UID:11058-1687105800-1687105800@tabianoterme.it
SUMMARY:Estate: gli alberi di Bruno Munari al MuMAB
DESCRIPTION:Sabato 18 giugno 2023 alle ore 16.30 \nUna passeggiata nel Podere dedicata solo ai bambini e all’osservazione di alcune specie arboree. Con taccuino\, matita e strumenti di disegno i bambini si fermeranno a studiare alcuni alberi sul percorso\, osservandone il cambiamento stagionale e disegnando sul loro taccuino l’albero secondo il metodo di Munari. \nL’attività è pensata per bambini dai 5 ai 12 anni\, senza l’accompagnamento di un adulto. Prenotazione obbligatoria massimo 12 partecipanti \nCosti: bambini dai 5 ai 12 anni 8€ – fratelli 6€
URL:https://tabianoterme.it/event/estate-gli-alberi-di-bruno-munari-al-mumab/
LOCATION:MuMAB- Museo Mare Antico e Biodiversità\, Podere Millepioppi\, Salsomaggiore Terme\, PR\, 43039\, Italia
CATEGORIES:Bambini e famiglie
ATTACH;FMTTYPE=image/jpeg:https://tabianoterme.it/wp-content/uploads/2023/06/CE4C56AB-F1AD-4601-8A4C-AACC2241BBD0.jpeg
ORGANIZER;CN="MuMAB - Museo Mare Antico e Biodiversit%C3%A0":MAILTO:mumab@millepioppi.it
END:VEVENT
BEGIN:VEVENT
DTSTART;TZID=Europe/Rome:20230624T163000
DTEND;TZID=Europe/Rome:20230624T163000
DTSTAMP:20260425T145219
CREATED:20230606T143203Z
LAST-MODIFIED:20230606T143203Z
UID:11060-1687624200-1687624200@tabianoterme.it
SUMMARY:Lele esplorator cortese: è estate al Podere Millepioppi
DESCRIPTION:Sabato 24 giugno 2023 alle ore 16:30 \nLele Esplorator Cortese\, cantastorie amante della natura arriva con il suo impermeabile\, il telo da stendere a terra e uno zainetto antipioggia pieno di storie! \nAnnusando il profumo dell’erba verde e delle prime fioriture si corica a osservare il cielo azzurro\, le nuvole\, gli uccellini e ci racconta chi ha incontrato nella sua ultima passeggiata nel Parco dello Stirone. \nL’attività è rivolta a bambini dai 3 ai 6 anni accompagnati da un adulto. Prenotazione obbligatoria www.millepioppi.it \nCosti: 8€ per i bambini\, 6€ dal secondo fratello
URL:https://tabianoterme.it/event/lele-esplorator-cortese-e-estate-al-podere-millepioppi/
LOCATION:MuMAB- Museo Mare Antico e Biodiversità\, Podere Millepioppi\, Salsomaggiore Terme\, PR\, 43039\, Italia
CATEGORIES:Bambini e famiglie
ATTACH;FMTTYPE=image/jpeg:https://tabianoterme.it/wp-content/uploads/2023/06/A6D05DDD-81D2-458A-8AA4-98A56D284911.jpeg
ORGANIZER;CN="MuMAB - Museo Mare Antico e Biodiversit%C3%A0":MAILTO:mumab@millepioppi.it
END:VEVENT
BEGIN:VEVENT
DTSTART;TZID=Europe/Rome:20230625T080000
DTEND;TZID=Europe/Rome:20230625T170000
DTSTAMP:20260425T145219
CREATED:20230625T152142Z
LAST-MODIFIED:20230625T152142Z
UID:11109-1687680000-1687712400@tabianoterme.it
SUMMARY:es-SERE al MuMAB: i signori della notte
DESCRIPTION:Mercoledì 28 giugno alle ore 21.00 al MuMAB \nCome mai i gufi hanno le “orecchie” e le civette no?\nCome riescono a individuare le loro prede?\nSerata dedicata alla scoperta dei rapaci notturni e degli adattamenti che li hanno resi i Signori della Notte. \nPrenotazione obbligatoria\, massimo 30 partecipanti\nIngresso: 8€ adulti – 6€ under 18 – 20€ 2 adulti + 1 bambino – 24€ 2 adulti + 2 bambini \nInfo e prenotazioni www.millepioppi.it
URL:https://tabianoterme.it/event/es-sere-al-mumab-i-signori-della-notte/
LOCATION:MuMAB- Museo Mare Antico e Biodiversità\, Podere Millepioppi\, Salsomaggiore Terme\, PR\, 43039\, Italia
CATEGORIES:Bambini e famiglie
ATTACH;FMTTYPE=image/jpeg:https://tabianoterme.it/wp-content/uploads/2023/06/civetta.jpg
ORGANIZER;CN="MuMAB - Museo Mare Antico e Biodiversit%C3%A0":MAILTO:mumab@millepioppi.it
END:VEVENT
END:VCALENDAR