BEGIN:VCALENDAR
VERSION:2.0
PRODID:-//Tabiano terme - ECPv6.15.11//NONSGML v1.0//EN
CALSCALE:GREGORIAN
METHOD:PUBLISH
X-ORIGINAL-URL:https://tabianoterme.it
X-WR-CALDESC:Eventi per Tabiano terme
REFRESH-INTERVAL;VALUE=DURATION:PT1H
X-Robots-Tag:noindex
X-PUBLISHED-TTL:PT1H
BEGIN:VTIMEZONE
TZID:Europe/Rome
BEGIN:DAYLIGHT
TZOFFSETFROM:+0100
TZOFFSETTO:+0200
TZNAME:CEST
DTSTART:20220327T010000
END:DAYLIGHT
BEGIN:STANDARD
TZOFFSETFROM:+0200
TZOFFSETTO:+0100
TZNAME:CET
DTSTART:20221030T010000
END:STANDARD
BEGIN:DAYLIGHT
TZOFFSETFROM:+0100
TZOFFSETTO:+0200
TZNAME:CEST
DTSTART:20230326T010000
END:DAYLIGHT
BEGIN:STANDARD
TZOFFSETFROM:+0200
TZOFFSETTO:+0100
TZNAME:CET
DTSTART:20231029T010000
END:STANDARD
BEGIN:DAYLIGHT
TZOFFSETFROM:+0100
TZOFFSETTO:+0200
TZNAME:CEST
DTSTART:20240331T010000
END:DAYLIGHT
BEGIN:STANDARD
TZOFFSETFROM:+0200
TZOFFSETTO:+0100
TZNAME:CET
DTSTART:20241027T010000
END:STANDARD
END:VTIMEZONE
BEGIN:VEVENT
DTSTART;VALUE=DATE:20230428
DTEND;VALUE=DATE:20230610
DTSTAMP:20260425T173114
CREATED:20230501T150231Z
LAST-MODIFIED:20230501T150231Z
UID:10990-1682640000-1686355199@tabianoterme.it
SUMMARY:Libri con le Ruote - primavera 2023
DESCRIPTION:Torna l’appuntamento con “Libri con le ruote”\n7 appuntamenti nei Parchi di Salsomaggiore e Tabiano Terme per avvicinare i più piccoli alla lettura \nIl progetto è realizzato da Salsocoworking su un’idea di ParmaKids in collaborazione con la biblioteca G.D. Romagnosi e l’Associazione Culturale Ortocolto\, gode inoltre del Patrocinio del Comune di Salsomaggiore Terme. \nLa prenotazione è consigliata al link https://bit.ly/LibriConLeRuote23 per organizzare al meglio la merenda offerta da Coop Alleanza 3.0. L’edizione primaverile di “Libri con le ruote” è sostenuta da Pasticceria Tosi\, Eurogronda\, L’Incontro Ristorante Pizzeria\, Airone Spazio Salute\, Sport University\, Theras Foundation e il Consorzio AbiTabiano. \nL’appuntamento è gratuito\, durante il pomeriggio si possono sfogliare i libri e imparare come prendere in prestito un libro della biblioteca cittadina\, se non si ha la tessera è possibile farla direttamente durante l’appuntamento. \nTAPPE\, tutte rigorosamente alle 16:30\nVenerdì 28 aprile – Giardino Serre Comunali Parco Mazzini\nVenerdì 5 maggio – Parco Porcellini\, Tabiano Terme\nVenerdì 12 maggio – Parco delle Querce\, Salso Massimo\nVenerdì 19 maggio – Parco Lorenzo Grossi/Via A Costa\nVenerdì 26 maggio – Parco Corazza\nVenerdì 2 giugno – Parco Porcellini\, Tabiano Terme\nVenerdì 9 giugno – Parco Mazzini \nL’obiettivo è semplice\, sensibilizzare i bambini e le loro famiglie alla lettura e alla frequentazione della biblioteca comunale. I volontari di Salso Coworking in collaborazione con la Biblioteca G.D. Romagnosi di Salsomaggiore Terme selezionano i libri da portare nei parchi cittadini dove si svolgono le letture ad alta voce in collaborazione con Silvio Mezzadri dell’Associazione Ortocolto divenuto la voce della biblio bicicletta. \nL’iniziativa ha preso vita nel 2021 a Salsomaggiore Terme grazie alla collaborazione dell’APS Salso Coworking con l’associazione Parmakids finanziata inizialmente da Fondazione Cariparma attraverso il Bando “Leggere Crea Indipendenza 2021”.
URL:https://tabianoterme.it/event/libri-con-le-ruote-primavera-2023/
LOCATION:Salsomaggiore Terme\, Parma\, 43039\, Italia
CATEGORIES:Bambini e famiglie
ATTACH;FMTTYPE=image/jpeg:https://tabianoterme.it/wp-content/uploads/2023/05/Libri-conle-Ruote-2023.jpg
ORGANIZER;CN="Coworking Salsomaggiore Terme":MAILTO:info@salsocoworking.it
END:VEVENT
BEGIN:VEVENT
DTSTART;VALUE=DATE:20230520
DTEND;VALUE=DATE:20230522
DTSTAMP:20260425T173114
CREATED:20230516T154634Z
LAST-MODIFIED:20230516T154746Z
UID:11011-1684540800-1684713599@tabianoterme.it
SUMMARY:Caccia al tesoro al Castello di Contignaco – Favole antiche
DESCRIPTION:Sabato 20 maggio e domenica 21 maggio 2023\nOrari di inizio: mattina ore 11; pomeriggio ore 15 e 16.30 (domenica 16 chiuso la mattina) \nIl Castello di Contignaco torna a proporre una caccia al tesoro che porterà i partecipanti a riscoprire alcune delle più belle favole che da secoli nutrono l’immaginario collettivo e che hanno fatto sognare innumerevoli generazioni di fanciulli. \nI bambini\, accompagnati dai loro genitori e con tanto di mappe e “taccuino del viaggiatore” al seguito\, saranno impegnati a rincorrere una lunga catena di indizi che li condurrà a disvelare numerosi racconti\, graziosi ed edificanti\, quali Il Pastore\, Il Topo di città e il Topo di campagna\, Il Cane e l’Asino\, Le Ranocchie e il loro Re\, L’Asino e il Lupo\, La Volpe e l’uva\, Il Cane e la Volpe\, La Formica e la Cicala. \nLe favole\, come si sa\, sono brevi narrazioni con uomini\, animali\, piante o essere inanimati e racchiudono sempre un insegnamento morale\, destinato non solo ai più piccoli\, ma anche agli adulti. \nI bambini\, aiutati dai più grandi\, dovranno riuscire a individuare la morale di ogni favola che sarà loro proposta: solo così potranno concludere la caccia e giungere al dolcissimo tesoro finale! \n________ \nGioco ideale per bambini dai 5 ai 14 anni circa. \nLa caccia al tesoro prevede una forte interazione tra i bambini e gli adulti\, in modo da far divertire tutti quanti. \nDurata del gioco: circa un’ora e mezza. \nAlla fine: premio a sorpresa sia per i bambini che per gli adulti. \nL’evento si svolgerà anche in caso di maltempo. Si consiglia di attrezzarsi con ombrelli e stivaletti in caso di pioggia\, poiché buona parte della caccia al tesoro si effettuerà all’aperto. \nPrenotazione obbligatoria. \nCosti: bambini dai 3 ai 14 anni € 13; adulti € 10. \nPer prenotare: 320.6126424 – 320.6126425 – 320.6066721 – castello.contignaco@gmail.com. \n________ \nInoltre… \nAl termine del gioco\, chi lo desidera potrà effettuare una visita guidata completa degli esterni e degli interni del Castello. \nLa visita si potrà anche concludere con una degustazione guidata dei vini prodotti nelle cantine della fortezza\, durante la quale i proprietari esporranno la storia antica dell’Azienda di famiglia. \nPrenotazione obbligatoria. \nCosti:\n– visita guidata adulti € 10; bambini dai 5 ai 14 anni € 6; bambini fino ai 4 anni ingresso gratuito;\n– degustazione guidata dei vini del Castello € 19;\n– visita con degustazione € 26. \nPer prenotare: 320.6126424 – 320.6126425 – 320.6066721 – castello.contignaco@gmail.com
URL:https://tabianoterme.it/event/caccia-al-tesoro-al-castello-di-contignaco-favole-antiche/
LOCATION:Castello di Contignaco\, Via Contignaco Castello\, 125\, Salsomaggiore Terme\, 43039\, Italia
CATEGORIES:Bambini e famiglie
ATTACH;FMTTYPE=image/png:https://tabianoterme.it/wp-content/uploads/2023/05/contignaco-caccia-al-tesoro-2023-salsomaggiore-castello.png
ORGANIZER;CN="Castello di Contignaco":MAILTO:castello.contignaco@gmail.com
END:VEVENT
BEGIN:VEVENT
DTSTART;VALUE=DATE:20230527
DTEND;VALUE=DATE:20230528
DTSTAMP:20260425T173114
CREATED:20230516T154443Z
LAST-MODIFIED:20230520T070736Z
UID:11007-1685145600-1685231999@tabianoterme.it
SUMMARY:Al MuMAB “Eva Crane: la scienziata delle api” - laboratorio per ragazzi
DESCRIPTION:Sabato 27 maggio 2023\, ore 16.30 \nUna visita nel podere e in particolare al grande Bug Hotel che è ospitato nel giardino degli impollinatori\, dà il via a questa giornata da passare al Podere Millepioppi. \nLa storia di Eva Crane\, scienziata che ha dedicato gran parte della sua vita alle api è il la per parlare con famiglie e ragazzi dell’importanza degli impollinatori\, degli effetti che l’inquinamento produce e di come questa catena che si sta pian piano logorando può ricadere sul nostro quotidiano. \nEva Crane aveva compreso bene l’importanza delle api nel garantire la biodiversità e la nostra possibilità di sfamarci. \nAdatto a bambini dai 6 ai 12 anni \nCosto: 10€ – fratelli 8€ \nPrenotazione: obbligatoria massimo 12 partecipanti
URL:https://tabianoterme.it/event/al-mumab-eva-crane-la-scienziata-delle-api-laboratorio-per-ragazzi/
LOCATION:MuMAB- Museo Mare Antico e Biodiversità\, Podere Millepioppi\, Salsomaggiore Terme\, PR\, 43039\, Italia
CATEGORIES:Bambini e famiglie
ATTACH;FMTTYPE=image/jpeg:https://tabianoterme.it/wp-content/uploads/2023/05/eva-crane-api-mumab-maggio-2023.jpeg
ORGANIZER;CN="MuMAB - Museo Mare Antico e Biodiversit%C3%A0":MAILTO:mumab@millepioppi.it
END:VEVENT
END:VCALENDAR