BEGIN:VCALENDAR
VERSION:2.0
PRODID:-//Tabiano terme - ECPv6.15.11//NONSGML v1.0//EN
CALSCALE:GREGORIAN
METHOD:PUBLISH
X-WR-CALNAME:Tabiano terme
X-ORIGINAL-URL:https://tabianoterme.it
X-WR-CALDESC:Eventi per Tabiano terme
REFRESH-INTERVAL;VALUE=DURATION:PT1H
X-Robots-Tag:noindex
X-PUBLISHED-TTL:PT1H
BEGIN:VTIMEZONE
TZID:Europe/Rome
BEGIN:DAYLIGHT
TZOFFSETFROM:+0100
TZOFFSETTO:+0200
TZNAME:CEST
DTSTART:20240331T010000
END:DAYLIGHT
BEGIN:STANDARD
TZOFFSETFROM:+0200
TZOFFSETTO:+0100
TZNAME:CET
DTSTART:20241027T010000
END:STANDARD
BEGIN:DAYLIGHT
TZOFFSETFROM:+0100
TZOFFSETTO:+0200
TZNAME:CEST
DTSTART:20250330T010000
END:DAYLIGHT
BEGIN:STANDARD
TZOFFSETFROM:+0200
TZOFFSETTO:+0100
TZNAME:CET
DTSTART:20251026T010000
END:STANDARD
BEGIN:DAYLIGHT
TZOFFSETFROM:+0100
TZOFFSETTO:+0200
TZNAME:CEST
DTSTART:20260329T010000
END:DAYLIGHT
BEGIN:STANDARD
TZOFFSETFROM:+0200
TZOFFSETTO:+0100
TZNAME:CET
DTSTART:20261025T010000
END:STANDARD
BEGIN:DAYLIGHT
TZOFFSETFROM:+0100
TZOFFSETTO:+0200
TZNAME:CEST
DTSTART:20270328T010000
END:DAYLIGHT
BEGIN:STANDARD
TZOFFSETFROM:+0200
TZOFFSETTO:+0100
TZNAME:CET
DTSTART:20271031T010000
END:STANDARD
END:VTIMEZONE
BEGIN:VEVENT
DTSTART;TZID=Europe/Rome:20251206T100000
DTEND;TZID=Europe/Rome:20260125T190000
DTSTAMP:20260421T074512
CREATED:20251215T114137Z
LAST-MODIFIED:20251215T114137Z
UID:14083-1765015200-1769367600@tabianoterme.it
SUMMARY:Presepio di Vigoleno
DESCRIPTION:Riapre le porte al pubblico il tradizionale presepio meccanico elettronico della parrocchia di Vigoleno\, un piccolo gioiello di artigianato artistico che da ormai oltre 30 anni arricchisce di calore il cuore del borgo medievale.\n\n\n\nIl presepio è visitabile da sabato 06 dicembre a domenica 25 gennaio tutti i weekend con orario 10.00-19.00. Nel periodo fra il 24 dicembre e il 06 gennaio sarà aperto tutti i giorni\, sempre con lo stesso orario\, eccetto di martedì.
URL:https://tabianoterme.it/event/presepio-di-vigoleno/
LOCATION:Mastio e Borgo di Vigoleno\, via Libertà s.n.\, Vigoleno PC\, 29010\, Italia
CATEGORIES:artigianato,Bambini e famiglie,Cultura
ATTACH;FMTTYPE=image/webp:https://tabianoterme.it/wp-content/uploads/2025/12/2025_PresepeMeccanicoVigoleno.jpg.webp
END:VEVENT
BEGIN:VEVENT
DTSTART;TZID=Europe/Rome:20251213T100000
DTEND;TZID=Europe/Rome:20251214T170000
DTSTAMP:20260421T074512
CREATED:20251031T115604Z
LAST-MODIFIED:20251031T115604Z
UID:13845-1765620000-1765731600@tabianoterme.it
SUMMARY:Ortocolto in Corte
DESCRIPTION:Vi aspettiamo per un appuntamento pre-natalizio fra bellezza\, artigianato di pregio e prodotti d’eccellenza! \n Castello di Roccabianca – Roccabianca (PR)\, circuito Castelli del Ducato. \nUn evento unico\, dove natura\, arte e tradizione si incontrano tra le mura di uno dei castelli parmensi più suggestivi. \nVisite guidate\, artigianato di pregio\, sapori e tradizioni\, in questa cornice tutta da scoprire. \nUn weekend per immergervi nella poesia della Bassa Parmense e scoprire il Castello di Roccabianca\, dono del Magnifico Pier Maria Rossi all’amata Bianca Pellegrini.
URL:https://tabianoterme.it/event/ortocolto-in-corte/
LOCATION:Castello di Roccabianca\, Piazza Garibaldi\, 5\, Roccabianca\, 43010\, Italia
CATEGORIES:Arte e Cultura,artigianato,Bambini e famiglie,Cultura,Mercatino,Visita guidata
ATTACH;FMTTYPE=image/jpeg:https://tabianoterme.it/wp-content/uploads/2025/10/download-1.jpg
END:VEVENT
END:VCALENDAR