BEGIN:VCALENDAR
VERSION:2.0
PRODID:-//Tabiano terme - ECPv6.15.11//NONSGML v1.0//EN
CALSCALE:GREGORIAN
METHOD:PUBLISH
X-WR-CALNAME:Tabiano terme
X-ORIGINAL-URL:https://tabianoterme.it
X-WR-CALDESC:Eventi per Tabiano terme
REFRESH-INTERVAL;VALUE=DURATION:PT1H
X-Robots-Tag:noindex
X-PUBLISHED-TTL:PT1H
BEGIN:VTIMEZONE
TZID:Europe/Rome
BEGIN:DAYLIGHT
TZOFFSETFROM:+0100
TZOFFSETTO:+0200
TZNAME:CEST
DTSTART:20250330T010000
END:DAYLIGHT
BEGIN:STANDARD
TZOFFSETFROM:+0200
TZOFFSETTO:+0100
TZNAME:CET
DTSTART:20251026T010000
END:STANDARD
BEGIN:DAYLIGHT
TZOFFSETFROM:+0100
TZOFFSETTO:+0200
TZNAME:CEST
DTSTART:20260329T010000
END:DAYLIGHT
BEGIN:STANDARD
TZOFFSETFROM:+0200
TZOFFSETTO:+0100
TZNAME:CET
DTSTART:20261025T010000
END:STANDARD
BEGIN:DAYLIGHT
TZOFFSETFROM:+0100
TZOFFSETTO:+0200
TZNAME:CEST
DTSTART:20270328T010000
END:DAYLIGHT
BEGIN:STANDARD
TZOFFSETFROM:+0200
TZOFFSETTO:+0100
TZNAME:CET
DTSTART:20271031T010000
END:STANDARD
END:VTIMEZONE
BEGIN:VEVENT
DTSTART;TZID=Europe/Rome:20260214T093000
DTEND;TZID=Europe/Rome:20260531T200000
DTSTAMP:20260420T015612
CREATED:20260219T152406Z
LAST-MODIFIED:20260219T152516Z
UID:14324-1771061400-1780257600@tabianoterme.it
SUMMARY:100 ANNI DI RIFLESSI – Gli impressionisti da MONET a BONNARD
DESCRIPTION:La mostra “Impressionisti – 100 anni di riflessi. Gli Impressionisti da Monet a Bonnard”\, allestita a Palazzo Tarasconi di Parma dal 14 febbraio al 31 maggio 2026\, offre un’occasione unica per immergersi nel cuore di un movimento che ha rivoluzionato il modo di vedere\, sentire e rappresentare la realtà. \nIl percorso espositivo conduce il pubblico attraverso un viaggio ricco e articolato tra i grandi protagonisti dell’Impressionismo: Claude Monet\, Alfred Sisley\, Vincent van Gogh\, Giovanni Boldini\, Paul César Helleu\, Eugène Isabey\, Antoine Guillemet fino a Pierre Bonnard e agli artisti che ne hanno raccolto e sviluppato l’eredità. \nAccanto ai maestri del movimento\, la mostra presenta anche le opere degli artisti della Scuola di Barbizon – Corot\, Rousseau\, Daubigny\, Millet – figure fondamentali per la nascita della nuova sensibilità paesaggistica che avrebbe poi dato slancio all’Impressionismo.
URL:https://tabianoterme.it/event/100-anni-di-riflessi-gli-impressionisti-da-monet-a-bonnard/
LOCATION:Palazzo Tarasconi\, via Farini\, 37\, Parma\, 43100
CATEGORIES:Arte e Cultura,Cultura,Museo
ATTACH;FMTTYPE=image/png:https://tabianoterme.it/wp-content/uploads/2026/02/impressionisti-parma-post-03-768x960-1.png
END:VEVENT
BEGIN:VEVENT
DTSTART;TZID=Europe/Rome:20260327T100000
DTEND;TZID=Europe/Rome:20260726T180000
DTSTAMP:20260420T015612
CREATED:20260413T075632Z
LAST-MODIFIED:20260413T075632Z
UID:14662-1774605600-1785088800@tabianoterme.it
SUMMARY:Bernardo Bertolucci. Il Novecento
DESCRIPTION:“Bernardo Bertolucci. Il Novecento” è una grande mostra promossa dal Comune di Parma\ne dalla Fondazione Bernardo Bertolucci\, per la cura di Gabriele Pedullà e della casa editrice Electa\, con la partecipazione della Regione Emilia-Romagna e con il sostegno di Iren\, Smeg e Barilla.\nLa mostra consente di affrontare in modo originale una riflessione sul Novecento come secolo\, ma sarà anche un tributo al territorio e al genius loci di Parma e della sua provincia\, terra natale di una famiglia geniale: il poeta Attilio\, con i figli Giuseppe e Bernardo.\nApertura: da mercoledì a domenica dalle 10.00 alle 19.00. Ultimo ingresso alle ore 18.00\nAperture speciali:\nsabato 25 aprile (Liberazione) dalle 10.00 alle 16.00\nvenerdì 1 maggio (Festa dei Lavoratori) dalle 10.00 alle 19.00\nlunedì 1 giugno (Ponte della Festa della Repubblica) dalle 10.00 alle 19.00\nmartedì 2 giugno (Festa della Repubblica) dalle 10.00 alle 19.00
URL:https://tabianoterme.it/event/bernardo-bertolucci-il-novecento/
LOCATION:Palazzo del Governatore\, Piazza Giuseppe Garibaldi\, Parma\, Parma\, 43121\, Italy
CATEGORIES:Arte e Cultura,Cinema,Cultura,Mostra,Museo,Spettacolo
ATTACH;FMTTYPE=image/jpeg:https://tabianoterme.it/wp-content/uploads/2026/04/unnamed-2-35.jpg
END:VEVENT
BEGIN:VEVENT
DTSTART;VALUE=DATE:20260328
DTEND;VALUE=DATE:20260629
DTSTAMP:20260420T015612
CREATED:20260220T085046Z
LAST-MODIFIED:20260220T085046Z
UID:14398-1774656000-1782691199@tabianoterme.it
SUMMARY:Mostra “ERTÉ Lo stile è tutto” al Labirinto della Masone
DESCRIPTION:Dal 28 marzo al 28 giugno 2026\nA cura di Valerio Terraroli \nIl Labirinto della Masone dedica la sua nuova mostra primaverile a Erté\, una delle figure più emblematiche del gusto Art Déco. \nScenografo\, costumista e artista visivo tra i più poliedrici e visionari del Novecento\, Erté seppe fondere in un linguaggio inconfondibile gli elementi decorativi e simbolici della modernità tra le due guerre.\nI suoi disegni\, tra geometrie sofisticate ed eleganze impossibili\, raccontano il mutare degli stili e l’inarrivabile mondo delle dive\, ma anche il dialogo tra alta moda e cultura di massa.\nPresente con le sue opere nelle principali collezioni pubbliche e private del mondo\, Erté è al centro di un’esposizione che riunisce oltre centocinquanta lavori\, molti dei quali mai esposti al pubblico\, offrendo uno sguardo ampio e inedito sulla varietà e la ricchezza del suo universo creativo. \nGiunto a Parigi dalla Russia nel 1912\, Erté (nato con il nome di Roman Petrovič Tyrtov e poi traslato in francese come Romain de Tirtoff) inizia a lavorare giovanissimo per Paul Poiret\, il couturier che avrebbe rivoluzionato la moda del primo Novecento.\nDal 1915 collabora con Harper’s Bazaar\, rivista per cui realizza oltre duecento copertine fino al 1937.\nGrazie a questa lunga collaborazione\, che contribuisce a definire l’immaginario visivo dell’Art Déco\, si afferma come illustratore a livello internazionale.\nI suoi lavori compaiono anche su Vogue\, Cosmopolitan e The London News\, consolidando la sua fama su entrambe le sponde dell’Atlantico.\nParallelamente\, disegna costumi per il Music hall e per le grandi produzioni teatrali che animano la Parigi e la New York degli anni Venti\, arrivando fino al cinema di Hollywood: da Mistinguett a Marion Davies\, da Sarah Bernhardt a Mata Hari\, le creazioni di Erté trasformano ciò che è ordinario in straordinario.\nLe sue scene per le Folies-Bergère e le Ziegfeld Follies diventano veri e propri paesi delle meraviglie grazie a invenzioni memorabili come i “sipari viventi” e i “costumi collettivi”.\nNon sorprende che i suoi disegni abbiano avuto tanta risonanza: innovativi\, eleganti e stravaganti\, sono divenuti icone di un Déco sfavillante e interpreti di un’estetica profondamente affine all’universo di Franco Maria Ricci. Fu proprio l’editore a pubblicare\, nel 1970 per la collana I Segni dell’Uomo\, il primo importante volume in lingua italiana dedicato a Erté\, con un testo di Roland Barthes.\nIn quell’occasione alcune sue opere entrarono a far parte della collezione oggi conservata presso il Labirinto della Masone\, di recente arricchita con l’acquisizione di quattro ulteriori disegni dell’artista russo.\nIn un momento di rinnovato interesse critico ed espositivo per l’Art Déco\, la mostra offre un’ampia rilettura dell’opera di Erté\, restituendone la complessità e la modernità.\nIl percorso espositivo propone oltre centocinquanta opere\, tra disegni\, bozzetti (alcuni provenienti dal Victoria & Albert Museum di Londra)\, pochoir\, litografie\, documenti e materiali cinematografici\, con particolare attenzione agli anni Dieci\, Venti e Trenta\, considerati il momento più originale e felice della sua lunga carriera.\nAccanto ai prestiti da collezioni private italiane e internazionali\, sono esposte anche le ventotto opere appartenenti alla collezione Franco Maria Ricci.\nL’allestimento\, di forte impatto scenografico\, accompagna il visitatore nell’universo visivo di Erté attraverso sezioni tematiche che approfondiscono i principali ambiti della sua attività: dai figurini al teatro e al Music Hall\, dalle collaborazioni editoriali alle celebri serie dell’Alfabeto e dei Numeri.\nPosti in dialogo con i capolavori esposti\, gli abiti in carta realizzati dall’artista Caterina Crepax offriranno infine un’interpretazione fantastica e tridimensionale delle creazioni di Erté. \nLa mostra è curata da Valerio Terraroli\, con organizzazione di Elisa Rizzardi e allestimento di Maddalena Casalis. \nPer l’occasione sarà pubblicato un omonimo volume edito da Franco Maria Ricci\, con testi di Valerio Terraroli e Alessandra Tiddia. \nOrari\nFino al 30 Marzo 2026\ndalle 9.30 alle 18\, ultimo ingresso alle ore 16.30\nLa biglietteria è aperta fino alle 16.30. \nDal 31 Marzo 2026\ndalle 10.30 alle 19\, ultimo ingresso alle ore 17.30.\nLa biglietteria è aperta fino alle 17.30. \n  \nFonte testo e foto: Labirinto di Franco Maria Ricci
URL:https://tabianoterme.it/event/mostra-erte-lo-stile-e-tutto-al-labirinto-della-masone/
LOCATION:Labirinto della Masone\, Strada Masone\, 121\, Fontanellato\, 43012
CATEGORIES:Arte e Cultura,Mostra
ATTACH;FMTTYPE=image/webp:https://tabianoterme.it/wp-content/uploads/2026/02/Mostra-Erte_Labirinto.webp
ORGANIZER;CN="Labirinto della Masone":MAILTO:labirinto@francomariaricci.com
END:VEVENT
BEGIN:VEVENT
DTSTART;TZID=Europe/Rome:20260330T073000
DTEND;TZID=Europe/Rome:20260628T180000
DTSTAMP:20260420T015612
CREATED:20260326T114751Z
LAST-MODIFIED:20260326T114751Z
UID:14509-1774855800-1782669600@tabianoterme.it
SUMMARY:Orari Terme di Tabiano
DESCRIPTION:Dal 30 marzo al 28 giugnoApertura: \n\n\nmattino: 7.30 – 12.00 \n\n\npomeriggio: 15.30 – 18.00La domenica e nei giorni festivi apertura solo al mattino.Sabato pomeriggio chiuso. \n\n\nFestività con apertura solo al mattino:\n\n\nLunedì 6 aprile \n\n\nSabato 25 aprile \n\n\nVenerdì 1° maggio \n\n\nMartedì 2 giugno
URL:https://tabianoterme.it/event/orari-terme-di-tabiano/
LOCATION:Tabiano Terme
CATEGORIES:Bambini e famiglie,Salute e benessere
ATTACH;FMTTYPE=image/png:https://tabianoterme.it/wp-content/uploads/2026/01/le-nostre-terme-sono-regolarmente-aperte.png
ORGANIZER;CN="Terme di Tabiano":MAILTO:info@termest.it
END:VEVENT
BEGIN:VEVENT
DTSTART;VALUE=DATE:20260407
DTEND;VALUE=DATE:20260629
DTSTAMP:20260420T015612
CREATED:20260407T100645Z
LAST-MODIFIED:20260407T100645Z
UID:14536-1775520000-1782691199@tabianoterme.it
SUMMARY:“Il Simbolismo in Italia” alla Fondazione Magnani Rocca
DESCRIPTION:14 marzo – 28 giugno 2026\nFondazione Magnani-Rocca\, Mamiano di Traversetolo – Parma \nBellezza\, mistero\, ossessione. Una delle più grandi mostre mai dedicate al Simbolismo italiano. \nPiù di 140 opere — dipinti\, sculture\, incisioni — rivelano al grande pubblico la stagione più visionaria dell’arte italiana tra Otto e Novecento: un capitolo che si sviluppò in dialogo serrato con una tendenza internazionale che muoveva da varie declinazioni del preraffaellismo e da una cultura francese e mitteleuropea che aveva in Gustave Moreau e Arnold Böcklin alcuni dei suoi principali riferimenti. Eppure la via italiana al Simbolismo seppe elaborare una propria fisionomia\, riconoscibile nella convergenza tra istanze spirituali e la costante riflessione sul mito e sul paesaggio capace di tenere insieme tradizione e modernità. \nLa natura come organismo vivente\, il mito come esperienza perturbante\, la figura femminile come presenza ambivalente\, il paesaggio come spazio dell’interiorità\, il segno grafico come veicolo dell’invisibile: sono i nuclei tematici delle sette sezioni della mostra\, concepite per restituire tutta la complessità e l’ampiezza dell’immaginario simbolista italiano. \nLa mostra Il Simbolismo in Italia. Origini e sviluppi di una nuova estetica 1883-1915\, curata da Francesco Parisi e Stefano Roffi\, compie un’operazione critica necessaria: distingue gli artisti che elaborarono consapevolmente un lessico simbolista da quelli che aderirono occasionalmente a mode iconografiche. Ne emerge la ricostruzione filologica di un linguaggio autonomo\, sviluppato in dialogo serrato con le ricerche europee ma dotato di caratteri propri. \nTra gli artisti in mostra: Giovanni Segantini\, Giuseppe Pellizza da Volpedo\, Gaetano Previati\, Arnold Böcklin\, Edward Burne-Jones\, Franz von Stuck\, Max Klinger\, Domenico Morelli\, Giulio Aristide Sartorio\, Galileo Chini\, Luigi Russolo\, Leonardo Bistolfi\, Adolfo Wildt\, Giulio Bargellini\, Adolfo De Carolis\, Francesco Paolo Michetti\, Plinio Nomellini\, Emilio Longoni\, Ettore Tito\, Carlo Fornara\, Duilio Cambellotti\, Felice Carena\, Alberto Martini\, Cesare Saccaggi\, Libero Andreotti\, Ettore Ximenes\, Mario De Maria\, Mariano Fortuny. \nIl percorso espositivo illumina le ragioni storiche di una ricezione più tarda rispetto a Francia\, Belgio e area mitteleuropea\, e documenta gli scambi decisivi: la permanenza di Arnold Böcklin a Firenze\, il milieu preraffaellita attivo tra Roma e Firenze\, i soggiorni di Max Klinger\, l’influenza della colonia dei Deutsch-Römer. Ne emerge un quadro in cui l’Italia non è periferia\, ma laboratorio di soluzioni formali elaborate in costante confronto con l’Europa. \nOrari\nDal martedì al venerdì continuato 10-18 (la biglietteria chiude alle 17) – Sabato\, Domenica e festivi continuato 10-19 (la biglietteria chiude alle 18).\nLunedì chiuso (aperto Lunedì di Pasqua). \nPrezzi\n€ 15\,00 valido anche per le raccolte permanenti\n€ 13\,00 per gruppi di almeno quindici persone\n€ 5\,00 per le scuole e sotto i 14 anni \nInformazioni e prenotazioni gruppi\nTel. 0521 848327 / 848148 info@magnanirocca.it\nIl sabato ore 16.30 e la domenica e festivi ore 11.30\, 16.00\, 17.00\, visita alla mostra con guida specializzata; è possibile prenotare a prenotazioni@magnanirocca.it \, oppure presentarsi all’ingresso del museo fino a esaurimento posti; costo € 20\,00 (ingresso e guida). \n  \nFonte testo: https://www.magnanirocca.it
URL:https://tabianoterme.it/event/il-simbolismo-in-italia-alla-fondazione-magnani-rocca/
LOCATION:Fondazione Magnani-Rocca\, Via Fondazione Magnani-Rocca\, Mamiano di Traversetolo\, 43029
CATEGORIES:Arte e Cultura,Cultura,Mostra,Museo
ATTACH;FMTTYPE=image/webp:https://tabianoterme.it/wp-content/uploads/2026/04/mostra-magnani-rocca-2026-simbolismo.webp
ORGANIZER;CN="Fondazione Magnani-Rocca":MAILTO:info@magnanirocca.it
END:VEVENT
BEGIN:VEVENT
DTSTART;VALUE=DATE:20260407
DTEND;VALUE=DATE:20260504
DTSTAMP:20260420T015612
CREATED:20260407T100957Z
LAST-MODIFIED:20260407T100957Z
UID:14540-1775520000-1777852799@tabianoterme.it
SUMMARY:“Ricordi di famiglia” al Castello di Scipione
DESCRIPTION:Da sabato 21 marzo a Domenica 3 maggio – sabato\, domenica e festivi \nSabato: ore 15.00; 16.00; 17.00\nDomenica e festivi: ore 10.30 e 11.30; 15.00; 16.00; 17.00 – Pasqua e Pasquetta ultima visita alle 18h \nRacconti di vita quotidiana attraverso un’esposizione di preziosi oggetti\, antichi documenti e fotografie appartenuti alla famiglia della Marchesa Maria Luisa Pallavicino. Un’esposizione itinerante attraverso le sale del Castello\, che racconta il rituale dell’ora del tè nel salotto azzurro\, tra preziosi argenti del secolo scorso\, porcellane di Meissen e Sèvres del Settecento e Ottocento ed eleganti ventagli di famiglia. Numerosi i ricordi degli anni di gioventù della Marchesa Maria Luisa Pallavicino\, dal sontuoso abito da ballo delle Sorelle Fontana\, indossato per il ricevimento di matrimonio di S.A.R. la Principessa Maria Pia di Savoia\, alle fotografie che la ritraggono ai ricevimenti nei saloni del Castello Reale di Laeken in Belgio. \nSarà anche possibile curiosare tra alcune fotografie di famiglia dell’Ottocento e dei primi del Novecento che rievocano i costumi di un’epoca. Un viaggio indietro nel tempo\, da un primo esempio di dagherrotipo del 1846\, alle immagini in astuccio\, ai ritratti in voga nell’Ottocento e primi del Novecento\, alle delicate fotografie dei bambini con romantiche scenografie sullo sfondo. Tra le curiosità\, alcuni tra i primi scatti a colori realizzati intorno al 1910 che rivelano momenti di intimità famigliare e immagini di stanze adorne di arredi\, in linea con il gusto dell’epoca. \nUna fotografia datata del 1903 riporta alla luce uno dei primi esemplari delle automobili Benz con a bordo i bambini. Uno scatto che ci porta anche a ripercorrere un’importante parte della storia dell’automobile in cui la famiglia materna della Marchesa Maria Luisa Pallavicino ha avuto un ruolo importante con la fondazione della RAF che fondendosi poi con la Laurin & Klement darà vita alla Škoda. \nAltri preziosi oggetti\, come il leggio del Seicento appartenuto al Cardinale Sforza Pallavicino\, raccontano le vicende storiche di una delle poche casate in Europa ad avere più di mille anni di storia documentata. \nTra i documenti di famiglia\, un’antica pergamena del 1529\, dispensa matrimoniale per l’unione dei cugini Giangerolamo Pallavicino\, Marchese di Scipione (1474 -1536) e Giacoma Pallavicino\, ricorda la storia di un’importante figura femminile del Rinascimento\, le cui sofferte vicende famigliari e le sue battaglie vengono studiate e raccontate dalla storica dell’arte americana Katherine Mc Iver nel libro “Women\, Art\, and Architecture in Northern Italy\, 1520-1580” citandola come uno dei primi esempi di donna emancipata dell’era “moderna”. \nSarà possibile anche ammirare il sontuoso tavolo imperiale con servizio di porcellane e argenti di famiglia dell’Ottocento che si svelerà per l’occasione con un allestimento floreale primaverile. \nLa mostra è inclusa nel percorso della visita guidata al Castello\, il più antico della Provincia di Parma. Un tour suggestivo attraverso i saloni con soffitti a cassettoni\, affreschi e camini del Quattrocento e Seicento\, e i meravigliosi spazi esterni\, dal grande giardino con vista panoramica\, alla terrazza con l’imponente loggiato Seicentesco\, entrambi con viste magnifiche sulle colline a perdita d’occhio\, passando dallo scalone dei cavalli con il suo giardino segreto\, che regala magnifiche fioriture primaverili. \n  \nINFORMAZIONI \nLa manifestazione si svolge anche in caso di maltempo \nCosto della manifestazione (La mostra è inclusa nel percorso della visita guidata al Castello senza sovrapprezzo):\nAdulti: 10 euro\nBambini dai 6 ai 15 anni: 9 euro\nGratuito: bambini fino a 5 anni \nPer informazioni:\n0524 572381 – info@castellodiscipione.it – www.castellodiscipione.it \n  \nFonte testo e foto: www.castellidelducato.it
URL:https://tabianoterme.it/event/ricordi-di-famiglia-al-castello-di-scipione-2/
LOCATION:Castello di Scipione\, Via Scipione Castello\, 61\, Salsomaggiore Terme\, Parma\, 43039\, Italia
CATEGORIES:Arte e Cultura,Cultura,Museo
ATTACH;FMTTYPE=image/webp:https://tabianoterme.it/wp-content/uploads/2026/04/Ricordi-di-Famiglia_Castello-di-Scipione_2026-1.webp
ORGANIZER;CN="Castello di Scipione":MAILTO:info@castellodiscipione.it
END:VEVENT
BEGIN:VEVENT
DTSTART;VALUE=DATE:20260417
DTEND;VALUE=DATE:20260504
DTSTAMP:20260420T015612
CREATED:20260407T102706Z
LAST-MODIFIED:20260407T102706Z
UID:14557-1776384000-1777852799@tabianoterme.it
SUMMARY:Salsomaggiore: Gran Fiera San Vitale 2026
DESCRIPTION:Gran Fiera di San Vitale\nDal 17 aprile al 3 maggio 2026 \nVENERDÌ 17 APRILE\nPresentazione Libro “La Società Longeva” di Stefania Bandini e Paolo Manfredi\nOre 18.00 – Sala lampadario \nSABATO 18 APRILE\nRassegna espositiva con creativi\, artigianato ed hobbisti \nDalle 09.00 alle18.00 – Viale Berenini e Viale Romagnosi\nA cura di ProLoco Salsomaggiore Terme \nIl cuore in piazza: esami ecg gratuiti per la cittadinanza\nDalle 09.00 alle 13.00 – Terme Zoja\nA cura di ProLoco Salsomaggiore Terme\, CRAL AUSL di parma\, TST Terme Salsomaggiore e Tabiano \n“La Rossa” – Rassegna “Trilogia delle radici”\nLettura teatrale con Paola Ferrari\, tratta dal libro “Il falò del patriarca” – Intervista con l’autore Giovanni Bergamini\nOre 16.30 – Corte Civica Tommasini\nA cura di 365 Volte Donna \nConcerto Musici di Parma: “Danze del Nord”\nPaesaggi sonori tra natura e tradizione\nOre 21.00 – Sala Cariatidi\nIn collaborazione con Orchestra Università di Parma \nDOMENICA 19 APRILE\nFesta di Primavera – mercatino del riuso\nDalle 9.00 alle 18.00 – Via Milano e piazza Brugnola\nA cura di ProLoco Salsomaggiore Terme \nTorneo di puzzle\nOre 15.30 – Piazza Brugnola\n(In caso di maltempo Sala Mainardi)\nA cura di ProLoco Salsomaggiore Terme \nSABATO 25 APRILE\nRassegna espositiva con creativi\, artigianato ed hobbisti \nDalle 09.00 alle18.00 – Viale Berenini e Viale Romagnosi\nA cura di ProLoco Salsomaggiore Terme \nManifestazione istituzionale del 25 aprile\nOre 09.30 – partenza corteo accompagnato dal Complesso bandistico Città di Salsomaggiore \n14° concorso del bargnolino artigianale Città di Salsomaggiore e concerto del coro Armonie\nDalle 16.00 – Piazza Brugnola\nA cura di Circolo ricreativo Salsoinsieme\, Coro Armonie aps\, Confederation europee de gourmet\, AIS\, Cantina “Il Poggio” \nDOMENICA 26 APRILE\nTutti insieme per San Vitale\nStand delle associazioni aderenti alla Consulta del Volontariato\, giochi ed attività per bambini e famiglie\, mostra d’arte e caccia al tesoro\nDalle 09.00 alle 19.00 – Viale Romagnosi\, Viale Berenini e Parco Corazza\nA cura delle associazioni della Consulta del Volontariato \nPasseggiata sulle colline di Tabiano\nDalle 09.00 alle 12.00\nInfo e prenotazioni ABI Tabiano \n3° Torneo provinciale di Burraco\nDalle 10.00 alle 19.00 – Corte Civica Tommasini\nA cura di Burraco ASD \nL’impegno di tanti per la tutela di tutti\nEsercitazioni e simulazioni\nDalle 09.30 alle 18.00 – Largo Roma\nA cura di Pubblica Assistenza\, Protezione Civile Favalesi e PROCIV ARCI \nSan Vitale in musica\nConcerto Armonie Ensemble\nOre 10.00 – Gazebo di Viale Romagnosi \nConcerto Complesso Bandistico città di Salsomaggiore\nOre 16.00 – Gazebo di Viale Romagnosi\nA cura del Complesso Bandistico Città di Salsomaggiore ed Armonie aps \nFiabe per bambini: lettura animata\nOre 15.00 – Piazza Libertà e Viale Romagnosi\nA cura di Ascom \nLady Oscar e la corte di Versailles\nTutto il giorno – vie del Centro Storico\nA cura di Ascom e Noblesse oblige \nEsibizione di Danza\nOre 16.00 – Palazzina Warowland\nA cura di Ascom \nLUNEDÌ 27 APRILE\nTributo ai Nomadi\nOre 21.00 – Cinema Odeon\nA cura di ProLoco Salsomaggiore Terme \nMARTEDÌ 28 APRILE\nRassegna espositiva con creativi\, artigianato ed hobbisti \nDalle 09.00 alle18.00 – Viale Berenini e Viale Romagnosi\nA cura di ProLoco Salsomaggiore Terme \nSan Vitale: una chiesa\, una storia\nMostra fotografica e documentale\nDalle ore 15.00 alle ore 18.00 – Palazzina Warowland\nA cura di 365 Volte Donna\, circolo Zoom e TST Terme Salsomaggiore e Tabiano \nLibri con le ruote \nLetture animate per bambini\nOre 16.00 – Parco Mazzini\nA cura di Coworking Salsomaggiore \nSanta messa solenne in celebrazione del Santo Patrono\nOre 18.00 – Chiesa di San Vitale\nPresieduta da S.E. il Vescovo di Fidenza Mons. Ovidio Vezzoli \nTutti in coro – Terza edizione\nOre 21.00 – Corte Civica Tommasini\nA cura di Armonie aps\, ProLoco Salsomaggiore\, Amici di Salsomaggiore \nSABATO 02 MAGGIO\nBici in comune – El Diablo on tour\nItinerario cicloturistico guidato con Claudio Chiappucci\nOre 08.30 – partenza da via Partigiani salsesi\nInfo e prenotazioni: info@emilialand.com \nRassegna espositiva con creativi\, artigianato ed hobbisti \nDalle 09.00 alle18.00 – Viale Berenini e Viale Romagnosi\nA cura di ProLoco Salsomaggiore Terme \n“Le muse di Leonardo”\nConferenza con lo storico d’arte Simone Fappanni – “Milano\, la corte sforzesca e l’enigma dei sorriso”\nOre 16.30 – Corte Civica Tommasini\nA cura di 365 Volte Donna \nConcerto Complesso Bandistico Città di Fidenza\nOre 17.00 – piazza Verdi\, Tabiano\nA cura di Abi Tabiano \nDOMENICA 03 MAGGIO\nSan Vitale tra sacro e profano\nConferenza con Roberto Mancuso\nOre 17.00 – Palazzina Warowland\nA cura di 365 Volte Donna\, Circolo Zoom e Amici di Salsomaggiore \nDAL 17 AL 19 APRILE\nCampionato nazionale preagonisti FESIK\nPalazzetto dello Sport \nDAL 24 AL 26 APRILE\nBridge – Campionato nazionale allievi coppie\nPalazzo dei Congressi \nDAL 27 APRILE AL 03 MAGGIO\n43° Torneo internazionale juniores di tennis Bayer Salsomaggiore Terme\nTennis Club Salsomaggiore \nDAL 29 APRILE AL 03 MAGGIO\nBridge – Coppa Italia mista finale nazionale\nPalazzo dei Congressi \nMUSEO MARE ANTICO E BIODIVERSITA’ (MUMAB)\nPer informazioni e prenotazioni: 0524 583595 / mumab@millepioppi.it \n”Questa primavera…che splendida cornice” – Lettura animata e laboratorio\n19 aprile – ore 16.00 – per famiglie con bambini dai 3 ai 6 anni \nMusteli…chi? – laboratorio\n26 aprile – ore 15.00 – per bambini dai 6 ai 12 anni \nStormi\, banchi e branchi: come stanno insieme gli animali – laboratorio\n3 maggio – ore 15.00 – per bambini dai 6 ai 12 anni \nLaboratorio microscopi\nMercoledì e venerdì – ore 17.30\nsabato e domenica – ore 18.00 \nVisite guidate\nMercoledì e venerdì – ore 15.00 e 16.30\nsabato e domenica – ore 10.00\, 11.30 e 17.00 \nEscursione\nSabato e domenica – ore 15.00 (esclusi 26 aprile e 03 maggio) \nCASTELLI DEL DUCATO\nCASTELLO DI CONTIGNACO\nPer informazioni e prenotazioni: 320 6126425 / 320 6066721 / 320 6126424 / 0524 573287 / info@castellodicontignaco.it / www.castellodicontignaco.it \nCaccia al tesoro in Castello\n18/19/24/25/26 aprile e 1/2/3 maggio – ore 10.45 e ore 15.00 \nCalici in castello: aperitivi e degustazioni\n18/19/24/25/26 aprile e 1/2/3 maggio – mezzodì\, pomeriggio e sera \nLa magia e gli enigmi della notte: visita guidata con escape castle\n18/19/24/25/26 aprile e 1/2/3 maggio – ore 11.15\, 15.30\, 17.30 e 21.00 \nCASTELLO DI SCIPIONE\nPer informazioni e prenotazioni: 0524 572381 / info@castellodiscipione.it /www.castelloditabiano.com www.castellodiscipione.it \nAlla scoperta dei profumi del giardino del Castello di Scipione Pallavicino\nSabato/ domenica e festivi – orari di apertura del Castello \nCASTELLO DI TABIANO\nPer informazioni e prenotazioni: www.castelloditabiano.com – info@castelloditabiano.com \nVisite guidate\nGiorni di apertura del castello – su prenotazione \n  \nFonte testo: https://visitsalsomaggiore.it
URL:https://tabianoterme.it/event/salsomaggiore-gran-fiera-san-vitale-2026/
LOCATION:Salsomaggiore Terme\, Parma\, 43039\, Italia
CATEGORIES:Arte e Cultura,Bambini e famiglie,Incontro,Intrattenimento
ATTACH;FMTTYPE=image/jpeg:https://tabianoterme.it/wp-content/uploads/2026/04/Terme-Berzieri.jpg
END:VEVENT
END:VCALENDAR