BEGIN:VCALENDAR
VERSION:2.0
PRODID:-//Tabiano terme - ECPv6.15.11//NONSGML v1.0//EN
CALSCALE:GREGORIAN
METHOD:PUBLISH
X-ORIGINAL-URL:https://tabianoterme.it
X-WR-CALDESC:Eventi per Tabiano terme
REFRESH-INTERVAL;VALUE=DURATION:PT1H
X-Robots-Tag:noindex
X-PUBLISHED-TTL:PT1H
BEGIN:VTIMEZONE
TZID:Europe/Rome
BEGIN:DAYLIGHT
TZOFFSETFROM:+0100
TZOFFSETTO:+0200
TZNAME:CEST
DTSTART:20240331T010000
END:DAYLIGHT
BEGIN:STANDARD
TZOFFSETFROM:+0200
TZOFFSETTO:+0100
TZNAME:CET
DTSTART:20241027T010000
END:STANDARD
BEGIN:DAYLIGHT
TZOFFSETFROM:+0100
TZOFFSETTO:+0200
TZNAME:CEST
DTSTART:20250330T010000
END:DAYLIGHT
BEGIN:STANDARD
TZOFFSETFROM:+0200
TZOFFSETTO:+0100
TZNAME:CET
DTSTART:20251026T010000
END:STANDARD
BEGIN:DAYLIGHT
TZOFFSETFROM:+0100
TZOFFSETTO:+0200
TZNAME:CEST
DTSTART:20260329T010000
END:DAYLIGHT
BEGIN:STANDARD
TZOFFSETFROM:+0200
TZOFFSETTO:+0100
TZNAME:CET
DTSTART:20261025T010000
END:STANDARD
BEGIN:DAYLIGHT
TZOFFSETFROM:+0100
TZOFFSETTO:+0200
TZNAME:CEST
DTSTART:20270328T010000
END:DAYLIGHT
BEGIN:STANDARD
TZOFFSETFROM:+0200
TZOFFSETTO:+0100
TZNAME:CET
DTSTART:20271031T010000
END:STANDARD
END:VTIMEZONE
BEGIN:VEVENT
DTSTART;TZID=Europe/Rome:20251004T103000
DTEND;TZID=Europe/Rome:20260405T190000
DTSTAMP:20260421T054900
CREATED:20250908T085723Z
LAST-MODIFIED:20250908T085723Z
UID:13677-1759573800-1775415600@tabianoterme.it
SUMMARY:JEFF KOONS Balloons & Wonders
DESCRIPTION:La personale JEFF KOONS — Balloons & Wonders trasforma Palazzo Bertamini Lucca in un sorprendente teatro di riflessi: superfici cromate\, forme monumentali e colori che interrogano il rapporto tra oggetto\, spettatore e spazio. \nCurata da Luca Bravo e prodotta da Deodato Arte in collaborazione con il Comune di Fiorenzuola d’Arda\, la mostra raccoglie opere emblematiche — dalle Balloon series ai Gazing Ball fino alla serie Antiquity — in un percorso pensato per stupire\, coinvolgere e instaurare un dialogo tra contemporaneo e tradizione. \nVisitare la mostra significa lasciarsi catturare da un’esperienza sensoriale in cui il riflesso diventa racconto: lo spettatore si trova dentro l’opera e\, allo stesso tempo\, dentro la città che la ospita: Fiorenzuola d’Arda. \nAccanto all’esposizione principale\, il programma prevede visite guidate\, attività educational per le scuole e eventi pubblici che animeranno Palazzo Bertamini Lucca per l’intero periodo espositivo. \nPer informazioni su orari\, biglietti e calendario eventi segui il sito e i canali ufficiali di Fiorenzuola Eventi su Facebook e Instagram: aggiornamenti e approfondimenti saranno pubblicati regolarmente. \n 
URL:https://tabianoterme.it/event/jeff-koons-balloons-wonders/
LOCATION:Palazzo Bertamini Lucca\, Corso Garibaldi 11\, Fiorenzuola d'Arda
CATEGORIES:Bambini e famiglie,Mostra,Museo
ATTACH;FMTTYPE=image/png:https://tabianoterme.it/wp-content/uploads/2025/09/POST-IG-mostra.pdf-Post-Instagram-45.png
ORGANIZER;CN="Fiorenzuola Eventi":MAILTO:koons@fiorenzuolaeventi.it
END:VEVENT
BEGIN:VEVENT
DTSTART;TZID=Europe/Rome:20251122T100000
DTEND;TZID=Europe/Rome:20260412T190000
DTSTAMP:20260421T054900
CREATED:20250825T092611Z
LAST-MODIFIED:20260219T153340Z
UID:13570-1763805600-1776020400@tabianoterme.it
SUMMARY:Steve McCurry. In viaggio attraverso le fotografie di McCurry
DESCRIPTION:Steve McCurry non è soltanto uno dei più grandi maestri della fotografia contemporanea\, pluripremiato con il prestigioso World Press Photo Award – spesso considerato il “Premio Nobel” della fotografia –\, ma continua ad essere un punto di riferimento per un vastissimo pubblico\, specialmente tra i giovani. Nelle sue immagini\, molti riconoscono un modo unico di guardare il mondo e\, in qualche modo\, se stessi. \nDal 22 novembre 2025 al 12 aprile 2026\, Steve McCurry sarà protagonista a Parma con una grande mostra allestita a Palazzo Pigorini\, nei suggestivi spazi del primo e secondo piano. A curare l’esposizione sarà Biba Giacchetti\, profonda conoscitrice del lavoro di McCurry. Le fotografie non seguiranno un criterio cronologico o geografico\, ma saranno accostate per affinità di soggetti\, emozioni e atmosfere\, cercando quei fili invisibili che legano persone e luoghi\, anche lontanissimi tra loro. \nL’allestimento evoca quel senso profondo di umanità che si respira in ogni scatto di McCurry. In mostra non mancheranno le sue immagini più celebri\, come l’indimenticabile ritratto della ragazza afghana\, fotografie realizzate in oltre quarant’anni di carriera: scatti intensi dal Sud-Est asiatico\, dalla Cina\, dal Sud America e da molte altre parti del mondo. Ogni volto ritratto da McCurry è un concentrato di storie\, emozioni\, dolore\, speranza\, paura e bellezza. «Ho imparato a essere paziente. Se aspetti abbastanza\, le persone dimenticano la macchina fotografica e la loro anima comincia a librarsi verso di te»\, racconta il fotografo. \n 
URL:https://tabianoterme.it/event/steve-mccurry-in-viaggio-attraverso-le-fotografie-di-mccurry/
LOCATION:Palazzo Pigorini\, Strada della Repubblica 29/A\, Parma\, 43121
CATEGORIES:Arte e Cultura,Mostra,Museo
ATTACH;FMTTYPE=image/webp:https://tabianoterme.it/wp-content/uploads/2025/08/mostra-steve-mccurry-firenze-800x534.jpeg.webp
ORGANIZER;CN="Comune di Parma":MAILTO:052140521@comune.parma.it
END:VEVENT
BEGIN:VEVENT
DTSTART;TZID=Europe/Rome:20260214T093000
DTEND;TZID=Europe/Rome:20260531T200000
DTSTAMP:20260421T054900
CREATED:20260219T152406Z
LAST-MODIFIED:20260219T152516Z
UID:14324-1771061400-1780257600@tabianoterme.it
SUMMARY:100 ANNI DI RIFLESSI – Gli impressionisti da MONET a BONNARD
DESCRIPTION:La mostra “Impressionisti – 100 anni di riflessi. Gli Impressionisti da Monet a Bonnard”\, allestita a Palazzo Tarasconi di Parma dal 14 febbraio al 31 maggio 2026\, offre un’occasione unica per immergersi nel cuore di un movimento che ha rivoluzionato il modo di vedere\, sentire e rappresentare la realtà. \nIl percorso espositivo conduce il pubblico attraverso un viaggio ricco e articolato tra i grandi protagonisti dell’Impressionismo: Claude Monet\, Alfred Sisley\, Vincent van Gogh\, Giovanni Boldini\, Paul César Helleu\, Eugène Isabey\, Antoine Guillemet fino a Pierre Bonnard e agli artisti che ne hanno raccolto e sviluppato l’eredità. \nAccanto ai maestri del movimento\, la mostra presenta anche le opere degli artisti della Scuola di Barbizon – Corot\, Rousseau\, Daubigny\, Millet – figure fondamentali per la nascita della nuova sensibilità paesaggistica che avrebbe poi dato slancio all’Impressionismo.
URL:https://tabianoterme.it/event/100-anni-di-riflessi-gli-impressionisti-da-monet-a-bonnard/
LOCATION:Palazzo Tarasconi\, via Farini\, 37\, Parma\, 43100
CATEGORIES:Arte e Cultura,Cultura,Museo
ATTACH;FMTTYPE=image/png:https://tabianoterme.it/wp-content/uploads/2026/02/impressionisti-parma-post-03-768x960-1.png
END:VEVENT
BEGIN:VEVENT
DTSTART;VALUE=DATE:20260301
DTEND;VALUE=DATE:20260330
DTSTAMP:20260421T054900
CREATED:20260225T092823Z
LAST-MODIFIED:20260225T092823Z
UID:14425-1772323200-1774828799@tabianoterme.it
SUMMARY:Il tempo delle Donne
DESCRIPTION:Dal 1 al 29 Marzo\, nella città di Salsomaggiore Terme\, si terrano una serie di eventi dedicati alla figura femminile; un mese interamente dedicato alle Donne che unisce musica\, cultura\, sport e tante attività da svolgere insieme alla comunità. \nDi seguito l’elenco degli eventi: \n\nDomenica 1 marzo\, ore 16:00\, presso la Corte Civica Tommasini. “‘Voci di Donna: passioni\, destini e libertà’ nell’opera lirica” I musici di Parma in concerto.\nSabato 7 marzo\, ore 16:30 Corte Civica Tommasini. “Quando i fiori avranno tempo per me” dialogo con l’autrice Sara Gambazza.\nDomenica 15 marzo\, ore 16:30 Corte Civica Tommasini. “C’era una donna…” performance teatrale Le Mine vaganti.\nVenerdì 20 marzo\, ore 10:30 Corte Civica Tommasini. “Talento e Tenacia: le Donne che costruiscono il futuro” Amalia Ercoli Finzi.\nSabato 21 marzo\, ore 16:30 Corte Civica Tommasini. “Io sono Beatrice che ti faccio andare” Dante e le Donne\, viaggio nell’universo Dantesco con Francesco Gallina.\nDomenica 22 marzo\, ore 16:30 Corte Civica Tommasini. “Fiorire sempre: storie di resilienza femminile” Accademia di danza Il Camaleonte e mostra fotografica progetto Rebels.\nDomenica 29 marzo\, ore 16:30 Corte Civica Tommasini. “Le muse di Leonardo” incontro con Simone Fappanni.\n\n 
URL:https://tabianoterme.it/event/il-tempo-delle-donne/
LOCATION:Corte Civica Tommasini\, Viale Filippo Corridoni 1\, Salsomaggiore Terme\, Italia\, 43039\, Italia
CATEGORIES:Arte e Cultura,Concerto,Festa,Intrattenimento
ATTACH;FMTTYPE=image/jpeg:https://tabianoterme.it/wp-content/uploads/2026/02/IMG_20260223_145344371-scaled.jpg
ORGANIZER;CN="365 Volte Donna":MAILTO:365voltedonna@gmail.com
END:VEVENT
BEGIN:VEVENT
DTSTART;TZID=Europe/Rome:20260302T073000
DTEND;TZID=Europe/Rome:20260329T120000
DTSTAMP:20260421T054900
CREATED:20260126T085226Z
LAST-MODIFIED:20260126T085226Z
UID:14229-1772436600-1774785600@tabianoterme.it
SUMMARY:STAGIONE TERMALE 2026 - Riapertura Stabilimento Respighi
DESCRIPTION:Dal 2 marzo al 29 marzoApertura dal lunedì al sabato dalle 7.30 alle 12.00.Domenica chiuso.
URL:https://tabianoterme.it/event/stagione-termale-2026-riapertura-stabilimento-respighi/
LOCATION:Istituto Termale Respighi\, Viale alle Terme\, Tabiano Terme
CATEGORIES:Bambini e famiglie,Salute e benessere
ATTACH;FMTTYPE=image/png:https://tabianoterme.it/wp-content/uploads/2026/01/le-nostre-terme-sono-regolarmente-aperte.png
ORGANIZER;CN="Terme di Tabiano":MAILTO:info@termest.it
END:VEVENT
BEGIN:VEVENT
DTSTART;TZID=Europe/Rome:20260315T070000
DTEND;TZID=Europe/Rome:20260315T150000
DTSTAMP:20260421T054900
CREATED:20260304T115735Z
LAST-MODIFIED:20260304T115735Z
UID:14476-1773558000-1773586800@tabianoterme.it
SUMMARY:Randonnée delle Valli Parmensi
DESCRIPTION:Randonnée delle Valli Parmensi \n12ª Edizione – Domenica 15 Marzo \nDodici anni non sono pochi. \nSono l’età delle domande importanti. \nQuelle che non chiedono risposte immediate\, ma direzione. \nLa Valli Parmensi entra nel suo dodicesimo anno e continua a scegliere la stessa cosa: attraversare un territorio senza consumarlo\, pedalare senza inseguire il cronometro\, fermarsi dove la storia ha lasciato tracce. \nQuattro proposte\, quattro distanze\, un’unica identità: \n\n200 km – Randonnée dei Castelli\n160 km – Granfondo Cicloturistica del Ducato\n120 km – Mediofondo del Principe\n80 km – Giro della Duchessa\n\n  \nNon si tratta di scegliere quanto essere forti. \nSi tratta di scegliere quanto tempo dedicare al viaggio. \nRitrovo: ore 7.00 a Lemignano di Collecchio \nPartenza alla francese: dalle 08:00 alle 09:30 \nLa partecipazione è aperta anche ai non tesserati\, purché muniti di certificato medico sportivo in corso di validità. \n  \nIl Percorso \nLemignano\, ore 8.00. \nSi parte quando l’aria è ancora fresca e le gambe non hanno ancora espresso un giudizio. Non è una fuga. È un attraversamento. \nSi entra a Parma in punta di pedale. Parco Ducale\, Pilotta\, Piazza Duomo. La città osserva con la sua eleganza discreta. Il Battistero in marmo rosa riflette la luce del mattino\, l’orologio di Piazza Garibaldi segna il tempo di tutti. Noi scegliamo il nostro. \nFuori città la strada si distende verso Montechiarugolo. Il castello domina l’Enza come se custodisse ancora confini medievali. Qui si racconta della fata Bema: nessuno l’ha mai vista\, ma nessuno ha mai sentito il bisogno di smentirla. \nSi entra nel reggiano. La Salita del Sorriso\, dedicata a Michele Scarponi\, ricorda che anche la fatica può avere un significato. Rossena appare improvvisa\, verticale e austera. Poi Canossa. Nel 1077 un imperatore attese giorni sotto la neve per ottenere il perdono. Noi ci fermiamo per riprendere fiato. La storia cambia\, la pazienza resta. \nSi prosegue verso Bianello\, poi verso Torrechiara\, costruita da Pier Maria Rossi per Bianca Pellegrini: un castello nato per amore più che per difesa. La salita di Casatico rimette ordine nei pensieri. A Felino il castello è compatto\, concreto\, come la terra che lo circonda. \nIl passaggio al Caseificio Bertinelli introduce un’altra forma di tempo. Le forme di Parmigiano maturano lentamente\, ricordando che alcune cose non possono essere accelerate. \nPoi Tabiano\, sentinella dell’XI secolo\, affacciato sulla valle. Da qui si scende verso Salsomaggiore Terme\, e l’atmosfera cambia. Le Terme Berzieri\, capolavoro liberty dai mosaici dorati e dalle linee orientali\, raccontano l’epoca in cui qui si veniva a curare il corpo e l’inquietudine. Oggi ci passiamo in bicicletta\, ma l’intento non è così diverso: rigenerarsi. \nSi entra nel piacentino. Vigoleno è un borgo che sembra rimasto in equilibrio tra mura e silenzio. La Val Stirone accompagna fino a Pellegrino Parmense e al Valico di Case d’Asta. Qui la strada non concede metafore: sale\, e basta. \nLa discesa verso Varano Melegari è ampia e liberatoria. Il castello\, nato per resistere più che per decorare\, accoglie con solidità. \nDa lì si rientra verso Collecchio e poi verso l’arrivo. Gli ultimi chilometri mescolano stanchezza e soddisfazione. La Randonnée non è una gara. È una linea che unisce pianura\, colline e memoria. \nChi la percorre non vince nulla. \nMa porta via qualcosa. \nI Ristori \nI ristori saranno collocati nei luoghi simbolo del percorso: \n\nCanossa\nTorrechiara\nFelino\nCaseificio Bertinelli\nTabiano\nVigoleno\nVarano Melegari\n\nNon semplici punti di approvvigionamento\, ma veri momenti di convivialità. \nSono il biglietto da visita della nostra Randonnée: il modo più diretto per raccontare chi siamo. \nTra mura medievali e colline\, la sosta diventa incontro. Si mangia insieme\, si scambiano impressioni\, si condivide fatica e strada. \nAd attendere i partecipanti\, prodotti tipici del territorio: Parmigiano Reggiano\, Prosciutto di Parma\, Salame di Felino\, vini locali e specialità emiliane\, serviti con la sobrietà e l’autenticità che contraddistinguono queste valli. \nPerché qui il ristoro non interrompe il viaggio. \nLo completa.
URL:https://tabianoterme.it/event/randonnee-delle-valli-parmensi/
LOCATION:PR
CATEGORIES:Outdoor
ATTACH;FMTTYPE=image/jpeg:https://tabianoterme.it/wp-content/uploads/2026/03/Volantino2-2026-1.jpg
ORGANIZER;CN="Comune di Parma":MAILTO:052140521@comune.parma.it
END:VEVENT
BEGIN:VEVENT
DTSTART;TZID=Europe/Rome:20260315T150000
DTEND;TZID=Europe/Rome:20260315T173000
DTSTAMP:20260421T054900
CREATED:20260302T113138Z
LAST-MODIFIED:20260302T113138Z
UID:14447-1773586800-1773595800@tabianoterme.it
SUMMARY:Biologi per un giorno
DESCRIPTION:Esploriamo lo stagno del MuMAB \nCome ogni anno a marzo lo stagno didattico del MuMAB torna a popolarsi di vita! \nEsploreremo insieme questo piccolo ecosistema per osservare chi lo abita\, tra insetti acquatici\, rane\, tritoni e molto altro.\nMa cosa fanno davvero i biologi che lavorano per la conservazione della biodiversità? Dotati di veri strumenti da laboratorio\, ci trasformeremo in ricercatori per un pomeriggio! \nAdatto a bambini dai 6 agli 12 anni\, senza la presenza di un adulto
URL:https://tabianoterme.it/event/biologi-per-un-giorno/
LOCATION:MuMAB- Museo Mare Antico e Biodiversità\, Podere Millepioppi\, Salsomaggiore Terme\, PR\, 43039\, Italia
CATEGORIES:Bambini e famiglie,Camminata,Museo,Outdoor
ATTACH;FMTTYPE=image/png:https://tabianoterme.it/wp-content/uploads/2026/03/15-marzo-biologi-per-un-giorno-1024x577-1.png
ORGANIZER;CN="MuMAB - Museo Mare Antico e Biodiversit%C3%A0":MAILTO:mumab@millepioppi.it
END:VEVENT
END:VCALENDAR