BEGIN:VCALENDAR
VERSION:2.0
PRODID:-//Tabiano terme - ECPv6.15.11//NONSGML v1.0//EN
CALSCALE:GREGORIAN
METHOD:PUBLISH
X-WR-CALNAME:Tabiano terme
X-ORIGINAL-URL:https://tabianoterme.it
X-WR-CALDESC:Eventi per Tabiano terme
REFRESH-INTERVAL;VALUE=DURATION:PT1H
X-Robots-Tag:noindex
X-PUBLISHED-TTL:PT1H
BEGIN:VTIMEZONE
TZID:Europe/Rome
BEGIN:DAYLIGHT
TZOFFSETFROM:+0100
TZOFFSETTO:+0200
TZNAME:CEST
DTSTART:20210328T010000
END:DAYLIGHT
BEGIN:STANDARD
TZOFFSETFROM:+0200
TZOFFSETTO:+0100
TZNAME:CET
DTSTART:20211031T010000
END:STANDARD
BEGIN:DAYLIGHT
TZOFFSETFROM:+0100
TZOFFSETTO:+0200
TZNAME:CEST
DTSTART:20220327T010000
END:DAYLIGHT
BEGIN:STANDARD
TZOFFSETFROM:+0200
TZOFFSETTO:+0100
TZNAME:CET
DTSTART:20221030T010000
END:STANDARD
BEGIN:DAYLIGHT
TZOFFSETFROM:+0100
TZOFFSETTO:+0200
TZNAME:CEST
DTSTART:20230326T010000
END:DAYLIGHT
BEGIN:STANDARD
TZOFFSETFROM:+0200
TZOFFSETTO:+0100
TZNAME:CET
DTSTART:20231029T010000
END:STANDARD
END:VTIMEZONE
BEGIN:VEVENT
DTSTART;VALUE=DATE:20220630
DTEND;VALUE=DATE:20220902
DTSTAMP:20260421T143252
CREATED:20220622T083313Z
LAST-MODIFIED:20220622T083313Z
UID:10383-1656547200-1662076799@tabianoterme.it
SUMMARY:Penny Ice Cream – Gelato artigianale e visita notturna al Castello di Tabiano
DESCRIPTION:Giovedì 30 giugno 2022\nGiovedì 14 luglio 2022\nGiovedì 4 e giovedì 18 agosto 2022\nGiovedì 1 settembre 2022 \nOre 21\,30 \nDegustazione del gelato artigianale della Pasticceria Gatti di Tabiano sulle terrazze\, visita delle cantine e dei saloni affrescati illuminati per conoscere le tante storie dei personaggi del Castello\, come Carlo Gatti il Re del ghiaccio. \nLa prenotazione è obbligatoria tramite il sito https://www.castelloditabiano.com/calendar. \nLa manifestazione si svolge anche in caso di mal tempo \nCosto della manifestazione:\nAdulti: € 17\,00\nBambini da 5 anni a 12 anni: € 10\,00\nGratuito: bambini fino ai 5 anni non compiuti \nNumeri telefonici\, mail e sito internet per informazioni:\nTel. 348 8955378 – e-mail: info@castelloditabiano.com – www.castelloditabiano.com \nFonte testo: www.castellidelducato.it
URL:https://tabianoterme.it/event/penny-ice-cream-gelato-artigianale-e-visita-notturna-al-castello-di-tabiano/
LOCATION:Castello di Tabiano\, Via Castello\, Salsomaggiore Terme\, 43039
CATEGORIES:Cultura,Enogastronomia,Food,Visita guidata
ATTACH;FMTTYPE=image/jpeg:https://tabianoterme.it/wp-content/uploads/2022/06/288230866_5248924985130273_7281888213693675638_n.jpeg
ORGANIZER;CN="Castello di Tabiano":MAILTO:info@castelloditabiano.com
END:VEVENT
BEGIN:VEVENT
DTSTART;TZID=Europe/Rome:20220825T173000
DTEND;TZID=Europe/Rome:20220825T193000
DTSTAMP:20260421T143252
CREATED:20220809T094055Z
LAST-MODIFIED:20220809T094055Z
UID:10723-1661448600-1661455800@tabianoterme.it
SUMMARY:Aperitivo in musica a Tabiano
DESCRIPTION:Aperitivo per i bar di Tabiano in compagnia della musica dal vivo di Marco Battaini. A partire dalle 17:30 fino alle 19:30 tanta bella musica e tanto divertimento. Segnati subito queste date! \nGiovedì 11 agosto – Roxy Bar \nDomenica 14 agosto – Pasticceria Tabiano di Gatti \nVenerdì 19 agosto – Roxy Bar \nGiovedì 25 agosto – Pasticceria Tabiano di Gatti \nSabato 27 agosto – Roxy Bar \nVenerdì 2 settembre – Pasticceria Tabiano di Gatti \nVenerdì 9 settembre – Roxy Bar
URL:https://tabianoterme.it/event/aperitivo-in-musica-a-tabiano-4/
LOCATION:Tabiano Terme
CATEGORIES:Enogastronomia,Musica
ATTACH;FMTTYPE=image/jpeg:https://tabianoterme.it/wp-content/uploads/2022/08/286581267_2160811957432478_8519003600416177586_n.jpg
ORGANIZER;CN="Consorzio Abitabiano":MAILTO:info@tabianoterme.it
END:VEVENT
BEGIN:VEVENT
DTSTART;TZID=Europe/Rome:20220825T203000
DTEND;TZID=Europe/Rome:20220825T223000
DTSTAMP:20260421T143252
CREATED:20220629T103905Z
LAST-MODIFIED:20220630T091534Z
UID:10562-1661459400-1661466600@tabianoterme.it
SUMMARY:Camminata sotto le stelle sulle colline di Tabiano
DESCRIPTION:Una camminata sotto le stelle sulle colline di Tabiano accompagnati da EVA – Gruppo Esploratori Val d’Arda. \nGiovedì 25 Agosto \nPartenza ore 20.30 da Piazza Verdi\, Tabiano\nAttività dedicata a chi ha buona propensione alla camminata in salita.\nSono richieste scarpe da ginnastica con suola scolpita oppure da trekking\, torcia\, bottiglietta d’acqua e repellente per insetti. \n(prenotazione obbligatoria entro le ore 12.00 del giorno precedente 0524 565742 – info@tabianoterme.it) \nCosto: 5\,00€ da versare alla guida
URL:https://tabianoterme.it/event/camminata-sotto-le-stelle-sulle-colline-di-tabiano-5/
LOCATION:Tabiano Terme
ATTACH;FMTTYPE=image/jpeg:https://tabianoterme.it/wp-content/uploads/2022/06/232587391_1919864338193909_4333623338042630261_n.jpg
ORGANIZER;CN="Consorzio Abitabiano":MAILTO:info@tabianoterme.it
END:VEVENT
BEGIN:VEVENT
DTSTART;TZID=Europe/Rome:20220825T210000
DTEND;TZID=Europe/Rome:20220825T210000
DTSTAMP:20260421T143252
CREATED:20220630T131837Z
LAST-MODIFIED:20220630T131837Z
UID:10632-1661461200-1661461200@tabianoterme.it
SUMMARY:Fidenza Village Sound Festival: Catherine Poulain e Pollyandpamy
DESCRIPTION:Giovedì 25 agosto\nPalco principale Ore 21.00: \nCatherine Poulain e Pollyandpamy \nOpening DJ Carloalberto \nPostazione EST DJ set  Dalle 18.30: \nDJ Turquoise Tortoise \nPostazione OVEST DJ set  Dalle 18.30: \nDJ Red Jack \nIngresso gratuito\, fino esaurimento posti. \nPollyandpam\nPaola e Pamela Ameyibor alias @pollyandpamy sono gemelle nate in Italia\, a Lecco\, con la passione per la musica. Diventate famose per il loro sound unico\, nel 2019\, la loro prima apparizione nella campagna riservata con Kendall Jenner. Da allora il profilo è in crescita e le loro performance sempre più ricercate. \nFonte testo: fidenzavillage.it 
URL:https://tabianoterme.it/event/fidenza-village-sound-festival-catherine-poulain-e-pollyandpamy/
LOCATION:Fidenza village\, Via Federico Fellini\, 1\, Fidenza\, PR\, 43036\, Italia
CATEGORIES:Concerto,Festival,Musica
ATTACH;FMTTYPE=image/jpeg:https://tabianoterme.it/wp-content/uploads/2022/06/official_cat_web8.jpg
ORGANIZER;CN="fidenza village":MAILTO:freception@valueretail.com
END:VEVENT
END:VCALENDAR