BEGIN:VCALENDAR
VERSION:2.0
PRODID:-//Tabiano terme - ECPv6.15.11//NONSGML v1.0//EN
CALSCALE:GREGORIAN
METHOD:PUBLISH
X-WR-CALNAME:Tabiano terme
X-ORIGINAL-URL:https://tabianoterme.it
X-WR-CALDESC:Eventi per Tabiano terme
REFRESH-INTERVAL;VALUE=DURATION:PT1H
X-Robots-Tag:noindex
X-PUBLISHED-TTL:PT1H
BEGIN:VTIMEZONE
TZID:Europe/Rome
BEGIN:DAYLIGHT
TZOFFSETFROM:+0100
TZOFFSETTO:+0200
TZNAME:CEST
DTSTART:20210328T010000
END:DAYLIGHT
BEGIN:STANDARD
TZOFFSETFROM:+0200
TZOFFSETTO:+0100
TZNAME:CET
DTSTART:20211031T010000
END:STANDARD
BEGIN:DAYLIGHT
TZOFFSETFROM:+0100
TZOFFSETTO:+0200
TZNAME:CEST
DTSTART:20220327T010000
END:DAYLIGHT
BEGIN:STANDARD
TZOFFSETFROM:+0200
TZOFFSETTO:+0100
TZNAME:CET
DTSTART:20221030T010000
END:STANDARD
BEGIN:DAYLIGHT
TZOFFSETFROM:+0100
TZOFFSETTO:+0200
TZNAME:CEST
DTSTART:20230326T010000
END:DAYLIGHT
BEGIN:STANDARD
TZOFFSETFROM:+0200
TZOFFSETTO:+0100
TZNAME:CET
DTSTART:20231029T010000
END:STANDARD
END:VTIMEZONE
BEGIN:VEVENT
DTSTART;VALUE=DATE:20220625
DTEND;VALUE=DATE:20220801
DTSTAMP:20260419T165142
CREATED:20220627T094617Z
LAST-MODIFIED:20220627T094617Z
UID:10400-1656115200-1659311999@tabianoterme.it
SUMMARY:SSC&F – Salso Summer Class & Festival a Salsomaggiore Terme
DESCRIPTION:Da giugno a luglio 2022 “SSC&F – Salso Summer Class & Festival” è l’appuntamento con la grande musica classica che si svolge ogni anno in estate a Salsomaggiore Terme \nPROGRAMMA\nUn’aura amorosa\nSabato 25 giugno 2022\, ore 21:15\nPalazzo dei Congressi\, Sala delle Cariatidi\, Viale G. Romagnosi\, 7 . Salsomaggiore Terme (PR)\nCinzia Forte\, soprano – Marco Ciaponi\, tenore – Bruno Taddia\, baritono\nOrchestra I Musici di Parma\nCon gli allievi del corso biennale di direzione d’orchestra dell’Accademia della Fondazione\nI Musici di Parma del M° Daniele Agiman\nMusiche di G. Verdi\, G. Rossini\, G. Donizetti e W. A. Mozart \nLe corde dell’anima\nVenerdì 8 luglio 2022\, ore 21:15\nNuova Corte Civica Tommasini\, Viale Filippo Corridoni\, 1 . Salsomaggiore Terme (PR)\nOrchestra I Musici di Parma Con gli allievi delle classi di Violoncello e\nViolino\, Solisti \nThe Sound of Future: L’Orchestra Junior\nSabato 9 luglio 2022\, ore 21:15\nNuova Corte Civica Tommasini\, Viale Filippo Corridoni\, 1 . Salsomaggiore Terme (PR)\nI Musici di Parma con la JUNIOR ORCHESTRA del SSC&F\nMichelangelo Cagnetta Direttore\nIn Collaborazione con Milano Strings Academy \nChamber Music\nDomenica 10 luglio 2022\, ore 11:00\nNuova Corte Civica Tommasini\, Viale Filippo Corridoni\, 1 . Salsomaggiore Terme (PR)\nCon gli allievi delle classi di Violoncello e Violino \nEstri armonici\nDomenica 10 luglio 2022\, ore 21:15\nNuova Corte Civica Tommasini\, Viale Filippo Corridoni\, 1 . Salsomaggiore Terme (PR)\nOrchestra I Musici di Parma Con gli allievi della classe di Violino\, Solisti \nMelodie d’amore\nGiovedì 14 luglio 2022\, ore 21:15\nPieve Romanica di San Giovanni\, Località Contignaco . Salsomaggiore Terme (PR)\nOrchestra I Musici di Parma\nCon gli allievi delle classi di Fagotto\, Clarinetto e Violino\, Solisti\nIn collaborazione con la Rassegna “Estate delle Pievi 2022” \nChamber Music\nSabato 16 luglio 2022\, ore 18:00\nNuova Corte Civica Tommasini\, Viale Filippo Corridoni\, 1 . Salsomaggiore Terme (PR)\nCon gli allievi delle classi di Flauto e Clarinetto \nClassico romanticismo\nSabato 16 luglio 2022\, ore 21:15\nPalazzo dei Congressi\, Sala delle Cariatidi\, Viale G. Romagnosi\, 7 . Salsomaggiore Terme (PR)\nYulia Berinskaya\, Violino – Chiara Morandi\, Viola – Orchestra I Musici di Parma\nMusiche di M. Bruch e M. Ravel \nRomanze in musica\nDomenica 17 luglio 2022\, ore 21:15\nNuova Corte Civica Tommasini\, Viale Filippo Corridoni\, 1 . Salsomaggiore Terme (PR)\nOrchestra I Musici di Parma Con gli allievi della classe di Flauto\, Solisti \nChamber Music\nMercoledì 20 luglio 2022\, ore 21:15\nNuova Corte Civica Tommasini\, Viale Filippo Corridoni\, 1 . Salsomaggiore Terme (PR)\nCon gli allievi delle classi di Violino e Tromba \nFantasie musicali\nGiovedì 21 luglio 2022\, ore 21:15\nNuova Corte Civica Tommasini\, Viale Filippo Corridoni\, 1 . Salsomaggiore Terme (PR)\nOrchestra I Musici di Parma Con gli allievi delle classi di Violino e Tromba\, Solisti \nIl Titano nella musica*\nVenerdì 22 luglio 2022\, ore 21:15\nPalazzo dei Congressi\, Sala delle Cariatidi\, Viale G. Romagnosi\, 7 . Salsomaggiore Terme (PR)\nOrchestra I Musici di Parma Con gli allievi della classe di Direzione d’Orchestra\nMusiche di L. Van Beethoven e N. Paganini\n*PROVE D’ORCHESTRA APERTE AL PUBBLICO\nLa Sinfonia n. 1 in do maggiore\, Op. 21 di Ludwig van Beethoven\nLe prove dell’Orchestra I Musici di Parma con gli allievi del corso di Direzione del M° Daniele Agiman saranno aperte al pubblico nei giorni 21 e 22 luglio\, dalle ore 16\,00 alle ore 18\,00.\nPer prenotazione ingresso prove aperte al pubblico: segreteria@imusicidiparma.it \nPorgi amor\nSabato 23 luglio 2022\, ore 21:15\nPalazzo dei Congressi\, Sala delle Cariatidi\, Viale G. Romagnosi\, 7 . Salsomaggiore Terme (PR)\nOrchestra I Musici di Parma Con gli allievi del corso di Canto lirico\, Solisti \nEcco l’orrido campo\nDomenica 24 luglio 2022\, ore 11:00\nNuova Corte Civica Tommasini\, Viale Filippo Corridoni\, 1 . Salsomaggiore Terme (PR)\nPer chi non conosce l’opera\, arie e racconti da\n“Un ballo in maschera” di G. Verdi con Simon Boccanegra del “Club dei 27” \nSquilli d’ottoni\nDomenica 24 luglio 2022\, ore 21:15\nNuova Corte Civica Tommasini\, Viale Filippo Corridoni\, 1 . Salsomaggiore Terme (PR)\nOrchestra I Musici di Parma Con gli allievi delle classi di Corno e Tromba\, Solisti \nEstro e sentimento\nGiovedì 28 luglio 2022\, ore 21:15\nNuova Corte Civica Tommasini\, Viale Filippo Corridoni\, 1 . Salsomaggiore Terme (PR)\nOrchestra I Musici di Parma Con gli allievi della classe di Viola\, Solisti \nChamber Music\nDomenica 31 luglio 2022\, ore 11:00\nNuova Corte Civica Tommasini\, Viale Filippo Corridoni\, 1 . Salsomaggiore Terme (PR)\nCon gli allievi della classe di Chitarra \nLe 6 corde\nDomenica 31 luglio\, ore 21:15\nNuova Corte Civica Tommasini\, Viale Filippo Corridoni\, 1 . Salsomaggiore Terme (PR)\nOrchestra I Musici di Parma Con gli allievi della classe di Chitarra\, Solisti \nSALSO SUMMER CLASS & FESTIVAL\nTutti gli appuntamenti sono ad ingresso gratuito\, fino ad esaurimento posti \nFonte testo: VisitSalsomaggiore
URL:https://tabianoterme.it/event/sscf-salso-summer-class-festival-a-salsomaggiore-terme/
LOCATION:Salsomaggiore Terme\, Parma\, 43039\, Italia
CATEGORIES:Festival,Musica
ATTACH;FMTTYPE=image/jpeg:https://tabianoterme.it/wp-content/uploads/2022/06/14.-Concerto-di-Pasqua-3-2.jpg
ORGANIZER;CN="I Musici di Parma":MAILTO:info@imusicidiparma.it
END:VEVENT
BEGIN:VEVENT
DTSTART;VALUE=DATE:20220630
DTEND;VALUE=DATE:20220902
DTSTAMP:20260419T165142
CREATED:20220622T083313Z
LAST-MODIFIED:20220622T083313Z
UID:10383-1656547200-1662076799@tabianoterme.it
SUMMARY:Penny Ice Cream – Gelato artigianale e visita notturna al Castello di Tabiano
DESCRIPTION:Giovedì 30 giugno 2022\nGiovedì 14 luglio 2022\nGiovedì 4 e giovedì 18 agosto 2022\nGiovedì 1 settembre 2022 \nOre 21\,30 \nDegustazione del gelato artigianale della Pasticceria Gatti di Tabiano sulle terrazze\, visita delle cantine e dei saloni affrescati illuminati per conoscere le tante storie dei personaggi del Castello\, come Carlo Gatti il Re del ghiaccio. \nLa prenotazione è obbligatoria tramite il sito https://www.castelloditabiano.com/calendar. \nLa manifestazione si svolge anche in caso di mal tempo \nCosto della manifestazione:\nAdulti: € 17\,00\nBambini da 5 anni a 12 anni: € 10\,00\nGratuito: bambini fino ai 5 anni non compiuti \nNumeri telefonici\, mail e sito internet per informazioni:\nTel. 348 8955378 – e-mail: info@castelloditabiano.com – www.castelloditabiano.com \nFonte testo: www.castellidelducato.it
URL:https://tabianoterme.it/event/penny-ice-cream-gelato-artigianale-e-visita-notturna-al-castello-di-tabiano/
LOCATION:Castello di Tabiano\, Via Castello\, Salsomaggiore Terme\, 43039
CATEGORIES:Cultura,Enogastronomia,Food,Visita guidata
ATTACH;FMTTYPE=image/jpeg:https://tabianoterme.it/wp-content/uploads/2022/06/288230866_5248924985130273_7281888213693675638_n.jpeg
ORGANIZER;CN="Castello di Tabiano":MAILTO:info@castelloditabiano.com
END:VEVENT
BEGIN:VEVENT
DTSTART;VALUE=DATE:20220702
DTEND;VALUE=DATE:20220801
DTSTAMP:20260419T165142
CREATED:20220629T075417Z
LAST-MODIFIED:20220629T075417Z
UID:10536-1656720000-1659311999@tabianoterme.it
SUMMARY:Contignaco per i bambini: Favole antiche
DESCRIPTION:Caccia al tesoro alla ricerca delle morali più belle dell’antica tradizione favolistica \nLa caccia al tesoro prevede una forte interazione tra i bambini e gli adulti \, in modo da far divertire tutti quanti. \n  \nSabato 2 e domenica 3 luglio\nSabato 9 e domenica 10 luglio\nSabato 16 e domenica 17 luglio\nSabato 23 e domenica 24 luglio\nSabato 30 e domenica 31 luglio \n  \nOrari di inizio delle cacce al tesoro: mattina ore 11\, pomeriggio ore 15 e 16.30 \n  \nIl Castello di Contignaco torna a proporre una caccia al tesoro che porterà i partecipanti a riscoprire alcune delle più belle favole che da secoli nutrono l’immaginario collettivo e che hanno fatto sognare innumerevoli generazioni di fanciulli. \nI bambini\, accompagnati dai loro genitori e con tanto di mappe e “taccuino del viaggiatore” al seguito\, saranno impegnati a rincorrere una lunga catena di indizi che li condurrà a disvelare numerosi racconti\, graziosi ed edificanti\, quali Il Pastore\, Il Topo di città e il Topo di campagna\, Il Cane e l’Asino\, Le Ranocchie e il loro Re\, L’Asino e il Lupo\, La Volpe e l’uva\, Il Cane e la Volpe\, La Formica e la Cicala. \nLe favole\, come si sa\, sono brevi narrazioni con uomini\, animali\, piante o essere inanimati e racchiudono sempre un insegnamento morale\, destinato non solo ai più piccoli\, ma anche agli adulti. \nI bambini\, aiutati dai più grandi\, dovranno riuscire a individuare la morale di ogni favola che sarà loro proposta: solo così potranno concludere la caccia e giungere al dolcissimo tesoro finale! \n\nGioco ideale per bambini dai 5 ai 14 anni circa. \nPrenotazione obbligatoria. \nCosti: \nbambini dai 4 ai 14 anni € 12 \nadulti € 10. \nPer prenotare: 320.6126424 – 320.6126425 – 320.6066721 – castello.contignaco@gmail.com. \n  \nLa manifestazione si svolgerà nel rispetto degli attuali protocolli nazionali e regionali mirati al contrasto e al contenimento della diffusione del virus Covid-19. \nPer garantire la massima sicurezza\, l’intera caccia al tesoro si svolgerà all’aperto. \nDurante l’intero percorso i bambini dovranno essere accompagnati dai loro genitori. \nSi consiglia di attrezzarsi con ombrelli e stivaletti in caso di pioggia. \nInoltre… \nAl termine del gioco\, chi lo desidera potrà effettuare una visita guidata completa degli esterni e degli interni del Castello. \nLa visita si potrà anche concludere con una degustazione dei vini prodotti nelle cantine della fortezza\, durante la quale i proprietari esporranno la storia antica dell’Azienda di famiglia. \nPrenotazione obbligatoria. \nCosti:\n– visita guidata adulti € 10; bambini dai 6 ai 14 anni € 6; bambini fino ai 5 anni ingresso gratuito;\n– degustazione guidata dei vini del Castello € 18;\n– visita con degustazione € 22. \nPer prenotare: 320.6126424 – 320.6126425 – 320.6066721 – castello.contignaco@gmail.com. \nFonte testo : visitsalsomaggiore 
URL:https://tabianoterme.it/event/contignaco-per-i-bambini-favole-antiche/
LOCATION:Castello di Contignaco\, Via Contignaco Castello\, 125\, Salsomaggiore Terme\, 43039\, Italia
CATEGORIES:Bambini e famiglie
ATTACH;FMTTYPE=image/jpeg:https://tabianoterme.it/wp-content/uploads/2022/06/caccia-al-tesoro-per-bambini-contignaco.jpeg
ORGANIZER;CN="Castello di Contignaco":MAILTO:castello.contignaco@gmail.com
END:VEVENT
BEGIN:VEVENT
DTSTART;VALUE=DATE:20220702
DTEND;VALUE=DATE:20220801
DTSTAMP:20260419T165142
CREATED:20220629T080652Z
LAST-MODIFIED:20220629T080758Z
UID:10540-1656720000-1659311999@tabianoterme.it
SUMMARY:Iulius in castro\, Luglio al castello di Contignaco
DESCRIPTION:Visite guidate e degustazioni dei vini del Castello – Tra Storia e Sapori nel Castello degli Aldighieri \nSabato 2 e domenica 3 luglio\nSabato 9 e domenica 10 luglio\nSabato 16 e domenica 17 luglio\nSabato 23 e domenica 24 luglio\nSabato 30 e domenica 31 luglio \n  \nOrari di inizio delle visite guidate\, con eventuali degustazioni a seguire: mattina ore 11\, pomeriggio ore 15.30 e 17.30 \nPer il mese di luglio 2022 il Castello di Contignaco torna a proporre alcuni giorni di apertura con visite guidate accompagnate dai proprietari. \nCircondato da una suggestiva cornice paesaggistica\, il Castello si erge austero sul verde delle colline che abbracciano Salsomaggiore Terme lungo la strada che porta verso l’Appennino. \nCostruito dai Pallavicino attorno al principio del sec. XI\, nel 1315 venne conquistato dagli Aldighieri di Parma. Secondo alcune leggende anche il sommo poeta Dante Alighieri avrebbe soggiornato qui durante gli anni del suo esilio da Firenze. \nTra natura e cultura\, gli ospiti saranno accompagnati dai proprietari in una visita guidata che li condurrà a scoprire la storia del Castello e i segreti delle sue sale interne. \nLa visita\, per chi lo desiderasse\, si potrà concludere con una degustazione dei vini prodotti nelle cantine della fortezza\, durante la quale i proprietari esporranno la storia antica dell’Azienda di famiglia. \nDallo scorso giugno i vini del Castello di Contignaco sono stati accolti nella F.I.V.I. (Federazione Italiana dei Vignaioli Indipendenti)\, una grande famiglia di viticoltori che promuove la qualità e l’autenticità dei vini italiani. \n\nPer chi lo desidera\, degustazione con assaggi di cinque dei vini di Contignaco\, tutti prodotti con metodi antichi che esaltano il sapore della tradizione locale: il Bianco Ignatius\, il Bianco Contignaci Turris\, il Bianco Gemma\, il Bianco del Conte\, il Rosso del Sasso\, il Rosso del Rio dei Predoni\, il Rosso Rubeum Durantis\, il Rosso Durante. \nSarà anche possibile acquistare il Parmigiano Reggiano prodotto dall’Azienda Agricola del Castello\, ottenuto con vacche di razza Bruna Alpina\, il cui latte\, ricco di proteine\, si contraddistingue per la qualità superiore rispetto a quello delle Frisone. \nPrenotazione obbligatoria. \nCosti:\n– visita guidata adulti € 10; bambini dai 6 ai 14 anni € 6; bambini fino ai 5 anni ingresso gratuito;\n– degustazione guidata dei vini del Castello € 18;\n– visita con degustazione € 22. \nPer prenotare: 320.6126424 – 320.6126425 – 320.6066721 – castello.contignaco@gmail.com. \n\nLe aperture si svolgeranno nel rispetto degli attuali protocolli nazionali e regionali mirati al contrasto e al contenimento della diffusione del virus Covid-19. \nFonte testo: visitsalsomaggiore
URL:https://tabianoterme.it/event/iulius-in-castro-luglio-al-castello-di-contignaco/
LOCATION:Castello di Contignaco\, Via Contignaco Castello\, 125\, Salsomaggiore Terme\, 43039\, Italia
CATEGORIES:Arte e Cultura,Enogastronomia,Visita guidata
ATTACH;FMTTYPE=image/jpeg:https://tabianoterme.it/wp-content/uploads/2022/06/Calice-Tramonto-min-scaled-1.jpg
ORGANIZER;CN="Castello di Contignaco":MAILTO:castello.contignaco@gmail.com
END:VEVENT
BEGIN:VEVENT
DTSTART;TZID=Europe/Rome:20220715T210000
DTEND;TZID=Europe/Rome:20220715T230000
DTSTAMP:20260419T165142
CREATED:20220627T144539Z
LAST-MODIFIED:20220630T085014Z
UID:10449-1657918800-1657926000@tabianoterme.it
SUMMARY:SalsoIncanto 2022
DESCRIPTION:Per la terza edizione il concorso prevede:\n– solo musica italiana\n– Anni 90 – 80 – 70 – 60\n– 15 Partecipanti divisi in 3 squadre (VERDE ;BIANCA;ROSSA) ognuna capitanata da un Coordinatore esperto. \nI Partecipanti verranno selezionati nel corso delle 4 Serate itineranti dalle ore 21:00 : \n\n11 Giugno – Viale Matteotti (4 finalisti)\n17 Giugno – P.zza C.Battisti ‘Brugnola’ (4 finalisti)\n22 Giugno – L.go Roma (4 finalisti)\n1 Luglio – P.le Berzieri (3 finalisti\n\nLe serate del concorso si svolgeranno presso la PINKO Arena di Parco Mazzini nelle date: \n\n15 Luglio – Musica anni 90\n\n\n22 Luglio – Musica anni 80\n\n\n28 Luglio – Musica anni 70\n\n\n8 Agosto – Musica anni 60\n\ndalle ore 21:00 alle 23:00 \nIngresso ad offerta  \nPer info ed iscrizione: concorsoproloco@libero.it \nFonte testo: visitsalsomaggiore
URL:https://tabianoterme.it/event/salsoincanto-2022/
LOCATION:Arena Estiva Parco Mazzini\, Parco Mazzini\, Salsomaggiore Terme\, Parma\, 43039
CATEGORIES:Intrattenimento,Musica
ATTACH;FMTTYPE=image/jpeg:https://tabianoterme.it/wp-content/uploads/2022/06/Nuovo-progetto-2022-06-05T092040.281.jpg
ORGANIZER;CN="Proloco Salsomaggiore":MAILTO:prolocosalsomaggiore@libero.it
END:VEVENT
END:VCALENDAR