BEGIN:VCALENDAR
VERSION:2.0
PRODID:-//Tabiano terme - ECPv6.15.11//NONSGML v1.0//EN
CALSCALE:GREGORIAN
METHOD:PUBLISH
X-ORIGINAL-URL:https://tabianoterme.it
X-WR-CALDESC:Eventi per Tabiano terme
REFRESH-INTERVAL;VALUE=DURATION:PT1H
X-Robots-Tag:noindex
X-PUBLISHED-TTL:PT1H
BEGIN:VTIMEZONE
TZID:Europe/Rome
BEGIN:DAYLIGHT
TZOFFSETFROM:+0100
TZOFFSETTO:+0200
TZNAME:CEST
DTSTART:20210328T010000
END:DAYLIGHT
BEGIN:STANDARD
TZOFFSETFROM:+0200
TZOFFSETTO:+0100
TZNAME:CET
DTSTART:20211031T010000
END:STANDARD
BEGIN:DAYLIGHT
TZOFFSETFROM:+0100
TZOFFSETTO:+0200
TZNAME:CEST
DTSTART:20220327T010000
END:DAYLIGHT
BEGIN:STANDARD
TZOFFSETFROM:+0200
TZOFFSETTO:+0100
TZNAME:CET
DTSTART:20221030T010000
END:STANDARD
BEGIN:DAYLIGHT
TZOFFSETFROM:+0100
TZOFFSETTO:+0200
TZNAME:CEST
DTSTART:20230326T010000
END:DAYLIGHT
BEGIN:STANDARD
TZOFFSETFROM:+0200
TZOFFSETTO:+0100
TZNAME:CET
DTSTART:20231029T010000
END:STANDARD
END:VTIMEZONE
BEGIN:VEVENT
DTSTART;VALUE=DATE:20220409
DTEND;VALUE=DATE:20220704
DTSTAMP:20260421T160959
CREATED:20220411T092352Z
LAST-MODIFIED:20220411T092352Z
UID:10118-1649462400-1656892799@tabianoterme.it
SUMMARY:Dall’Alto: Aeropittura Futuristica
DESCRIPTION:DALL’ALTO. Aeropittura futurista\, a cura di Massimo Duranti con la collaborazione di Andrea Baffoni. \nL’esposizione intende offrire una ricognizione sistematica di un movimento che coinvolse alcuni tra i principali artisti italiani della prima metà del Novecento\, rimarcandone le specificità anche nei confronti delle altre correnti che si svilupparono a partire dal Futurismo. \nPaesaggi\, aerei\, visioni dall’alto a volte dilatate\, distorte o addirittura capovolte: l’Aeropittura esalta con sintesi ed essenzialità la velocità\, il movimento e la simultaneità del volo come atto fisico e come stato d’animo.\nQuesta specificazione futurista vide la sua consacrazione nel 1931 con un Manifesto dedicato a firma di Balla\, Depero\, Dottori\, Benedetta\, Fillia\, Somenzi e Tato\, ma già dalla metà degli anni Venti aveva iniziato a diffondersi tra alcuni pittori futuristi – fino ad assumere ufficialità alla fine del decennio a partire da uno scritto di Mino Somenzi del 1928 e da un articolo di Filippo Tommaso Marinetti del 1929. \nLa mostra è aperta tutti i giorni\, tranne il martedì\, dalle 10.30 alle 19.\nL’accesso è incluso nel biglietto d’ingresso del Labirinto della Masone\, che comprende anche l’accesso al labirinto di bambù e alla collezione permanente di Franco Maria Ricci. \nFonte testo e foto: www.labirintodifrancomariaricci.it
URL:https://tabianoterme.it/event/dallalto-aeropittura-futuristica/
LOCATION:Labirinto della Masone\, Strada Masone\, 121\, Fontanellato\, 43012
CATEGORIES:Mostra
ATTACH;FMTTYPE=image/jpeg:https://tabianoterme.it/wp-content/uploads/2022/04/Labirinto-della-Masone-PR-Mostra-Dallalto.-Aeropittura-futurista-ph.-labirintodellamasone.it-CC-BY-NC-ND-4.0.jpeg
ORGANIZER;CN="Labirinto della Masone":MAILTO:labirinto@francomariaricci.com
END:VEVENT
BEGIN:VEVENT
DTSTART;VALUE=DATE:20220619
DTEND;VALUE=DATE:20220704
DTSTAMP:20260421T160959
CREATED:20220620T141327Z
LAST-MODIFIED:20220620T141327Z
UID:10364-1655596800-1656892799@tabianoterme.it
SUMMARY:Infiorata del Corpus Domini a Chiaravalle della Colomba
DESCRIPTION:Anche quest’anno si rinnova l’evento dell’Infiorata del Corpus Domini: l’allestimento di uno stupendo tappeto fiorito lungo tutta la navata centrale dell’Abbazia di Chiaravalle\, che potrà essere ammirato dal 19 giugno al 3 luglio 2022. \nIl tappeto fiorito si protrae per tutta la navata centrale della basilica e restituisce uno stupendo colpo d’occhio ai visitatori che giungono numerosi ogni anno. Il tappeto è composto con fiori\, foglie e quadri disegnati da un artista locale aiutato dai fedeli. Ogni anno i quadri del tappeto seguono un tema religioso\, un buon motivo per ritornare a visitarlo. \nDomenica 26 giugno\, inoltre\, alle ore 21.15 si terrà la Messa da Requiem K626 di W.A. Mozart\, maestro concertatore Roberto Scotti. E domenica 3 luglio alle ore 18.00 l’Abbazia ospiterà un concerto benefico a cura de I Cantori di Santa Margherita di Fidenza\, dirige Germano Boschesi. \nTutte le manifestazioni hanno ingresso gratuito.
URL:https://tabianoterme.it/event/infiorata-del-corpus-domini-a-chiaravalle-della-colomba/
LOCATION:Abbazia di Chiaravalle della Colomba\, Chiaravalle\, Alseno\, 2910
CATEGORIES:Cultura
ATTACH;FMTTYPE=image/png:https://tabianoterme.it/wp-content/uploads/2022/06/Infiorata-Chiaravalle-della-Colomba.png
END:VEVENT
BEGIN:VEVENT
DTSTART;VALUE=DATE:20220625
DTEND;VALUE=DATE:20220801
DTSTAMP:20260421T160959
CREATED:20220627T094617Z
LAST-MODIFIED:20220627T094617Z
UID:10400-1656115200-1659311999@tabianoterme.it
SUMMARY:SSC&F – Salso Summer Class & Festival a Salsomaggiore Terme
DESCRIPTION:Da giugno a luglio 2022 “SSC&F – Salso Summer Class & Festival” è l’appuntamento con la grande musica classica che si svolge ogni anno in estate a Salsomaggiore Terme \nPROGRAMMA\nUn’aura amorosa\nSabato 25 giugno 2022\, ore 21:15\nPalazzo dei Congressi\, Sala delle Cariatidi\, Viale G. Romagnosi\, 7 . Salsomaggiore Terme (PR)\nCinzia Forte\, soprano – Marco Ciaponi\, tenore – Bruno Taddia\, baritono\nOrchestra I Musici di Parma\nCon gli allievi del corso biennale di direzione d’orchestra dell’Accademia della Fondazione\nI Musici di Parma del M° Daniele Agiman\nMusiche di G. Verdi\, G. Rossini\, G. Donizetti e W. A. Mozart \nLe corde dell’anima\nVenerdì 8 luglio 2022\, ore 21:15\nNuova Corte Civica Tommasini\, Viale Filippo Corridoni\, 1 . Salsomaggiore Terme (PR)\nOrchestra I Musici di Parma Con gli allievi delle classi di Violoncello e\nViolino\, Solisti \nThe Sound of Future: L’Orchestra Junior\nSabato 9 luglio 2022\, ore 21:15\nNuova Corte Civica Tommasini\, Viale Filippo Corridoni\, 1 . Salsomaggiore Terme (PR)\nI Musici di Parma con la JUNIOR ORCHESTRA del SSC&F\nMichelangelo Cagnetta Direttore\nIn Collaborazione con Milano Strings Academy \nChamber Music\nDomenica 10 luglio 2022\, ore 11:00\nNuova Corte Civica Tommasini\, Viale Filippo Corridoni\, 1 . Salsomaggiore Terme (PR)\nCon gli allievi delle classi di Violoncello e Violino \nEstri armonici\nDomenica 10 luglio 2022\, ore 21:15\nNuova Corte Civica Tommasini\, Viale Filippo Corridoni\, 1 . Salsomaggiore Terme (PR)\nOrchestra I Musici di Parma Con gli allievi della classe di Violino\, Solisti \nMelodie d’amore\nGiovedì 14 luglio 2022\, ore 21:15\nPieve Romanica di San Giovanni\, Località Contignaco . Salsomaggiore Terme (PR)\nOrchestra I Musici di Parma\nCon gli allievi delle classi di Fagotto\, Clarinetto e Violino\, Solisti\nIn collaborazione con la Rassegna “Estate delle Pievi 2022” \nChamber Music\nSabato 16 luglio 2022\, ore 18:00\nNuova Corte Civica Tommasini\, Viale Filippo Corridoni\, 1 . Salsomaggiore Terme (PR)\nCon gli allievi delle classi di Flauto e Clarinetto \nClassico romanticismo\nSabato 16 luglio 2022\, ore 21:15\nPalazzo dei Congressi\, Sala delle Cariatidi\, Viale G. Romagnosi\, 7 . Salsomaggiore Terme (PR)\nYulia Berinskaya\, Violino – Chiara Morandi\, Viola – Orchestra I Musici di Parma\nMusiche di M. Bruch e M. Ravel \nRomanze in musica\nDomenica 17 luglio 2022\, ore 21:15\nNuova Corte Civica Tommasini\, Viale Filippo Corridoni\, 1 . Salsomaggiore Terme (PR)\nOrchestra I Musici di Parma Con gli allievi della classe di Flauto\, Solisti \nChamber Music\nMercoledì 20 luglio 2022\, ore 21:15\nNuova Corte Civica Tommasini\, Viale Filippo Corridoni\, 1 . Salsomaggiore Terme (PR)\nCon gli allievi delle classi di Violino e Tromba \nFantasie musicali\nGiovedì 21 luglio 2022\, ore 21:15\nNuova Corte Civica Tommasini\, Viale Filippo Corridoni\, 1 . Salsomaggiore Terme (PR)\nOrchestra I Musici di Parma Con gli allievi delle classi di Violino e Tromba\, Solisti \nIl Titano nella musica*\nVenerdì 22 luglio 2022\, ore 21:15\nPalazzo dei Congressi\, Sala delle Cariatidi\, Viale G. Romagnosi\, 7 . Salsomaggiore Terme (PR)\nOrchestra I Musici di Parma Con gli allievi della classe di Direzione d’Orchestra\nMusiche di L. Van Beethoven e N. Paganini\n*PROVE D’ORCHESTRA APERTE AL PUBBLICO\nLa Sinfonia n. 1 in do maggiore\, Op. 21 di Ludwig van Beethoven\nLe prove dell’Orchestra I Musici di Parma con gli allievi del corso di Direzione del M° Daniele Agiman saranno aperte al pubblico nei giorni 21 e 22 luglio\, dalle ore 16\,00 alle ore 18\,00.\nPer prenotazione ingresso prove aperte al pubblico: segreteria@imusicidiparma.it \nPorgi amor\nSabato 23 luglio 2022\, ore 21:15\nPalazzo dei Congressi\, Sala delle Cariatidi\, Viale G. Romagnosi\, 7 . Salsomaggiore Terme (PR)\nOrchestra I Musici di Parma Con gli allievi del corso di Canto lirico\, Solisti \nEcco l’orrido campo\nDomenica 24 luglio 2022\, ore 11:00\nNuova Corte Civica Tommasini\, Viale Filippo Corridoni\, 1 . Salsomaggiore Terme (PR)\nPer chi non conosce l’opera\, arie e racconti da\n“Un ballo in maschera” di G. Verdi con Simon Boccanegra del “Club dei 27” \nSquilli d’ottoni\nDomenica 24 luglio 2022\, ore 21:15\nNuova Corte Civica Tommasini\, Viale Filippo Corridoni\, 1 . Salsomaggiore Terme (PR)\nOrchestra I Musici di Parma Con gli allievi delle classi di Corno e Tromba\, Solisti \nEstro e sentimento\nGiovedì 28 luglio 2022\, ore 21:15\nNuova Corte Civica Tommasini\, Viale Filippo Corridoni\, 1 . Salsomaggiore Terme (PR)\nOrchestra I Musici di Parma Con gli allievi della classe di Viola\, Solisti \nChamber Music\nDomenica 31 luglio 2022\, ore 11:00\nNuova Corte Civica Tommasini\, Viale Filippo Corridoni\, 1 . Salsomaggiore Terme (PR)\nCon gli allievi della classe di Chitarra \nLe 6 corde\nDomenica 31 luglio\, ore 21:15\nNuova Corte Civica Tommasini\, Viale Filippo Corridoni\, 1 . Salsomaggiore Terme (PR)\nOrchestra I Musici di Parma Con gli allievi della classe di Chitarra\, Solisti \nSALSO SUMMER CLASS & FESTIVAL\nTutti gli appuntamenti sono ad ingresso gratuito\, fino ad esaurimento posti \nFonte testo: VisitSalsomaggiore
URL:https://tabianoterme.it/event/sscf-salso-summer-class-festival-a-salsomaggiore-terme/
LOCATION:Salsomaggiore Terme\, Parma\, 43039\, Italia
CATEGORIES:Festival,Musica
ATTACH;FMTTYPE=image/jpeg:https://tabianoterme.it/wp-content/uploads/2022/06/14.-Concerto-di-Pasqua-3-2.jpg
ORGANIZER;CN="I Musici di Parma":MAILTO:info@imusicidiparma.it
END:VEVENT
END:VCALENDAR