BEGIN:VCALENDAR
VERSION:2.0
PRODID:-//Tabiano terme - ECPv6.15.11//NONSGML v1.0//EN
CALSCALE:GREGORIAN
METHOD:PUBLISH
X-ORIGINAL-URL:https://tabianoterme.it
X-WR-CALDESC:Eventi per Tabiano terme
REFRESH-INTERVAL;VALUE=DURATION:PT1H
X-Robots-Tag:noindex
X-PUBLISHED-TTL:PT1H
BEGIN:VTIMEZONE
TZID:Europe/Rome
BEGIN:DAYLIGHT
TZOFFSETFROM:+0100
TZOFFSETTO:+0200
TZNAME:CEST
DTSTART:20210328T010000
END:DAYLIGHT
BEGIN:STANDARD
TZOFFSETFROM:+0200
TZOFFSETTO:+0100
TZNAME:CET
DTSTART:20211031T010000
END:STANDARD
BEGIN:DAYLIGHT
TZOFFSETFROM:+0100
TZOFFSETTO:+0200
TZNAME:CEST
DTSTART:20220327T010000
END:DAYLIGHT
BEGIN:STANDARD
TZOFFSETFROM:+0200
TZOFFSETTO:+0100
TZNAME:CET
DTSTART:20221030T010000
END:STANDARD
BEGIN:DAYLIGHT
TZOFFSETFROM:+0100
TZOFFSETTO:+0200
TZNAME:CEST
DTSTART:20230326T010000
END:DAYLIGHT
BEGIN:STANDARD
TZOFFSETFROM:+0200
TZOFFSETTO:+0100
TZNAME:CET
DTSTART:20231029T010000
END:STANDARD
END:VTIMEZONE
BEGIN:VEVENT
DTSTART;VALUE=DATE:20220409
DTEND;VALUE=DATE:20220704
DTSTAMP:20260422T104735
CREATED:20220411T092352Z
LAST-MODIFIED:20220411T092352Z
UID:10118-1649462400-1656892799@tabianoterme.it
SUMMARY:Dall’Alto: Aeropittura Futuristica
DESCRIPTION:DALL’ALTO. Aeropittura futurista\, a cura di Massimo Duranti con la collaborazione di Andrea Baffoni. \nL’esposizione intende offrire una ricognizione sistematica di un movimento che coinvolse alcuni tra i principali artisti italiani della prima metà del Novecento\, rimarcandone le specificità anche nei confronti delle altre correnti che si svilupparono a partire dal Futurismo. \nPaesaggi\, aerei\, visioni dall’alto a volte dilatate\, distorte o addirittura capovolte: l’Aeropittura esalta con sintesi ed essenzialità la velocità\, il movimento e la simultaneità del volo come atto fisico e come stato d’animo.\nQuesta specificazione futurista vide la sua consacrazione nel 1931 con un Manifesto dedicato a firma di Balla\, Depero\, Dottori\, Benedetta\, Fillia\, Somenzi e Tato\, ma già dalla metà degli anni Venti aveva iniziato a diffondersi tra alcuni pittori futuristi – fino ad assumere ufficialità alla fine del decennio a partire da uno scritto di Mino Somenzi del 1928 e da un articolo di Filippo Tommaso Marinetti del 1929. \nLa mostra è aperta tutti i giorni\, tranne il martedì\, dalle 10.30 alle 19.\nL’accesso è incluso nel biglietto d’ingresso del Labirinto della Masone\, che comprende anche l’accesso al labirinto di bambù e alla collezione permanente di Franco Maria Ricci. \nFonte testo e foto: www.labirintodifrancomariaricci.it
URL:https://tabianoterme.it/event/dallalto-aeropittura-futuristica/
LOCATION:Labirinto della Masone\, Strada Masone\, 121\, Fontanellato\, 43012
CATEGORIES:Mostra
ATTACH;FMTTYPE=image/jpeg:https://tabianoterme.it/wp-content/uploads/2022/04/Labirinto-della-Masone-PR-Mostra-Dallalto.-Aeropittura-futurista-ph.-labirintodellamasone.it-CC-BY-NC-ND-4.0.jpeg
ORGANIZER;CN="Labirinto della Masone":MAILTO:labirinto@francomariaricci.com
END:VEVENT
BEGIN:VEVENT
DTSTART;VALUE=DATE:20220504
DTEND;VALUE=DATE:20220601
DTSTAMP:20260422T104735
CREATED:20220504T151815Z
LAST-MODIFIED:20220504T151815Z
UID:10292-1651622400-1654041599@tabianoterme.it
SUMMARY:Maius in Castro al Castello di Contignaco
DESCRIPTION:MAGGIO AL CASTELLO DI CONTIGNACO: Visite guidate e degustazioni dei vini del Castello – Tra Storia e Sapori nel Castello degli Aldighieri \nPer il mese di maggio 2022 il Castello di Contignaco torna a proporre alcuni giorni di apertura con visite guidate accompagnate dai proprietari. \nCircondato da una suggestiva cornice paesaggistica\, il Castello si erge austero sul verde delle colline che abbracciano Salsomaggiore Terme lungo la strada che porta verso l’Appennino.\nCostruito dai Pallavicino attorno al principio del sec. XI\, nel 1315 venne conquistato dagli Aldighieri di Parma. Secondo alcune leggende anche il sommo poeta Dante Alighieri avrebbe soggiornato qui durante gli anni del suo esilio da Firenze.\nTra natura e cultura\, gli ospiti saranno accompagnati dai proprietari in una visita guidata che li condurrà a scoprire la storia del Castello e i segreti delle sue sale interne. \nLa visita\, per chi lo desiderasse\, si potrà concludere con una degustazione dei vini prodotti nelle cantine della fortezza\, durante la quale i proprietari esporranno la storia antica dell’Azienda di famiglia. \nDallo scorso giugno i vini del Castello di Contignaco sono stati accolti nella F.I.V.I. (Federazione Italiana dei Vignaioli Indipendenti)\, una grande famiglia di viticoltori che promuove la qualità e l’autenticità dei vini italiani.\nPer chi lo desidera\, degustazione con assaggi di cinque dei vini di Contignaco\, tutti prodotti con metodi antichi che esaltano il sapore della tradizione locale: il Bianco Ignatius\, il Bianco Contignaci Turris\, il Bianco Gemma\, il Bianco del Conte\, il Rosso del Sasso\, il Rosso del Rio dei Predoni\, il Rosso Rubeum Durantis\, il Rosso Durante. \nSarà anche possibile acquistare il Parmigiano Reggiano prodotto dall’Azienda Agricola del Castello\, ottenuto con vacche di razza Bruna Alpina\, il cui latte\, ricco di proteine\, si contraddistingue per la qualità superiore rispetto a quello delle Frisone. \nSabato 7 e domenica 8 maggio\nSabato 14 e domenica 15 maggio\nSabato 21 e domenica 22 maggio\nSabato 28 e domenica 29 maggio \nOrari di inizio delle visite guidate\, con eventuali degustazioni a seguire: mattina ore 11\, pomeriggio ore 15.30 e 17.30 \nPrenotazione obbligatoria.\nCosti:\n– visita guidata adulti € 10; bambini dai 6 ai 14 anni € 5; bambini fino ai 5 anni ingresso gratuito;\n– degustazione guidata dei vini del Castello € 18;\n– visita con degustazione € 22. \nPer prenotare: 320 6126424 – 320 6126425 – 320 6066721 – castello.contignaco@gmail.com \nLe aperture si svolgeranno nel rispetto degli attuali protocolli nazionali e regionali mirati al contrasto e al contenimento della diffusione del virus Covid-19. \nFonte testo e foto: Castello di Contignaco
URL:https://tabianoterme.it/event/maius-in-castro-al-castello-di-contignaco/
LOCATION:Castello di Contignaco\, Via Contignaco Castello\, 125\, Salsomaggiore Terme\, 43039\, Italia
CATEGORIES:Cultura,Visita guidata
ATTACH;FMTTYPE=image/jpeg:https://tabianoterme.it/wp-content/uploads/2022/05/marzo-in-castro-768x905-1.jpeg
ORGANIZER;CN="Castello di Contignaco":MAILTO:castello.contignaco@gmail.com
END:VEVENT
BEGIN:VEVENT
DTSTART;VALUE=DATE:20220514
DTEND;VALUE=DATE:20220515
DTSTAMP:20260422T104735
CREATED:20220419T130826Z
LAST-MODIFIED:20220419T130826Z
UID:10182-1652486400-1652572799@tabianoterme.it
SUMMARY:FarneSiamo! Fidenza al tempo dei Farnese: visita guidata per famiglie
DESCRIPTION:In occasione della mostra “I FARNESE. Architettura\, Arte\, Potere” presso il Complesso Monumentale della Pilotta dal 18 marzo al 31 luglio 2022\, l’Ordine degli Architetti PPC di Parma e Verd&Acque organizzano una serie di visite guidate dedicate ai bambini\, dagli 8 anni\, unendo così le città di Parma e Fidenza sotto il segno della famiglia Farnese. \nFIDENZA AL TEMPO DEI FARNESE\nVisita guidata per bambini tra i palazzi e le vie storiche di Fidenza\nLa fondazione del Ducato di Parma e Piacenza\, guidato dalla potente famiglia Farnese\, ha portato Borgo San Donnino a mutare lentamente il suo volto. Passeggiando tra le vie principali della città e osservando chiese e palazzi\, sorti tra ‘600 e ‘700\, ripercorreremo insieme il tempo dei Duchi a Fidenza: presenza\, influenza e segni. Il tutto\, ovviamente\, a portata di bambino! \nIl primo appuntamento è previsto per sabato 23 aprile 2022 alle ore 15.45 \nInfo generali e costi\nAdulti: € 8\,00\nBambini: € 5\,00\nPromo: Visita guidata mostra FARNESE a Parma + Fidenza al tempo dei Farnese per 1 adulto accompagnatore + 1 bambino a € 22\,00 (anziché € 26\,00) \nLa visita guidata è consigliata per bambini a partire da 8 anni.\nInfo e prenotazioni: IAT Casa Cremonini Fidenza\, tel. 0524 83377\, iat.fidenza@terrediverdi.it\, www.terrediverdi.it\nLa visita guidata sarà confermata con un numero minimo di 12 partecipanti paganti.\nLa durata sarà di un’ora e mezza circa. \nI prossimi appuntamenti si terranno nei giorni: sabato 18 giugno\, ore 16.00 / sabato 16 luglio\, ore 17.00.
URL:https://tabianoterme.it/event/farnesiamo-fidenza-al-tempo-dei-farnese-visita-guidata-per-famiglie-2/
LOCATION:IAT Casa Cremonini\, Piazza Duomo\, 16\, Fidenza\, Parma\, 43039\, Italia
CATEGORIES:Bambini e famiglie,Visita guidata
ATTACH;FMTTYPE=image/jpeg:https://tabianoterme.it/wp-content/uploads/2022/04/farnesiamo-visita-guidata-famiglie-farnese-2022.jpeg
ORGANIZER;CN="Verd&Acque e Ordine degli Architetti PPC di Parma":MAILTO:iat.fidenza@terrediverdi.it
END:VEVENT
BEGIN:VEVENT
DTSTART;VALUE=DATE:20220514
DTEND;VALUE=DATE:20220516
DTSTAMP:20260422T104735
CREATED:20220419T133613Z
LAST-MODIFIED:20220419T133613Z
UID:10201-1652486400-1652659199@tabianoterme.it
SUMMARY:I Viaggiattori – “9 to 5” Musical al Teatro Nuovo di Salsomaggiore
DESCRIPTION:I Viaggiattori – “9 to 5” Musical – Sabato 14 Maggio ore 21 e Domenica 15 Maggio ore 16:30 al Teatro Nuovo di Salsomaggiore Terme \nSi tratta del musical di Broadway del 2009 (e poi campione di incassi a Londra) “9 to 5” con le canzoni di Dolly Parton\, che tratta temi come mobbing sul posto di lavoro\, considerazione della donna\, rivincita femminile\, tutti temi attuali affrontati con coraggio e ironia.\nIl risultato è una commedia musicale spettacolare con numeri musicali trascinanti e vocalmente ad effetto\, coreografie molto coinvolgenti/corali e band dal vivo.\nSi ispira al film del 1980 con Dolly Parton e Jane Fonda “Dalle 9 alle 5\, orario continuato” da cui è stata poi tratta una serie tv famosa anche in Italia negli anni 80 andata in onda su Canale 5.\nIl cast artistico/tecnico comprende grandi professionalità del mondo del musical accanto a nomi emergenti\, con la traduzione delle liriche di Simone Leonardi\, e del libretto di Alice Mistroni. \nInfo e Prevendite:\nIAT Salsomaggiore Terme 0524 580211\nIAT R Fidenza Village 0524 335556\nOnline su Boxol
URL:https://tabianoterme.it/event/i-viaggiattori-9-to-5-musical-al-teatro-nuovo-di-salsomaggiore/
LOCATION:Teatro Nuovo di Salsomaggiore Terme\, Viale Giandomenico Romagnosi\, 24\, Salsomaggiore Terme\, 43039
CATEGORIES:Musica,Teatro
ATTACH;FMTTYPE=image/png:https://tabianoterme.it/wp-content/uploads/2022/04/IMMAGINE-STANDARD-SITO-2.png
END:VEVENT
BEGIN:VEVENT
DTSTART;VALUE=DATE:20220514
DTEND;VALUE=DATE:20220516
DTSTAMP:20260422T104735
CREATED:20220426T132915Z
LAST-MODIFIED:20220511T132408Z
UID:10250-1652486400-1652659199@tabianoterme.it
SUMMARY:"Stampa foglie" Laboratorio per bambini al MuMAB
DESCRIPTION:Sabato 14 e domenica 15 maggio 2022 ore 15.00 \nFoglie e fiori colorati mettono sempre allegria e danno un tocco di colore all’ambiente \nCon questo laboratorio i più piccoli osserveranno le specie di fiori più diffuse all’interno del Podere e le imprimeranno in medaglioni di terracotta da appendere per decorare le loro camerette. \nI bambini partecipano senza la presenza dei genitori\, la durata del laboratorio è di circa 1 ora e mezza.\nPrenotazione obbligatoria – massimo 12 partecipanti\nIngresso: 10 euro per i ragazzi\, 6 euro dal secondo fratello (laboratorio per bambini dai 6 ai 12 anni) \nFonte testo e foto: MuMAB
URL:https://tabianoterme.it/event/stampa-foglie-laboratorio-per-bambini-al-mumab/
LOCATION:MuMAB- Museo Mare Antico e Biodiversità\, Podere Millepioppi\, Salsomaggiore Terme\, PR\, 43039\, Italia
CATEGORIES:Bambini e famiglie,Outdoor
ATTACH;FMTTYPE=image/jpeg:https://tabianoterme.it/wp-content/uploads/2022/04/stampa-foglie-2-1-1024x576-1.jpeg
ORGANIZER;CN="MuMAB - Museo Mare Antico e Biodiversit%C3%A0":MAILTO:mumab@millepioppi.it
END:VEVENT
BEGIN:VEVENT
DTSTART;VALUE=DATE:20220514
DTEND;VALUE=DATE:20220516
DTSTAMP:20260422T104735
CREATED:20220511T131118Z
LAST-MODIFIED:20220511T131118Z
UID:10296-1652486400-1652659199@tabianoterme.it
SUMMARY:I Frutti del Castello al Castello di Paderna
DESCRIPTION:Sabato 14 maggio e domenica 15 maggio 2022 il Castello di Paderna (PC) ripropone la rassegna “I Frutti del Castello” – Speciale Giardini!\nFiori\, piante\, arredi e idee per il tuo giardino. Con possibilità di fare pic-nic in stile dejeuneur sur l’herbe\, vegetariano o tipico Food Valley\, o scegliere la ristorazione emiliana nei fienili del Castello comodamente seduti ai tavoli. Anche i visitatori a quattro zampe sono i benvenuti! \nCalle\, rose\, ortensie\, petunie\, fiori di ciliegio\, primule e violette\, glicine ed è già flowertherapy\, perché prendersi cura di piante e giardini fa bene all’anima e al cuore! 60 selezionatissimi espositori di giardinaggio\, arredi da giardino\, attrezzi per il gardening sono i grandi protagonisti della nuova versione primaverile della rassegna di florovivaismo I Frutti del Castello\, in programma sabato 14 e domenica 15 maggio 2022 dalle ore 9.00 alle ore 19.00\, nei prati che circondano il Castello di Paderna a Pontenure\, in provincia di Piacenza\, nel circuito Castelli del Ducato. \nIn attesa della più grande e famosa edizione autunnale\, confermata come sempre il primo weekend di ottobre\, l’edizione maggiolina sarà dedicata a fiori\, piante\, arredi ed idee colorate per giardini\, terrazzi\, balconi in vista di preparare case di città e dimore di campagna per la stagione estiva dove godere il bel tempo in tavolini all’aperto\, picnic tra aiuole curate\, in relax tra siepi e fontane. Il Castello di Paderna si conferma uno straordinario regno della biodiversità\, vocazione maturata negli anni\, nel rispetto dei ritmi slow della corte agricola. \n“L’edizione 14 e 15 maggio sarà interamente dedicata al giardino ed in questo aspetto si differenzierà dalla kermesse autunnale – spiegano Cristina Parisio Pettorelli e Claudia Marchionni\, organizzatrici e anime infaticabili da più di vent’anni della manifestazione\, affiancate da Pierluigi e Leopoldo Pettorelli – abbiamo deciso di ospitare gli stand degli espositori nei prati che circondano il castello per favorire il flusso delle persone\, per dare ai visitatori con i cani più ampi spazi di passeggiata\, in quanto I Frutti del Castello è pet friendly”. \nE’ prevista la possibilità di fare il pic-nic\, stile dejeuneur sur l’herbe\, oppure scegliere la ristorazione tutta emiliana nei fienili del Castello comodamente seduti ai tavoli. Ci saranno cestini sia stile vegetariano sia in omaggio all’enogastronomia tipica del territorio. Gli spaziosi cortili all’interno del Castello non saranno dunque allestiti con gli stand ma verranno utilizzati per conferenze e talk con giardinieri professionisti\, permettere le conversazioni comode tra le persone per trascorrere belle giornate in compagnia e godere appieno del servizio di colazione\, caffetteria e spuntineria. \nCome si pota una rosa? Come fare crescere il prato come piace a te? Come abbinare diverse specie floreali per rendere unico il tuo giardino? A queste e molte altre domande risponderanno i giardinieri che troverai al Castello di Paderna. \n“Durante il primo lockdown e nella pandemia l’abbiamo desiderato tutti: rendere colorate e profumate le nostre terrazze e gli spazi esterni perchè guardare fiori e piante ci fa sentire meglio\, vivifica l’ambiente e la mente si nutre di pensieri positivi” concludono Cristina Parisio Pettorelli e Claudia Marchionni. \nINFORMAZIONI E COSTI: \nBiglietto di ingresso: € 8\,00\nGratuito per bambini fino ai 12 anni e disabili non autosufficienti \nI visitatori della manifestazione potranno disporre di:\n– Ampi parcheggi\n– Punto ristoro e caffetteria\n– Area deposito merci acquistate \nI Frutti del Castello / Tel. 334 9790207 / e-mail: info@fruttidelcastello.it\nCastello di Paderna / Tel. 0523 511645 / e-mail: info@castellodipaderna.it \nFonte testo: www.castellidelducato.it\nFonte foto: www.fruttidelcastello.it
URL:https://tabianoterme.it/event/i-frutti-del-castello-al-castello-di-paderna/
LOCATION:Castello di Paderna\, Strada Paderna Montanaro\, 10\, Pontenure\, 29010\, Italia
CATEGORIES:Mercatino,Outdoor,Rassegna
ATTACH;FMTTYPE=image/jpeg:https://tabianoterme.it/wp-content/uploads/2022/05/frutti-del-castello-fotografie-2020-manifestazione-03.jpeg
END:VEVENT
END:VCALENDAR