BEGIN:VCALENDAR
VERSION:2.0
PRODID:-//Tabiano terme - ECPv6.15.11//NONSGML v1.0//EN
CALSCALE:GREGORIAN
METHOD:PUBLISH
X-ORIGINAL-URL:https://tabianoterme.it
X-WR-CALDESC:Eventi per Tabiano terme
REFRESH-INTERVAL;VALUE=DURATION:PT1H
X-Robots-Tag:noindex
X-PUBLISHED-TTL:PT1H
BEGIN:VTIMEZONE
TZID:Europe/Rome
BEGIN:DAYLIGHT
TZOFFSETFROM:+0100
TZOFFSETTO:+0200
TZNAME:CEST
DTSTART:20210328T010000
END:DAYLIGHT
BEGIN:STANDARD
TZOFFSETFROM:+0200
TZOFFSETTO:+0100
TZNAME:CET
DTSTART:20211031T010000
END:STANDARD
BEGIN:DAYLIGHT
TZOFFSETFROM:+0100
TZOFFSETTO:+0200
TZNAME:CEST
DTSTART:20220327T010000
END:DAYLIGHT
BEGIN:STANDARD
TZOFFSETFROM:+0200
TZOFFSETTO:+0100
TZNAME:CET
DTSTART:20221030T010000
END:STANDARD
BEGIN:DAYLIGHT
TZOFFSETFROM:+0100
TZOFFSETTO:+0200
TZNAME:CEST
DTSTART:20230326T010000
END:DAYLIGHT
BEGIN:STANDARD
TZOFFSETFROM:+0200
TZOFFSETTO:+0100
TZNAME:CET
DTSTART:20231029T010000
END:STANDARD
END:VTIMEZONE
BEGIN:VEVENT
DTSTART;VALUE=DATE:20220409
DTEND;VALUE=DATE:20220704
DTSTAMP:20260423T121723
CREATED:20220411T092352Z
LAST-MODIFIED:20220411T092352Z
UID:10118-1649462400-1656892799@tabianoterme.it
SUMMARY:Dall’Alto: Aeropittura Futuristica
DESCRIPTION:DALL’ALTO. Aeropittura futurista\, a cura di Massimo Duranti con la collaborazione di Andrea Baffoni. \nL’esposizione intende offrire una ricognizione sistematica di un movimento che coinvolse alcuni tra i principali artisti italiani della prima metà del Novecento\, rimarcandone le specificità anche nei confronti delle altre correnti che si svilupparono a partire dal Futurismo. \nPaesaggi\, aerei\, visioni dall’alto a volte dilatate\, distorte o addirittura capovolte: l’Aeropittura esalta con sintesi ed essenzialità la velocità\, il movimento e la simultaneità del volo come atto fisico e come stato d’animo.\nQuesta specificazione futurista vide la sua consacrazione nel 1931 con un Manifesto dedicato a firma di Balla\, Depero\, Dottori\, Benedetta\, Fillia\, Somenzi e Tato\, ma già dalla metà degli anni Venti aveva iniziato a diffondersi tra alcuni pittori futuristi – fino ad assumere ufficialità alla fine del decennio a partire da uno scritto di Mino Somenzi del 1928 e da un articolo di Filippo Tommaso Marinetti del 1929. \nLa mostra è aperta tutti i giorni\, tranne il martedì\, dalle 10.30 alle 19.\nL’accesso è incluso nel biglietto d’ingresso del Labirinto della Masone\, che comprende anche l’accesso al labirinto di bambù e alla collezione permanente di Franco Maria Ricci. \nFonte testo e foto: www.labirintodifrancomariaricci.it
URL:https://tabianoterme.it/event/dallalto-aeropittura-futuristica/
LOCATION:Labirinto della Masone\, Strada Masone\, 121\, Fontanellato\, 43012
CATEGORIES:Mostra
ATTACH;FMTTYPE=image/jpeg:https://tabianoterme.it/wp-content/uploads/2022/04/Labirinto-della-Masone-PR-Mostra-Dallalto.-Aeropittura-futurista-ph.-labirintodellamasone.it-CC-BY-NC-ND-4.0.jpeg
ORGANIZER;CN="Labirinto della Masone":MAILTO:labirinto@francomariaricci.com
END:VEVENT
BEGIN:VEVENT
DTSTART;VALUE=DATE:20220416
DTEND;VALUE=DATE:20220502
DTSTAMP:20260423T121723
CREATED:20220419T103812Z
LAST-MODIFIED:20220419T130537Z
UID:10175-1650067200-1651449599@tabianoterme.it
SUMMARY:San Vitale in festa 2022 a Salsomaggiore Terme
DESCRIPTION:Salsomaggiore Terme festeggia San Vitale con un fitto programma di eventi fino al 1°maggio: spettacoli a teatro\, competizioni sportive\, convegni e concerti. \nSabato 16\, domenica 17 e lunedì 18\, poi ancora sabato 23 e 30 aprile 2022\, il mercatino vintage dell’artigianato è in città: arte\, collezionismo e specialità alimentari dalle 10.00 alle 19.00 in Viale Romagnosi e Viale Berenini. \nDomenica 17 aprile sul palcoscenico del Teatro Nuovo di Salsomaggiore\, si attende alle 17.30 il tradizionale Concerto di Pasqua de I Musici di Parma. Insieme al soprano Tania Bussi e alla fisarmonica di Andrea Coruzzi\, l’Orchestra si esibirà in brani del repertorio italiano e del musical\, intervallati da tanghi e boleri. \nIl 22 aprile sfilano le auto d’epoca della celebre gara di regolarità Terre di Canossa e il 23 aprile inizia il Torneo Bayer Internazionale Juniores di Tennis che ha lanciato giocatori come Matteo Berrettini e Lorenzo Musetti. Quale futuro campione incoronerà quest’anno? \nSabato 23 aprile alle 17.30 nel Parco Corazza suona il rock – folk dei Mé Pék e Barba\, concerto organizzato da ANPI Salsomaggiore. \nTorna il tradizionale Concorso del Bargnolino\, organizzato da ProLoco Salsomaggiore: domenica 24 aprile il premio al miglior liquore fatto in casa e una lunga giornata di festeggiamenti in Via Milano. \nDomenica 24 aprile viale Romagnosi si trasforma in un viale d’arte. Troverete Artiste e artisti dell’Associazione Arte&Cultura di Parma che espongono le proprie opere. Dalle ore 10.00 alle 19.00 \nNell’anniversario della liberazione d’Italia – 25 aprile – la parata della Banda cittadina sfila dalla Corte Civica Tommasini. \n“La parità fa la differenza”: il 27 aprile alle 21\, nel Palazzo dei Congressi si parlerà della condizione di uomini e donne nello sport\, con la partecipazione della Campionessa Sara Fantini. \nGiovedì 28 aprile\, alle 15.45\, tutti i bambini sono invitati al Grande spettacolo di burattini di Isingrini al Gazebo di Viale Romagnosi\, con una golosa merenda offerta da ProLoco Salsomaggiore. Nello stesso giorno\, alle 21\, il concerto d’inaugurazione dell’organo “Corna” con Alberto Mazzoli\, nella Chiesa di San Vitale. \nSi conclude sabato 30 con il grande concerto del Gruppo ritmico corale Chorus Verona\, alle 20.45 nella Chiesa di San Vitale e domenica 1°maggio con la parata della Banda cittadina in occasione della Festa dei Lavoratori. \nFonte testo e foto: VisitSalsomaggiore
URL:https://tabianoterme.it/event/san-vitale-in-festa-2022-a-salsomaggiore-terme/
LOCATION:Salsomaggiore Terme\, Parma\, 43039\, Italia
CATEGORIES:Fiera
ATTACH;FMTTYPE=image/jpeg:https://tabianoterme.it/wp-content/uploads/2022/04/Untitled-design.jpg
END:VEVENT
BEGIN:VEVENT
DTSTART;VALUE=DATE:20220423
DTEND;VALUE=DATE:20220425
DTSTAMP:20260423T121723
CREATED:20220411T075900Z
LAST-MODIFIED:20220411T075900Z
UID:10096-1650672000-1650844799@tabianoterme.it
SUMMARY:Il giardino degli impollinatori al Podere Millepioppi
DESCRIPTION:Sabato 23 e domenica 24 aprile 2022 ore 16:30\nChi sono gli insetti impollinatori e perché sono fondamentali per il nostro ecosistema? \nIl ronzio delle api in un pomeriggio estivo\, oppure il volo colorato delle farfalle\, sono familiari a tutti e una gioia per gli occhi. Tutta questa bellezza si basa su una società complessa che impareremo a conoscere per proteggerla dalle tante minacce che stanno mettendo in difficoltà moltissime specie di Insetti impollinatori. \nFaremo conoscenza con le tante specie di Insetti che svolgono l’impollinazione\, non solo api ma anche farfalle\, falene\, coleotteri\, ecc. e comprenderemo il ruolo fondamentale degli impollinatori nell’agricoltura. \nI bambini partecipano senza la presenza dei genitori. La durata del laboratorio è di circa 1 ora e mezza.\nIngresso: 10 euro per i ragazzi\, 6 euro dal secondo fratello \nFonte testo e foto: www.millepioppi.it
URL:https://tabianoterme.it/event/il-giardino-degli-impollinatori-al-podere-millepioppi/
LOCATION:Polo Museale Millepioppi\, San Nicomede\, PR\, 43039\, Italia
CATEGORIES:Bambini e famiglie
ATTACH;FMTTYPE=image/jpeg:https://tabianoterme.it/wp-content/uploads/2022/04/IMG_20210926_074407-1024x768-1.jpeg
END:VEVENT
BEGIN:VEVENT
DTSTART;VALUE=DATE:20220423
DTEND;VALUE=DATE:20220424
DTSTAMP:20260423T121723
CREATED:20220419T085757Z
LAST-MODIFIED:20220419T085757Z
UID:10154-1650672000-1650758399@tabianoterme.it
SUMMARY:Nel Segno del Giglio alla Reggia di Colorno
DESCRIPTION:27° Mostra – Mercato del giardinaggio di qualità – sabato 23 aprile 2022 \nCon la mostra “Nel segno del Giglio” la location invita i suoi visitatori a scoprire le altre infinite meraviglie di questa terra: parchi naturalistici\, parchi storici\, giardini; ma anche i castelli\, le ville\, gli insediamenti religiosi che\, insieme alla gastronomia\, fanno del parmense la meta ideale per un turismo di qualità. Di qui le proposte che\, edizione dopo edizione\, vengono suggerite dagli organizzatori. Tutte originali\, molto curate\, d’eccezione. Come si conviene ad una mostra di così alto lignaggio. \nIl successo della manifestazione che\, rigorosamente\, si svolge a primavera avanzata\, ha spinto gli organizzatori a ideare un secondo appuntamento\, questa volta autunnale. L’autunno\, si sa\, è la stagione durante la quale i pollici verdi mettono a dimora nuove piante e vanno alla ricerca di idee per rinnovare il volto dei loro giardini. Ecco quindi “Nel segno del Giglio d’Autunno”\, appuntamento che già alle prime edizioni si è imposto tra i più attesi e frequentati della stagione.\nE dopo aver dato sfogo alla passione per il verde\, nulla di meglio che dare spazio al gusto in uno dei molti ristoranti della zona\, tutti rigorosamente adepti del culto per la genuina\, sapida\, cucina parmigiana. \nCosto della manifestazione: € 10\,00 \nPer informazioni: +39 0521 313300 Email: info@artourparma.it \nFonte testo e foto: www.castellidelducato.it
URL:https://tabianoterme.it/event/nel-segno-del-giglio-alla-reggia-di-colorno/
LOCATION:Reggia di Colorno\, Piazza Giuseppe Garibaldi 26\, Colorno\, 43052\, Italia
CATEGORIES:Mercatino,Mostra
ATTACH;FMTTYPE=image/png:https://tabianoterme.it/wp-content/uploads/2022/04/reggia-di-colorno-nel-segno-del-giglio-mostra-mercato-del-giardinaggio-di-qaulita-2022.png
ORGANIZER;CN="Bi&amp%3BBi Eventi":MAILTO:info@biebieventi.com
END:VEVENT
BEGIN:VEVENT
DTSTART;VALUE=DATE:20220423
DTEND;VALUE=DATE:20220424
DTSTAMP:20260423T121723
CREATED:20220419T094035Z
LAST-MODIFIED:20220419T094035Z
UID:10159-1650672000-1650758399@tabianoterme.it
SUMMARY:Caccia al tesoro per bambini al Castello di Contignaco
DESCRIPTION:Sabato 23 aprile 2022 il Castello di Contignaco torna a proporre una caccia al tesoro che porterà i partecipanti a riscoprire alcune delle più belle favole che da secoli nutrono l’immaginario collettivo e che hanno fatto sognare innumerevoli generazioni di fanciulli. \nI bambini\, accompagnati dai loro genitori e con tanto di mappe e “taccuino del viaggiatore” al seguito\, saranno impegnati a rincorrere una lunga catena di indizi che li condurrà a disvelare numerosi racconti\, graziosi ed edificanti\, quali Il Pastore\, Il Topo di città e il Topo di campagna\, Il Cane e l’Asino\, Le Ranocchie e il loro Re\, L’Asino e il Lupo\, La Volpe e l’uva\, Il Cane e la Volpe\, La Formica e la Cicala. \nLe favole\, come si sa\, sono brevi narrazioni con uomini\, animali\, piante o essere inanimati e racchiudono sempre un insegnamento morale\, destinato non solo ai più piccoli\, ma anche agli adulti. \nI bambini\, aiutati dai più grandi\, dovranno riuscire a individuare la morale di ogni favola che sarà loro proposta: solo così potranno concludere la caccia e giungere al dolcissimo tesoro finale! Gioco ideale per bambini dai 5 ai 14 anni circa. La caccia al tesoro prevede una forte interazione tra i bambini e gli adulti\, in modo da far divertire tutti quanti. \nOrari di inizio delle cacce al tesoro: mattina ore 11\, pomeriggio ore 15 e 16.30\nPrenotazione obbligatoria \nCosti: bambini dai 4 ai 14 anni € 12; adulti € 10\nPer prenotare: 320.6126424 – 320.6126425 – 320.6066721 – castello.contignaco@gmail.com \nLa manifestazione si svolgerà nel rispetto degli attuali protocolli nazionali e regionali mirati al contrasto e al contenimento della diffusione del virus Covid-19.\nPer garantire la massima sicurezza\, l’intera caccia al tesoro si svolgerà all’aperto.\nDurante l’intero percorso i bambini dovranno essere accompagnati dai loro genitori.\nSi consiglia di attrezzarsi con ombrelli e stivaletti in caso di pioggia. \nInoltre… \nAl termine del gioco\, chi lo desidera potrà effettuare una visita guidata completa degli esterni e degli interni del Castello. \nLa visita si potrà anche concludere con una degustazione dei vini prodotti nelle cantine della fortezza\, durante la quale i proprietari esporranno la storia antica dell’Azienda di famiglia.\nPrenotazione obbligatoria \nCosti: visita adulti € 9\, bambini € 5; visita con degustazione € 20 \nPer prenotare: 320 6126424 – 320 6126425 – 320 6066721 – castello.contignaco@gmail.com \nFonte testo e foto: www.castellodicontignaco.it
URL:https://tabianoterme.it/event/caccia-al-tesoro-per-bambini-al-castello-di-contignaco-2/
LOCATION:Castello di Contignaco\, Via Contignaco Castello\, 125\, Salsomaggiore Terme\, 43039\, Italia
CATEGORIES:Bambini e famiglie
ATTACH;FMTTYPE=image/jpeg:https://tabianoterme.it/wp-content/uploads/2022/03/contignaco.jpeg
ORGANIZER;CN="Castello di Contignaco":MAILTO:castello.contignaco@gmail.com
END:VEVENT
BEGIN:VEVENT
DTSTART;VALUE=DATE:20220423
DTEND;VALUE=DATE:20220426
DTSTAMP:20260423T121723
CREATED:20220419T095121Z
LAST-MODIFIED:20220419T095121Z
UID:10161-1650672000-1650931199@tabianoterme.it
SUMMARY:Mostra dell’Artigianato\, Produzione e Commercio di Soragna
DESCRIPTION:Torna\, dopo una pausa di due anni\, la Mostra dell’Artigianato\, Produzione e Commercio di Soragna giunta ormai alla sua 43^ edizione\, dal 23 al 25 aprile 2022. \nUn appuntamento di grande richiamo per gli operatori del settore artigianale\, agricolo e commerciale e per le aziende produttrici e fornitrici di attrezzature e servizi\, che coinvolgerà la partecipazione di nuovo pubblico\, contribuendo ad aumentare sensibilmente l’afflusso dei visitatori già numerosi nelle precedenti edizioni. Il Mercato dei Fiori\, l’esposizione dei trattori\, la cottura del Parmigiano Reggiano\, e tante altre curiose iniziative animano la Mostra. \nProgramma sabato 23 aprile 2022: \nOre 9.30 – 22.00 Apertura stand espositivi\nOre 9.30 – 22.00 Esposizione Mercato di qualità ASCOM (Via Roma)\nOre 9.30 – 22.00 Area kids con gonfiabili e giostre\nOre 10.00-20.00 Scuola Pony ed Equitazione\nOre 11.30 Inaugurazione 43^ Edizione Mostra\nOre 18.00 – 21.00 Intrattenimento Musicale con artisti locali presso Piazza Garibaldi e Piazza Meli Lupi\nOre 21.00 – 23.00 Spettacolo ed intrattenimento:\n– Spettacolo “Io parlo parmigiano” presso Piazza Garibaldi a seguire musica con Dj\n– Musica con Dj presso Piazza Meli Lupi \nProgramma domenica 24 aprile 2022: \nOre 9.00 – 22.00 Apertura stand espositivi\nOre 9.30 – 22.00 Esposizione Mercato di qualità ASCOM (Via Roma)\nOre 9.30 – 22.00 Area kids con gonfiabili e giostre\nOre 10.00-20.00 Scuola Pony ed Equitazione\nOre 10.00-18.00 Raduno mezzi d’epoca\nOre 15.30 Cottura formaggio Parmigiano Reggiano\nOre 16.00 – 16.30 Gran sfilata Medievale\nOre 17.00 – 18.00 Animazione per bambini con associazione Piccolo Circo\nOre 18.00 – 21.00 Intrattenimento Musicale con artisti locali presso Piazza Garibaldi e Rocca Meli Lupi\nOre 21.00 – 23.00 Spettacolo ed intrattenimento:\n– Concerto Band presso Piazza Meli Lupi\n– Spettacolo Rievocazione Medievale presso Piazza Garibaldi a seguire intrattenimento musicale\nA partire dalle ore 15.00 Flashmob itineranti a cura dell’associazione “Piccolo Circo”. \nProgramma lunedì 25 aprile 2022: \nOre 9.00 Apertura stand espositivi\nOre 9.30 – 20.00 Esposizione Mercato di qualità ASCOM (Via Roma)\nOre 9.30 – 20.00 Area kids con gonfiabili e giostre\nOre 10.00-19.00 Scuola Pony ed Equitazione\nOre 10.00-18.00 Raduno trattori moderni\nOre 10.30-18.30 Mobility Dog\nOre 11.00 – 11.30 Rievocazione Medievale\nOre 15.30 Cottura formaggio Parmigiano Reggiano\nOre 17.00 – 19.00 Aperitivo a colori! Scopriremo insieme alle esperte di “Armocromia” Elisa e Barbara come i colori possono migliorarci e sorprenderci\nOre 18.00 – 20.00 Intrattenimento Musicale Presso Piazza Garibaldi e Rocca Meli Lupi\nOre 20.00 Chiusura stand espositivi \nInoltre per tutti i giorni della Mostra:\n– Rassegna macchine e tecnologie agricole d’avanguardia;\n– Rassegna macchine agricole d’epoca;\n– Rassegna “Mattoncini di Parmabricks” presso sala Teatro comunale;\n– Esposizione quadri di giovani artisti locali.\n– Troverete punti di ristoro con piatti tradizionali della zona a cura delle Associazioni del paese. \nPer maggiori informazioni:\nwww.entemostrasoragna.it / Tel. +39 0524 599339 / WhatsApp. +39 370 3250639 / e-mail. info@entemostrasoragna.it \nFonte testo: www.entemostrasoragna.it\nFote foto: eventi e sagre
URL:https://tabianoterme.it/event/mostra-dellartigianato-produzione-e-commercio-di-soragna/
LOCATION:Soragna
CATEGORIES:Mercatino,Mostra
ATTACH;FMTTYPE=image/jpeg:https://tabianoterme.it/wp-content/uploads/2022/04/mostra-soragna.jpeg
ORGANIZER;CN="Ente Mostra Soragna":MAILTO:info@entemostrasoragna.it
END:VEVENT
BEGIN:VEVENT
DTSTART;VALUE=DATE:20220423
DTEND;VALUE=DATE:20220424
DTSTAMP:20260423T121723
CREATED:20220419T095638Z
LAST-MODIFIED:20220419T095638Z
UID:10167-1650672000-1650758399@tabianoterme.it
SUMMARY:FarneSiamo! Fidenza al tempo dei Farnese: visita guidata per famiglie
DESCRIPTION:In occasione della mostra “I FARNESE. Architettura\, Arte\, Potere” presso il Complesso Monumentale della Pilotta dal 18 marzo al 31 luglio 2022\, l’Ordine degli Architetti PPC di Parma e Verd&Acque organizzano una serie di visite guidate dedicate ai bambini\, dagli 8 anni\, unendo così le città di Parma e Fidenza sotto il segno della famiglia Farnese. \nFIDENZA AL TEMPO DEI FARNESE\nVisita guidata per bambini tra i palazzi e le vie storiche di Fidenza\nLa fondazione del Ducato di Parma e Piacenza\, guidato dalla potente famiglia Farnese\, ha portato Borgo San Donnino a mutare lentamente il suo volto. Passeggiando tra le vie principali della città e osservando chiese e palazzi\, sorti tra ‘600 e ‘700\, ripercorreremo insieme il tempo dei Duchi a Fidenza: presenza\, influenza e segni. Il tutto\, ovviamente\, a portata di bambino! \nIl primo appuntamento è previsto per sabato 23 aprile 2022 alle ore 15.45 \nInfo generali e costi\nAdulti: € 8\,00\nBambini: € 5\,00\nPromo: Visita guidata mostra FARNESE a Parma + Fidenza al tempo dei Farnese per 1 adulto accompagnatore + 1 bambino a € 22\,00 (anziché € 26\,00) \nLa visita guidata è consigliata per bambini a partire da 8 anni.\nInfo e prenotazioni: IAT Casa Cremonini Fidenza\, tel. 0524 83377\, iat.fidenza@terrediverdi.it\, www.terrediverdi.it\nLa visita guidata sarà confermata con un numero minimo di 12 partecipanti paganti.\nLa durata sarà di un’ora e mezza circa. \nI prossimi appuntamenti si terranno nei giorni: sabato 14 maggio\, ore 15.45 / sabato 18 giugno\, ore 16.00 / sabato 16 luglio\, ore 17.00.
URL:https://tabianoterme.it/event/farnesiamo-fidenza-al-tempo-dei-farnese-visita-guidata-per-famiglie/
LOCATION:IAT Casa Cremonini\, Piazza Duomo\, 16\, Fidenza\, Parma\, 43039\, Italia
CATEGORIES:Bambini e famiglie,Visita guidata
ATTACH;FMTTYPE=image/jpeg:https://tabianoterme.it/wp-content/uploads/2022/04/farnesiamo-visita-guidata-famiglie-farnese-2022.jpeg
ORGANIZER;CN="Verd&Acque e Ordine degli Architetti PPC di Parma":MAILTO:iat.fidenza@terrediverdi.it
END:VEVENT
BEGIN:VEVENT
DTSTART;VALUE=DATE:20220423
DTEND;VALUE=DATE:20220502
DTSTAMP:20260423T121723
CREATED:20220419T135050Z
LAST-MODIFIED:20220419T135050Z
UID:10209-1650672000-1651449599@tabianoterme.it
SUMMARY:Torneo Bayer Internazionale Juniores di Tennis a Salsomaggiore Terme
DESCRIPTION:Torneo Bayer Internazionale Under 18 di Tennis dal 23 aprile al 1°maggio 2022 \nDal 1984 Salsomaggiore è sede del Torneo Internazionale Juniores di Tennis. Si tratta di un evento che ha regalato sempre forti emozioni e che ha “lanciato” giocatori e giocatrici che oggi sono protagonisti mondiali di questo sport. \nMatteo Berrettini\, attualmente numero 6 della classifica ATP\, vinse l’edizione nel 2014\, mentre Lorenzo Musetti si aggiudicò il trofeo nel 2018. Ma sono tanti i campioni che nel loro percorso hanno fatto tappa al TCS di Salso\, come Stefano Travaglia e Federico Gaio\, Marco Cecchinato\, Fabio Fognini ed il giovane Jannik Sinner che giocò il torneo nel 2017\, a soli 15 anni. Inoltre le due medaglie d’oro alle Olimpiadi di Tokyo hanno giocato al torneo salsese: Alexander Zverev\, protagonista nel 2013 e Belinda Bencic\, vincitrice nel 2012. \nC’è quindi molta attesa per questa rassegna di futuri campioni\, che riprende una tradizione importante\, riconfermando Salsomaggiore come Città dello Sport. \nFonte testo e foto: VisitSalsomaggiore
URL:https://tabianoterme.it/event/torneo-bayer-internazionale-juniores-di-tennis-a-salsomaggiore-terme/
LOCATION:Salsomaggiore Terme\, Parma\, 43039\, Italia
CATEGORIES:Sport
ATTACH;FMTTYPE=image/jpeg:https://tabianoterme.it/wp-content/uploads/2022/04/torneo-tennis.jpeg
END:VEVENT
END:VCALENDAR