BEGIN:VCALENDAR
VERSION:2.0
PRODID:-//Tabiano terme - ECPv6.15.11//NONSGML v1.0//EN
CALSCALE:GREGORIAN
METHOD:PUBLISH
X-WR-CALNAME:Tabiano terme
X-ORIGINAL-URL:https://tabianoterme.it
X-WR-CALDESC:Eventi per Tabiano terme
REFRESH-INTERVAL;VALUE=DURATION:PT1H
X-Robots-Tag:noindex
X-PUBLISHED-TTL:PT1H
BEGIN:VTIMEZONE
TZID:Europe/Rome
BEGIN:DAYLIGHT
TZOFFSETFROM:+0100
TZOFFSETTO:+0200
TZNAME:CEST
DTSTART:20200329T010000
END:DAYLIGHT
BEGIN:STANDARD
TZOFFSETFROM:+0200
TZOFFSETTO:+0100
TZNAME:CET
DTSTART:20201025T010000
END:STANDARD
BEGIN:DAYLIGHT
TZOFFSETFROM:+0100
TZOFFSETTO:+0200
TZNAME:CEST
DTSTART:20210328T010000
END:DAYLIGHT
BEGIN:STANDARD
TZOFFSETFROM:+0200
TZOFFSETTO:+0100
TZNAME:CET
DTSTART:20211031T010000
END:STANDARD
BEGIN:DAYLIGHT
TZOFFSETFROM:+0100
TZOFFSETTO:+0200
TZNAME:CEST
DTSTART:20220327T010000
END:DAYLIGHT
BEGIN:STANDARD
TZOFFSETFROM:+0200
TZOFFSETTO:+0100
TZNAME:CET
DTSTART:20221030T010000
END:STANDARD
BEGIN:DAYLIGHT
TZOFFSETFROM:+0100
TZOFFSETTO:+0200
TZNAME:CEST
DTSTART:20230326T010000
END:DAYLIGHT
BEGIN:STANDARD
TZOFFSETFROM:+0200
TZOFFSETTO:+0100
TZNAME:CET
DTSTART:20231029T010000
END:STANDARD
END:VTIMEZONE
BEGIN:VEVENT
DTSTART;VALUE=DATE:20210911
DTEND;VALUE=DATE:20211213
DTSTAMP:20260426T022645
CREATED:20211007T095050Z
LAST-MODIFIED:20211007T095307Z
UID:9844-1631318400-1639353599@tabianoterme.it
SUMMARY:Il colore dei sogni: Mirò alla Fondazione Magnani Rocca
DESCRIPTION:La mostra è organizzata dalla Fondazione Magnani-Rocca in collaborazione con Fundación MAPFRE \nLa Fondazione Magnani-Rocca annuncia una originale mostra su Miró\, curata da Stefano Roffi\, direttore scientifico della Fondazione\, col contributo di studiosi spagnoli e italiani. “Miró. Il colore dei sogni”\, questo il titolo dell’esposizione\, si potrà ammirare nella sontuosa “Villa dei Capolavori” di Mamiano di Traversetolo\, presso Parma\, dall’11 settembre al 12 dicembre 2021. \n“Un innocente col sorriso sulle labbra che passeggia nel giardino dei suoi sogni”: così il poeta Jacques Prévert descriveva Joan Miró\, celeberrimo artista spagnolo vissuto in una delle epoche più fervide della storia dell’arte. Arte\, la sua\, fondata non tanto sull’immagine tradizionale\, quanto su sensazioni\, emozioni immediate e suggestioni: colori brillanti e forti contrasti\, linee sottili e soggetti allucinati e onirici. \n“Miró (Barcellona 1893 – Palma di Maiorca 1983) dipinge ispirandosi – annota Roffi – alle forme della natura\, ma anche alla musica; per un periodo compone inoltre poesie di stile surrealista\, seguendo meccanismi psicologici simili a quelli adottati in pittura. Egli aspirava chiaramente al divino e la musica e la poesia erano le sue fonti di ispirazione. Talvolta le parole compaiono anche nei quadri\, costituendo la loro chiave di lettura. Un rapporto fra pittura-musica-poesia che ben si accorda con gli interessi e la sensibilità di Luigi Magnani\, fondatore della Magnani-Rocca”. \nLa mostra\, realizzata in collaborazione con Fundación MAPFRE di Madrid\, attraverso cinquanta opere fra gli anni Trenta e gli anni Settanta per la gran parte a olio su tela\, propone un percorso che\, orchestrato come una partitura musicale\, evidenzia la sfida continua operata dall’artista nei confronti della pittura tradizionale\, “con opere come Cheveaux mis en fuite par un oiseau dove Mirò letteralmente massacra – evidenzia il curatore – la pittura comunemente intesa\, con un certo parallelismo con l’Espressionismo americano nell’idea che la pittura dovesse essere un getto continuo scaturito da una profonda esplosione creativa\, pur garantendo alle proprie forme una dirompente integrità individuale malgrado le metamorfosi subite”. \nAd essere particolarmente documentati in mostra sono gli ultimi decenni di attività di Miró\, con tele di grande formato e poetica bellezza come Personnage et oiseaux devant le soleil e Personnage devant la lune\, e i temi ricorrenti che egli reinventa con frequenza – con l’uso costante di simboli come le stelle\, gli uccelli o la donna\, e le fantasiose rappresentazioni di teste – nello stesso tempo sottolineando influenze così diverse come la tradizione popolare\, la calligrafia asiatica o i graffiti urbani. La pittura di Miró tende all’astrazione; tuttavia nelle variopinte forme fantastiche tra loro accostate\, permane quasi sempre una traccia del reale: un occhio\, una mano\, la luna. Alcuni quadri presenti in mostra fanno pensare a cieli stellati\, come Personnage\, oiseau\, ètoiles del 1944 o Après les constellations del 1976. \nLa strepitosa attività di illustratore di Mirò è rappresentata nell’esposizione al massimo livello\, grazie al libro d’artista con testi poetici di Tristan Tzara Parler seul (1950)\, con settantadue tavole a colori dell’artista catalano\, esposte in grandi teche. \nTrasgressivo e anticonformista\, l’artista affianca alla sua anima più contemplativa una poetica unitaria tra sogno e colore\, così da sfuggire alla banalità e al convenzionalismo\, dando vita a un linguaggio artistico universale ma allo stesso tempo unico e originale. Come affermava Mirò: ‘Una semplice pennellata può dare libertà e felicità’. \n“Visitare la mostra significa – conclude Stefano Roffi – viaggiare dentro i sogni di Miró perché questa è la trama della sua arte”. \nIl catalogo della mostra (Silvana editoriale) presenta saggi di studiosi spagnoli\, tedeschi e italiani; si segnalano quelli sul rapporto fra Miró e la musica\, e fra Miró e l’Italia\, entrambi a firma di Joan Punyet Miró\, nipote dell’artista\, oltre al saggio del curatore e a una particolare intervista che Miró rilasciò a Walter Erben nel 1959; inoltre\, nella tradizione delle mostre e dei cataloghi della Fondazione Magnani-Rocca\, Mauro Carrera indaga l’attività dell’artista come illustratore. \nINFORMAZIONI: \nDal 11 settembre al 12 dicembre 2021.\nAperto anche tutti i festivi. \nOrario:\ndal martedì al venerdì continuato 10.00-18.00 (la biglietteria chiude alle 17.00) – sabato\, domenica e festivi continuato 10.00-19.00 (la biglietteria chiude alle 18.00).\nAperto anche 1° novembre e 8 dicembre. Lunedì chiuso (aperto lunedì 1° novembre in quanto festivo). \nIngresso:\n€ 12\,00 valido anche per le raccolte permanenti e il parco – € 10\,00 per gruppi di almeno quindici persone – € 5\,00 per le scuole.\nIl sabato\, la domenica e i festivi\, il biglietto comprende anche la visita libera agli Armadi segreti della Villa. \nInformazioni e prenotazioni gruppi:\ntel. 0521 848327 / 848148 – info@magnanirocca.it – www.magnanirocca.it\nIl sabato ore 16.30 e la domenica e festivi ore 11.30\, 16.00\, 17.00\, visita alla mostra ‘Miró. Il colore dei sogni’\, alla mostra focus ‘Pier Paolo Pasolini. Fotogrammi di pittura’ e alle raccolte permanenti della Fondazione con guida specializzata; è possibile prenotare a segreteria@magnanirocca.it \, oppure presentarsi all’ingresso del museo fino a esaurimento posti; costo € 17\,00 (ingresso e guida). \nConsultare il sito www.magnanirocca.it per le modalità di visita in sicurezza. \nFonte testo e foto: www.magnanirocca.it
URL:https://tabianoterme.it/event/9844/
LOCATION:Fondazione Magnani-Rocca\, Via Fondazione Magnani-Rocca\, Mamiano di Traversetolo\, 43029
CATEGORIES:Mostra
ATTACH;FMTTYPE=image/jpeg:https://tabianoterme.it/wp-content/uploads/2021/10/Joan-Miro_-Le-Chant-de-l_oiseau-a-la-rosee-de-la-lune_-1955_-olio-su-cartone.-Foto-Joan-Ramon-Bonet-1024x771-1.jpeg
ORGANIZER;CN="Fondazione Magnani-Rocca":MAILTO:info@magnanirocca.it
END:VEVENT
BEGIN:VEVENT
DTSTART;VALUE=DATE:20210918
DTEND;VALUE=DATE:20211213
DTSTAMP:20260426T022645
CREATED:20210920T081546Z
LAST-MODIFIED:20210920T081546Z
UID:9791-1631923200-1639353599@tabianoterme.it
SUMMARY:I mondi di Remo Gaibazzi
DESCRIPTION:Le tradizioni dell’umorismo europeo nel cuore di Parma \nDa settembre ad ottobre (incluso): sabato e domenica 10-12 e 15-18 \nDa novembre a dicembre: sabato e domenica 10-12 e 14:30-17:30 \nIn occasione di Parma Capitale della Cultura 2020-21\, il Castello di Roccabianca attraverso l’Associazione Castello Eventi e il Comune di Roccabianca organizzano due eventi espositivi che vedono protagonisti Giovannino Guareschi e Remo Gaibazzi\, due pietre miliari dell’arte e della cultura italiana. Entrambi sono nati nella Bassa emiliana\, tutti e due nel Comune di Roccabianca. Guareschi nasce a Fontanelle il primo maggio nel 1908 e muove a Cervia il 22 luglio del 1968\, Remo Gaibazzi a Stagno\, oltre l’argine\, dentro la golena il 29 dicembre 1915 e muore a Parma il 25 luglio del 1994. La terra d’origine non è il solo elemento che li accomuna\, entrambi affondano le radici nella tradizione europea del giornalismo satirico e umoristico per poi intraprendere due percorsi artistici diversi. Le mostre sono entrambe curate da Giorgio Casamatti e Guido Conti\, e vengono ospitate nelle sale del Castello di Roccabianca\, in parte in uno spazio assolutamente inedito al pubblico. \nLa manifestazione si svolge anche in caso di mal tempo. \nIngresso gratuito \nNumeri telefonici\, mail e sito internet per informazioni:\nwww.comune.roccabianca.pr.it \nmarco.scaltritiarchi@outlook.com \n  \nParcheggi Vicini: Piazza Garibaldi \n \nFonte testo e foto: I MONDI DI REMO GAIBAZZI (castellidelducato.it)
URL:https://tabianoterme.it/event/i-mondi-di-remo-gaibazzi/
LOCATION:Castello di Roccachiara\, Piazza Garibaldi\, 5\, Comune di Roccabianca\, Parma\, 43010\, Italia
CATEGORIES:Intrattenimento
ATTACH;FMTTYPE=image/jpeg:https://tabianoterme.it/wp-content/uploads/2021/09/p_pr_2019_roccabianca_castello_di_roccabianca_c_30630_marco_scaltriti.jpg
ORGANIZER;CN="Castello di Roccabianca":MAILTO:stefania@faled.it
END:VEVENT
BEGIN:VEVENT
DTSTART;TZID=Europe/Rome:20210918T080000
DTEND;TZID=Europe/Rome:20220116T170000
DTSTAMP:20260426T022645
CREATED:20211011T084944Z
LAST-MODIFIED:20211011T084944Z
UID:9875-1631952000-1642352400@tabianoterme.it
SUMMARY:BANKSY Building Castles in the Sky - mostra a Palazzo Tarasconi a Parma
DESCRIPTION:Da Dismaland print a Love Is In The Air\, da Barcode a Monkey Queen\, da Girl with Balloon a Mickey Snake\, sono oltre 100 le opere protagoniste della mostra BANKSY Building Castles in the Sky\, a cura di Stefano Antonelli\, Gianluca Marziani\, Acoris Andipa e Marzio Dall’Acqua\, ospitata dal 18 settembre 2021 al 16 gennaio 2022 a Palazzo Tarasconi a Parma. \nProdotta e organizzata da Fondazione Archivio Antonio Ligabue di Parma e Associazione MetaMorfosi\, in collaborazione con il Comune di Parma\, l’esposizione vede anche la partecipazione di Vittorio Sgarbi e la supervisione di Augusto Agosta Tota. \nTesti e immagini di Artemagazine
URL:https://tabianoterme.it/event/banksy-building-castles-in-the-sky-mostra-a-palazzo-tarasconi-a-parma/
LOCATION:Palazzo Tarasconi\, via Farini\, 37\, Parma\, 43100
CATEGORIES:Mostra
ATTACH;FMTTYPE=image/jpeg:https://tabianoterme.it/wp-content/uploads/2021/10/IMG_1719-2362x1181-1-1920x960-1.jpeg
ORGANIZER;CN="Fondazione Archivio Antonio Ligabue":MAILTO:info@fondazionearchivioligabue.it
END:VEVENT
BEGIN:VEVENT
DTSTART;VALUE=DATE:20211001
DTEND;VALUE=DATE:20211101
DTSTAMP:20260426T022645
CREATED:20210928T105539Z
LAST-MODIFIED:20210928T105539Z
UID:9832-1633046400-1635724799@tabianoterme.it
SUMMARY:October in Castro al Castello di Contignaco
DESCRIPTION:Per il mese di ottobre 2021 il Castello di Contignaco torna a proporre vari giorni di apertura con visite guidate accompagnate dai proprietari e degustazione dei vini del Castello. \nSabato 2 e domenica 3 ottobre\nSabato 9 e domenica 10 ottobre (“Oh\, che bel Castello!”: Giornate dei Castelli Aperti dell’Emilia-Romagna)\nSabato 16 e domenica 17 ottobre (“Oh\, che bel Castello!”: Giornate dei Castelli Aperti dell’Emilia-Romagna)\nSabato 23 e domenica 24 ottobre\nSabato 30 e domenica 31 ottobre (“Halloween Castles Days” dei Castelli del Ducato) \nOrari di inizio visite: ore 11.00\, 15.30 e 17.30 \nTra natura e cultura\, gli ospiti saranno accompagnati dai proprietari in una visita guidata che li condurrà a scoprire la storia del Castello e i segreti delle sue sale interne.\nLa visita\, per chi lo desiderasse\, si potrà concludere con una degustazione dei vini prodotti nelle cantine della fortezza\, durante la quale i proprietari esporranno la storia antica dell’Azienda di famiglia. \nPer chi lo desidera\, degustazione con assaggi di tre dei vini di Contignaco: Bianco del Conte\, Rosso del Sasso e Rosso del Rio dei Predoni. \n* Latino “October\, bris”\, il mese di ottobre; “Castrum\, i”\, castello. \n________ \nInoltre… \nI fine settimana del 9-10 e del 16-17 ottobre rientreranno nell’ambito della nuova edizione 2021 di “Oh\, che bel Castello!“\, le Giornate dei Castelli Aperti della Regione Emilia-Romagna che quest’anno propongono il seguente tema: “animali fantastici\, creature prodigiose\, miti\, stemmi e meraviglie da scoprire”. Non solo il 9-10 e il 16-17 ottobre\, ma anche in tutti i fine settimana del mese gli ospiti saranno accompagnati a scoprire la pietra su cui\, secondo la leggenda\, sarebbe scolpito il volto del valoroso Conte Ignazio\, il primo mitico proprietario del Castello (dal nome del Comes Ignatius deriverebbe il toponimo Contignacus). I visitatori saranno anche guidati ad ammirare gli stemmi e i decori delle sale interne della fortezza\, tra cui quelli di un soffitto ligneo della Sala dello Specchio del primo piano: secondo un’altra leggenda\, tra queste immagini si celerebbe anche il ritratto del volto di Dante. \nIl weekend del 30-31 ottobre corrisponderà invece con i festeggiamenti di Halloween e con gli “Halloween Castles Days” promossi dai Castelli del Ducato\, per i quali il Castello di Contignaco proporrà anche altri eventi e speciali visite serali. \n________ \nPrenotazione obbligatoria. \nCosti: visita adulti € 9\,00\, bambini € 5\,00; visita con degustazione € 20\,00. \nPer prenotare: 320 6126424 – 320 6126425 – 320 6066721 – castello.contignaco@gmail.com \n________ \nLe aperture si svolgeranno nel rispetto degli attuali protocolli nazionali e regionali mirati al contrasto e al contenimento della diffusione del virus Covid-19. \nFonte testo: www.castellidelducato.it\nFonte foto: Filippo Nasi
URL:https://tabianoterme.it/event/october-in-castro-al-castello-di-contignaco/
LOCATION:Castello di Contignaco\, Via Contignaco Castello\, 125\, Salsomaggiore Terme\, 43039\, Italia
CATEGORIES:Cultura,Visita guidata
ATTACH;FMTTYPE=image/jpeg:https://tabianoterme.it/wp-content/uploads/2021/09/Castello-di-Contignaco-citare-Filippo-Nasi-2-1536x1023-1.jpg
ORGANIZER;CN="Castello di Contignaco":MAILTO:castello.contignaco@gmail.com
END:VEVENT
BEGIN:VEVENT
DTSTART;TZID=Europe/Rome:20211029T180000
DTEND;TZID=Europe/Rome:20211031T230000
DTSTAMP:20260426T022645
CREATED:20210917T092803Z
LAST-MODIFIED:20210917T100837Z
UID:9760-1635530400-1635721200@tabianoterme.it
SUMMARY:Halloween nel Castello Millenario: A lume di candela nella notte magica...
DESCRIPTION:Un tour suggestivo tra i personaggi misteriosi che animano il Castello…con l’apertura straordinaria della prigione Quattrocentesca e del passaggio segreto \nVenerdì 29\, sabato 30\, domenica 31 Ottobre 2021\n18.00\, 19.00\, 20.00\, 21.00\, 22.00 e 23.00 \nNel borgo incantato\, la magia di Halloween scende sul millenario Castello protetto dall’Aquila Imperiale. Dopo il tramonto\, con il calare della sera\, le fiamme di miriadi di candele illuminano il Castello per una visita molto speciale. Nella lunga notte buia\, quando l’incantesimo si compie\, prendono vita i personaggi misteriosi che dal lontano Medioevo popolano il Castello: cavalieri tenebrosi\, pallide dame tormentate\, tra armature\, nere mantelle e ricchi broccati. I fantasmi si svegliano\, e prendono voce le mura millenarie\, mentre suggestivi giochi di luce\, accompagnati da tenui note musicali\, daranno vita agli affreschi per tutta la notte. \nVerrà eccezionalmente aperta al pubblico la prigione quattrocentesca\, nella torre circolare del Maniero\, mentre nel Salotto del Diavolo\, la porta segreta si aprirà sull’antica via di fuga.\nI soffitti quattrocenteschi e seicenteschi si vestiranno di luce e diverse stanze si apriranno come scrigni per regalare a sorpresa un minuto di incantesimo. Durante la visita sarà anche possibile ripercorrere la storia del Castello più antico della Provincia\, costruito nel lontano anno mille da Adalberto Pallavicino\, tra i più illuminati condottieri del suo Secolo\, di cui ne cantano le lodi Torquato Tasso nella Gerusalemme Liberata e Ludovico Ariosto nell’Orlando Furioso. \nVerrà inoltre aperto l’intero loggiato Seicentesco con le sue finestre che si aprono come quinte sceniche sul paesaggio collinare in fuga prospettica e sul borgo. Il magico tour si concluderà nel grande giardino da dove sarà possibile ammirare la facciata del Castello e delle scuderie\, l’antica postazione delle guardie\, i merli e le mura di cinta illuminati. Non mancheranno le zucche intagliate che aspetteranno grandi e piccoli per uno scatto fotografico da condividere… \nPer la lunga e suggestiva notte dei misteri\, il costume a tema è gradito ma non obbligatorio… \nPer chi volesse passare l’intera serata sulle magiche colline sarà possibile\, per l’occasione\, degustare nei ristoranti e agriturismi vicini i menu del territorio anche a prezzo fisso. Nel borgo il ristorante Osteria del Castello propone raffinati menu del territorio e non solo. Inoltre\, per chi desiderasse il brivido di un fine settimana nella trecentesca torre a pianta quadrata del Castello\, una Suite di Charme su due piani\, con feritoie millenarie e una vista magnifica sulle colline\, è disponibile. \nREGOLE SICUREZZA CORONAVIRUS ADOTTATE PER EVENTO – MANIFESTAZIONE:  visita nel rispetto delle normative ministeriali con gruppi contingentati. \nLa manifestazione si svolge anche in caso di mal tempo. \nCosto della manifestazione: \nAdulti: 18 euro \nBambini da 5 anni a 16 anni: 10 euro \nGratuito: bambini fino a 4 anni inclusi \nNumeri telefonici\, mail e sito internet per informazioni:\nCastello di Scipione dei Marchesi Pallavicino – Tel: 0524 572381  – info@castellodiscipione.it – www.castellodiscipione.it \nParcheggi Vicini: lungo  la strada prima dell’ingresso nel borgo \nCome arrivare: Come arrivare:  \n A) Provenendo da Nord (in auto)\nSiamo a circa 120 km da Milano.\nMilano-Bologna. Prendere l’uscita Fiorenzuola. Passare Fiorenzuola in direzione Parma e al primo incrocio dopo Alseno svoltare a destra verso Vernasca proseguire in direzione di Salsomaggiore.\nProseguendo in direzione di Salsomaggiore\, dopo Scipione Ponte voltare a sinistra per Scipione Castello. \nB) Provenendo da sud (in auto)\nBologna-Milano. Prendere l’uscita Fidenza.\nProseguire in direzione di Salsomaggiore.\nPassare Salsomaggiore verso Piacenza e girare a destra in località Scipione Castello \n  \nFonte testo e immagine: http://www.castellidelducato.it \n 
URL:https://tabianoterme.it/event/halloween-nel-castello-millenario-a-lume-di-candela-nella-notte-magica/
LOCATION:Castello di Scipione\, Via Scipione Castello\, 61\, Salsomaggiore Terme\, Parma\, 43039\, Italia
CATEGORIES:Intrattenimento,Mostra,Storia
ATTACH;FMTTYPE=image/jpeg:https://tabianoterme.it/wp-content/uploads/2021/09/unnamed-e1631870751538.jpg
ORGANIZER;CN="Castello di Scipione":MAILTO:info@castellodiscipione.it
END:VEVENT
BEGIN:VEVENT
DTSTART;VALUE=DATE:20211030
DTEND;VALUE=DATE:20211101
DTSTAMP:20260426T022645
CREATED:20210917T094738Z
LAST-MODIFIED:20210917T100803Z
UID:9767-1635552000-1635724799@tabianoterme.it
SUMMARY:Attenti al Lupo - Sweet Halloween 2021
DESCRIPTION:Visita guidata alla Rocca Viscontea con animazione \nDa sabato 30 ottobre a domenica 31 ottobre \n\n\n\n\nPerché il lupo è sempre cattivo? Perché ha sempre una gran fame che lo spinge a mangiare porcellini e bambine incappucciate? E comunque\, quale delle due pietanze gradisce di più? \nPotrete fare queste e tutte le altre domande che vi passano per la testa al Lupo del Castello\, il guardiano della Rocca Viscontea\, che vi spiegherà anche le sue tattiche infallibili per tenere lontani i nemici. La salita alla Rocca mette un po’ fame\, quindi per tenere buono il lupo e voi bambini\, vi consegneremo un sacchetto con la merenda. \nPunto di incontro: Ufficio Turistico di Castell’Arquato (IAT Piazza Municipio) \nDurata: 1 ora circa. \nNote:Adatto per bimbi dai 3 ai 6 anni \nGradito abbigliamento a tema Halloween \nCosti: € 10\, 00 per i bimbi\, € 5\,00 per gli adulti accompagnatori (minimo uno per ogni nucleo familiare) \nPRENOTAZIONE OBBLIGATORIA entro le 12.00 di venerdì 29 ottobre. \nGli adulti accompagnatori dovranno essere muniti di Green Pass e indossare la mascherina. \nGli organizzatori si riservano di annullare l’evento in caso di maltempo. \nIn caso di maltempo\, i partecipanti verranno anticipatamente avvisati. \n  \nNumeri telefonici\, mail e sito internet per informazioni: \n0523 803215 \niatcastellarquato@gmail.com \nwww.castellarquatoturismo.it \nParcheggi Vicini: 3- 4 via Pontenuovo \nWi Fi presente sulla piazza (Emilia Romagna Wifi) \n\n\n\n  \nFonte testo e immagine: http://www.castellidelducato.it
URL:https://tabianoterme.it/event/attenti-al-lupo-sweet-halloween-2021/
LOCATION:Rocca Viscontea di Castell’Arquato\, Piazza del municipio\, Castell'Arquato\, Comune di Castell'Arquato\, 29014\, Italia
CATEGORIES:Bambini e famiglie,Intrattenimento
ATTACH;FMTTYPE=image/jpeg:https://tabianoterme.it/wp-content/uploads/2021/09/castarq9.jpg
ORGANIZER;CN="Castell'Arquato":MAILTO:iatcastellarquato@gmail.com
END:VEVENT
BEGIN:VEVENT
DTSTART;TZID=Europe/Rome:20211030T210000
DTEND;TZID=Europe/Rome:20211030T210000
DTSTAMP:20260426T022645
CREATED:20211019T081430Z
LAST-MODIFIED:20211019T081430Z
UID:9885-1635627600-1635627600@tabianoterme.it
SUMMARY:Oltre la Tempesta - Paolo Crepet al Teatro Nuovo di Salsomaggiore
DESCRIPTION:PAOLO CREPET – Oltre la tempesta 30 Ottobre 2021 ore 21.00 \nOltre la tempesta sarà uno spettacolo ricco di riflessioni psicologiche e sociologiche: l’autore mediterà sulle conseguenze psicologiche che la pandemia porterà con sé\, analizzando il modo in cui il periodo che stiamo vivendo influenzerà il nostro futuro e l’impatto che avrà sulla nostra sfera individuale e sociale\, soffermandosi in particolare sulla situazione psicologica delle famiglie. \n«Credo che tutti dovremo occuparci di che cosa accadrà dopo la pandemia\, dopo la tempesta – dichiara l’autore – In questo spettacolo teatrale parleremo anche degli effetti della didattica a distanza\, dello smart working e del futuro delle nostre famiglie». \nIAT Salsomaggiore Terme 0524/580211\nIAT R Fidenza Village 0524/335556\nteatronuovosalsomaggiore.com \nIn ottemperanza alla normativa vigente per la prevenzione dell’emergenza epidemiologica da Covid-19\, per accedere a tutti gli spettacoli sarà necessario esibire il Green Pass (fatta eccezione per i minori di 12 anni). \nAll’ingresso il personale di sala incaricato chiederà di mostrare il QR code digitale o cartaceo apposto sul Green Pass stesso. \nRimane inoltre obbligatorio indossare la mascherina.
URL:https://tabianoterme.it/event/oltre-la-tempesta-paolo-crepet-al-teatro-nuovo-di-salsomaggiore/
LOCATION:Teatro Nuovo di Salsomaggiore Terme\, Viale Giandomenico Romagnosi\, 24\, Salsomaggiore Terme\, 43039
CATEGORIES:Teatro
ATTACH;FMTTYPE=image/jpeg:https://tabianoterme.it/wp-content/uploads/2021/10/crepet.jpeg
END:VEVENT
END:VCALENDAR